Workbook

Sheet Kategóriák
B1: SÍFUTÓ DIÁKOLIMPIA - 2020.02.12. - Mátraszentistván
B2: Egyéni futam / Individual Race
B3: K A T E G Ó R I Á K
B5: Ssz. | C5: Kategória | D5: Szül.év | E5: Kategória teljes neve | F5: Táv | H5: Lövészet | M5: Stílus | N5: Nevezők száma | Q5: Teljes lista
B6: 1 | C6: I. kcs. Leány | D6: 2011- | E6: =CONCATENATE(C6," (",D6,") - ",F6," ",G6," ",M6) -> I. kcs. Leány (2011-) - 0,5 km klasszikus | F6: 0.5 | G6: km | M6: klasszikus | N6: =SUMIF(Rajtlista!D:D,Kategóriák!C6,Rajtlista!J:J) -> 0 | Q6: Gyermek II. Fiúk
B7: 2 | C7: I. kcs. Fiú | D7: 2011- | E7: =CONCATENATE(C7," (",D7,") - ",F7," ",G7," ",M7) -> I. kcs. Fiú (2011-) - 0,5 km klasszikus | F7: 0.5 | G7: =$G$6 -> km | M7: klasszikus | N7: =SUMIF(Rajtlista!D:D,Kategóriák!C7,Rajtlista!J:J) -> 0 | Q7: Gyermek II. Lányok
B8: 3 | C8: II. kcs. Leány | D8: 2009-2010 | E8: =CONCATENATE(C8," (",D8,") - ",F8," ",G8," ",M8) -> II. kcs. Leány (2009-2010) - 1 km klasszikus | F8: 1 | G8: =$G$6 -> km | M8: klasszikus | N8: =SUMIF(Rajtlista!D:D,Kategóriák!C8,Rajtlista!J:J) -> 0 | Q8: Gyermek I. Fiúk
B9: 4 | C9: II. kcs. Fiú | D9: 2009-2010 | E9: =CONCATENATE(C9," (",D9,") - ",F9," ",G9," ",M9) -> II. kcs. Fiú (2009-2010) - 1 km klasszikus | F9: 1 | G9: =$G$6 -> km | M9: klasszikus | N9: =SUMIF(Rajtlista!D:D,Kategóriák!C9,Rajtlista!J:J) -> 0 | Q9: Gyermek I. Lányok
B10: 5 | C10: III. kcs. Leány | D10: 2007-2008 | E10: =CONCATENATE(C10," (",D10,") - ",F10," ",G10," ",M10) -> III. kcs. Leány (2007-2008) - 1,5 km klasszikus | F10: 1.5 | G10: =$G$6 -> km | M10: klasszikus | N10: =SUMIF(Rajtlista!D:D,Kategóriák!C10,Rajtlista!J:J) -> 0 | Q10: Serdülő II. Fiúk
B11: 6 | C11: III. kcs. Fiú | D11: 2007-2008 | E11: =CONCATENATE(C11," (",D11,") - ",F11," ",G11," ",M11) -> III. kcs. Fiú (2007-2008) - 1,5 km klasszikus | F11: 1.5 | G11: =$G$6 -> km | M11: klasszikus | N11: =SUMIF(Rajtlista!D:D,Kategóriák!C11,Rajtlista!J:J) -> 0 | Q11: Serdülő II. Lányok
B12: 7 | C12: IV. kcs. Leány | D12: 2005-2006 | E12: =CONCATENATE(C12," (",D12,") - ",F12," ",G12," ",M12) -> IV. kcs. Leány (2005-2006) - 1 km szabadstílus | F12: 1 | G12: =$G$6 -> km | M12: szabadstílus | N12: =SUMIF(Rajtlista!D:D,Kategóriák!C12,Rajtlista!J:J) -> 0 | Q12: Serdülő I. Fiúk
B13: 8 | C13: IV. kcs. Fiú | D13: 2005-2006 | E13: =CONCATENATE(C13," (",D13,") - ",F13," ",G13," ",M13) -> IV. kcs. Fiú (2005-2006) - 1 km szabadstílus | F13: 1 | G13: =$G$6 -> km | M13: szabadstílus | N13: =SUMIF(Rajtlista!D:D,Kategóriák!C13,Rajtlista!J:J) -> 0 | Q13: Serdülő I. Lányok
B14: 9 | C14: V. kcs. Leány | D14: 2003-2004 | E14: =CONCATENATE(C14," (",D14,") - ",F14," ",G14," ",M14) -> V. kcs. Leány (2003-2004) - 2 km szabadstílus | F14: 2 | G14: km | M14: szabadstílus | N14: =SUMIF(Rajtlista!D:D,Kategóriák!C14,Rajtlista!J:J) -> 0 | Q14: Ifjúsági II. Fiúk
B15: 10 | C15: V. kcs. Fiú | D15: 2003-2004 | E15: =CONCATENATE(C15," (",D15,") - ",F15," ",G15," ",M15) -> V. kcs. Fiú (2003-2004) - 2 km szabadstílus | F15: 2 | G15: km | M15: szabadstílus | N15: =SUMIF(Rajtlista!D:D,Kategóriák!C15,Rajtlista!J:J) -> 0 | Q15: Ifjúsági II. Lányok
B16: 11 | C16: VI. kcs. Leány | D16: -2002 | E16: =CONCATENATE(C16," (",D16,") - ",F16," ",G16," ",M16) -> VI. kcs. Leány (-2002) - 3 km szabadstílus | F16: 3 | G16: km | M16: szabadstílus | N16: =SUMIF(Rajtlista!D:D,Kategóriák!C16,Rajtlista!J:J) -> 0 | Q16: Ifjúsági I. Fiúk
B17: 12 | C17: VI. kcs. Fiú | D17: -2002 | E17: =CONCATENATE(C17," (",D17,") - ",F17," ",G17," ",M17) -> VI. kcs. Fiú (-2002) - 3 km szabadstílus | F17: 3 | G17: km | M17: szabadstílus | N17: =SUMIF(Rajtlista!D:D,Kategóriák!C17,Rajtlista!J:J) -> 0 | Q17: Ifjúsági I. Lányok
B18: 13 | N18: =SUMIF(Rajtlista!D:D,Kategóriák!C18,Rajtlista!J:J) -> 0 | Q18: Junior Fiúk
B19: 14 | N19: =SUMIF(Rajtlista!D:D,Kategóriák!C19,Rajtlista!J:J) -> 0 | Q19: Junior Lányok
B20: 15 | N20: =SUMIF(Rajtlista!D:D,Kategóriák!C20,Rajtlista!J:J) -> 0 | Q20: Felnőtt Férfi
B21: 16 | N21: =SUMIF(Rajtlista!D:D,Kategóriák!C21,Rajtlista!J:J) -> 0 | Q21: Felnőtt Női
B22: 17 | N22: =SUMIF(Rajtlista!D:D,Kategóriák!C22,Rajtlista!J:J) -> 0 | Q22: Masters I. Férfi
B23: 18 | N23: =SUMIF(Rajtlista!D:D,Kategóriák!C23,Rajtlista!J:J) -> 0 | Q23: Masters I. Női
B24: 19 | N24: =SUMIF(Rajtlista!D:D,Kategóriák!C24,Rajtlista!J:J) -> 0 | Q24: Masters II. Férfi
C25: Összesen | N25: =SUM(N6:N24) -> 0 | Q25: Masters II. Női
Q26: Felnőtt Férfi - görkorcsolya
C27: Verseny: IBU szabályoknak megfelelőn kell a versenyzőnek egyénileg teljesíteni. | Q27: Felnőtt Női - görkorcsolya
C28: * segítséggel és kitámasztással
C29: ** kitámasztással | Q29: M 13-14 fiú (2004-2005)
Q30: W 13-14 leány (2004-2005)
C31: Eredmény: Az utolsó célba érkező után 15 percen belül kifüggesztésre kerül. | Q31: M 12-13 fiú (2006-2007)
C33: Óvás: 2.000 Ft óvási díj – írásban – a tájékoztató eredmény kifüggesztése után 15 percen belül) amely esetén az Óvási bizottság jár el az IBU-szabályok értelmében. Kedvező elbírálás esetén az óvási díj visszafizetésre kerül. | Q33: I. kcs. Leány
Q34: I. kcs. Fiú
Q35: II. kcs. Leány
Q36: II. kcs. Fiú
Q37: III. kcs. Leány
Q38: III. kcs. Fiú
Q39: IV. kcs. Leány
Q40: IV. kcs. Fiú
Q41: V. kcs. Leány
Q42: V. kcs. Fiú
...

Sheet Versenyprogram
B1: =+Kategóriák!B1 -> SÍFUTÓ DIÁKOLIMPIA - 2020.02.12. - Mátraszentistván
B2: =+Kategóriák!B2 -> Egyéni futam / Individual Race
B3: VERSENYPROGRAM
C5: Galyatető – Biatlon: | H5: https://goo.gl/maps/24n25QXUYJK2
C7: 0.33333333 | D7: - | E7: 0.39583333 | H7: Rajtszámok kiosztása minden kategória számára.
H8: Minden rajt előtt fegyverjelölés a megfelelő kategóriának.
H9: Egyénenkénti indítás, 30 másodpercenként | L9: IDŐINTERVALLUM | N9: VERSENYZŐK EGYESÜLETENKÉNT
C10: =+E7 -> 0.39583333 | D10: - | E10: =+C10+1/24/60*25 -> 0.41319444 | G10: belövés | H10: M 13-14 fiú (2004-2005) | L10: =E10-C10 -> 0.017361111 | N10: Csíkszereda | O10: Honvéd Zalka SE | P10: Miskolci Honvéd SE | Q10: Nordsport 2011 SE | R10: Panoráma SE | S10: Predajna | T10: Vasas SC | U10: Összesen
G11: belövés | H11: W 13-14 leány (2004-2005)
C12: =+E10+1/24/60*5 -> 0.41666667 | D12: - | E12: =+C12+1/24/60*35 -> 0.44097222 | G12: rajt | H12: M 13-14 fiú (2004-2005) | I12: =VLOOKUP(H12,Kategóriák!$C$5:$N$25,4,FALSE) -> #N/A | J12: =U12 -> 0 | L12: =E12-C12 -> 0.024305556 | N12: =IFERROR(VLOOKUP($H12,'Nevezési lista'!$O$7:$Y$29,MATCH(Versenyprogram!N$10,'Nevezési lista'!$O$7:$Y$7,0),FALSE),"") | O12: =IFERROR(VLOOKUP($H12,'Nevezési lista'!$O$7:$Y$29,MATCH(Versenyprogram!O$10,'Nevezési lista'!$O$7:$Y$7,0),FALSE),"") | P12: =IFERROR(VLOOKUP($H12,'Nevezési lista'!$O$7:$Y$29,MATCH(Versenyprogram!P$10,'Nevezési lista'!$O$7:$Y$7,0),FALSE),"") | Q12: =IFERROR(VLOOKUP($H12,'Nevezési lista'!$O$7:$Y$29,MATCH(Versenyprogram!Q$10,'Nevezési lista'!$O$7:$Y$7,0),FALSE),"") | R12: =IFERROR(VLOOKUP($H12,'Nevezési lista'!$O$7:$Y$29,MATCH(Versenyprogram!R$10,'Nevezési lista'!$O$7:$Y$7,0),FALSE),"") | S12: =IFERROR(VLOOKUP($H12,'Nevezési lista'!$O$7:$Y$29,MATCH(Versenyprogram!S$10,'Nevezési lista'!$O$7:$Y$7,0),FALSE),"") | T12: =IFERROR(VLOOKUP($H12,'Nevezési lista'!$O$7:$Y$29,MATCH(Versenyprogram!T$10,'Nevezési lista'!$O$7:$Y$7,0),FALSE),"") | U12: =SUM(N12:T12) -> 0
G13: rajt | H13: W 13-14 leány (2004-2005) | I13: =VLOOKUP(H13,Kategóriák!$C$5:$N$25,4,FALSE) -> #N/A | J13: =U13 -> 0 | N13: =IFERROR(VLOOKUP($H13,'Nevezési lista'!$O$7:$Y$29,MATCH(Versenyprogram!N$10,'Nevezési lista'!$O$7:$Y$7,0),FALSE),"") | O13: =IFERROR(VLOOKUP($H13,'Nevezési lista'!$O$7:$Y$29,MATCH(Versenyprogram!O$10,'Nevezési lista'!$O$7:$Y$7,0),FALSE),"") | P13: =IFERROR(VLOOKUP($H13,'Nevezési lista'!$O$7:$Y$29,MATCH(Versenyprogram!P$10,'Nevezési lista'!$O$7:$Y$7,0),FALSE),"") | Q13: =IFERROR(VLOOKUP($H13,'Nevezési lista'!$O$7:$Y$29,MATCH(Versenyprogram!Q$10,'Nevezési lista'!$O$7:$Y$7,0),FALSE),"") | R13: =IFERROR(VLOOKUP($H13,'Nevezési lista'!$O$7:$Y$29,MATCH(Versenyprogram!R$10,'Nevezési lista'!$O$7:$Y$7,0),FALSE),"") | S13: =IFERROR(VLOOKUP($H13,'Nevezési lista'!$O$7:$Y$29,MATCH(Versenyprogram!S$10,'Nevezési lista'!$O$7:$Y$7,0),FALSE),"") | T13: =IFERROR(VLOOKUP($H13,'Nevezési lista'!$O$7:$Y$29,MATCH(Versenyprogram!T$10,'Nevezési lista'!$O$7:$Y$7,0),FALSE),"") | U13: =SUM(N13:T13) -> 0
C14: =+E12 -> 0.44097222 | D14: - | E14: =+C14+1/24/60*25 -> 0.45833333 | G14: belövés | H14: M 12-13 fiú (2006-2007) | L14: =E14-C14 -> 0.017361111
C15: =+E14+1/24/60*5 -> 0.46180556 | D15: - | E15: =+C15+1/24/60*30 -> 0.48263889 | G15: rajt | H15: M 12-13 fiú (2006-2007) | I15: =VLOOKUP(H15,Kategóriák!$C$5:$N$25,4,FALSE) -> #N/A | J15: =U15 -> 0 | L15: =E15-C15 -> 0.020833333 | N15: =IFERROR(VLOOKUP($H15,'Nevezési lista'!$O$7:$Y$29,MATCH(Versenyprogram!N$10,'Nevezési lista'!$O$7:$Y$7,0),FALSE),"") | O15: =IFERROR(VLOOKUP($H15,'Nevezési lista'!$O$7:$Y$29,MATCH(Versenyprogram!O$10,'Nevezési lista'!$O$7:$Y$7,0),FALSE),"") | P15: =IFERROR(VLOOKUP($H15,'Nevezési lista'!$O$7:$Y$29,MATCH(Versenyprogram!P$10,'Nevezési lista'!$O$7:$Y$7,0),FALSE),"") | Q15: =IFERROR(VLOOKUP($H15,'Nevezési lista'!$O$7:$Y$29,MATCH(Versenyprogram!Q$10,'Nevezési lista'!$O$7:$Y$7,0),FALSE),"") | R15: =IFERROR(VLOOKUP($H15,'Nevezési lista'!$O$7:$Y$29,MATCH(Versenyprogram!R$10,'Nevezési lista'!$O$7:$Y$7,0),FALSE),"") | S15: =IFERROR(VLOOKUP($H15,'Nevezési lista'!$O$7:$Y$29,MATCH(Versenyprogram!S$10,'Nevezési lista'!$O$7:$Y$7,0),FALSE),"") | T15: =IFERROR(VLOOKUP($H15,'Nevezési lista'!$O$7:$Y$29,MATCH(Versenyprogram!T$10,'Nevezési lista'!$O$7:$Y$7,0),FALSE),"") | U15: =SUM(N15:T15) -> 0
C16: =+E15 -> 0.48263889 | D16: - | E16: =+C16+1/24/60*20 -> 0.49652778 | G16: belövés | H16: W 12-13 leány (2006-2007) | L16: =E16-C16 -> 0.013888889
C17: =+E16+1/24/60*5 -> 0.5 | D17: - | E17: =+C17+1/24/60*30 -> 0.52083333 | G17: rajt | H17: W 12-13 leány (2006-2007) | I17: =VLOOKUP(H17,Kategóriák!$C$5:$N$25,4,FALSE) -> #N/A | J17: =U17 -> 0 | L17: =E17-C17 -> 0.020833333 | N17: =IFERROR(VLOOKUP($H17,'Nevezési lista'!$O$7:$Y$29,MATCH(Versenyprogram!N$10,'Nevezési lista'!$O$7:$Y$7,0),FALSE),"") | O17: =IFERROR(VLOOKUP($H17,'Nevezési lista'!$O$7:$Y$29,MATCH(Versenyprogram!O$10,'Nevezési lista'!$O$7:$Y$7,0),FALSE),"") | P17: =IFERROR(VLOOKUP($H17,'Nevezési lista'!$O$7:$Y$29,MATCH(Versenyprogram!P$10,'Nevezési lista'!$O$7:$Y$7,0),FALSE),"") | Q17: =IFERROR(VLOOKUP($H17,'Nevezési lista'!$O$7:$Y$29,MATCH(Versenyprogram!Q$10,'Nevezési lista'!$O$7:$Y$7,0),FALSE),"") | R17: =IFERROR(VLOOKUP($H17,'Nevezési lista'!$O$7:$Y$29,MATCH(Versenyprogram!R$10,'Nevezési lista'!$O$7:$Y$7,0),FALSE),"") | S17: =IFERROR(VLOOKUP($H17,'Nevezési lista'!$O$7:$Y$29,MATCH(Versenyprogram!S$10,'Nevezési lista'!$O$7:$Y$7,0),FALSE),"") | T17: =IFERROR(VLOOKUP($H17,'Nevezési lista'!$O$7:$Y$29,MATCH(Versenyprogram!T$10,'Nevezési lista'!$O$7:$Y$7,0),FALSE),"") | U17: =SUM(N17:T17) -> 0
C18: =+E17 -> 0.52083333 | D18: - | E18: =+C18+1/24/60*20 -> 0.53472222 | G18: belövés | H18: M 10-11 fiú (2008-2009) | L18: =E18-C18 -> 0.013888889
C19: =+E18+1/24/60*5 -> 0.53819444 | D19: - | E19: =+C19+1/24/60*15 -> 0.54861111 | G19: rajt | H19: M 10-11 fiú (2008-2009) | I19: =VLOOKUP(H19,Kategóriák!$C$5:$N$25,4,FALSE) -> #N/A | J19: =U19 -> 0 | L19: =E19-C19 -> 0.010416667 | N19: =IFERROR(VLOOKUP($H19,'Nevezési lista'!$O$7:$Y$29,MATCH(Versenyprogram!N$10,'Nevezési lista'!$O$7:$Y$7,0),FALSE),"") | O19: =IFERROR(VLOOKUP($H19,'Nevezési lista'!$O$7:$Y$29,MATCH(Versenyprogram!O$10,'Nevezési lista'!$O$7:$Y$7,0),FALSE),"") | P19: =IFERROR(VLOOKUP($H19,'Nevezési lista'!$O$7:$Y$29,MATCH(Versenyprogram!P$10,'Nevezési lista'!$O$7:$Y$7,0),FALSE),"") | Q19: =IFERROR(VLOOKUP($H19,'Nevezési lista'!$O$7:$Y$29,MATCH(Versenyprogram!Q$10,'Nevezési lista'!$O$7:$Y$7,0),FALSE),"") | R19: =IFERROR(VLOOKUP($H19,'Nevezési lista'!$O$7:$Y$29,MATCH(Versenyprogram!R$10,'Nevezési lista'!$O$7:$Y$7,0),FALSE),"") | S19: =IFERROR(VLOOKUP($H19,'Nevezési lista'!$O$7:$Y$29,MATCH(Versenyprogram!S$10,'Nevezési lista'!$O$7:$Y$7,0),FALSE),"") | T19: =IFERROR(VLOOKUP($H19,'Nevezési lista'!$O$7:$Y$29,MATCH(Versenyprogram!T$10,'Nevezési lista'!$O$7:$Y$7,0),FALSE),"") | U19: =SUM(N19:T19) -> 0
C20: =+E19 -> 0.54861111 | D20: - | E20: =+C20+1/24/60*20 -> 0.5625 | G20: belövés | H20: W 10-11 leány (2008-2009) | L20: =E20-C20 -> 0.013888889
C21: =+E20+1/24/60*5 -> 0.56597222 | D21: - | E21: =+C21+1/24/60*15 -> 0.57638889 | G21: rajt | H21: W 10-11 leány (2008-2009) | I21: =VLOOKUP(H21,Kategóriák!$C$5:$N$25,4,FALSE) -> #N/A | J21: =U21 -> 0 | L21: =E21-C21 -> 0.010416667 | N21: =IFERROR(VLOOKUP($H21,'Nevezési lista'!$O$7:$Y$29,MATCH(Versenyprogram!N$10,'Nevezési lista'!$O$7:$Y$7,0),FALSE),"") | O21: =IFERROR(VLOOKUP($H21,'Nevezési lista'!$O$7:$Y$29,MATCH(Versenyprogram!O$10,'Nevezési lista'!$O$7:$Y$7,0),FALSE),"") | P21: =IFERROR(VLOOKUP($H21,'Nevezési lista'!$O$7:$Y$29,MATCH(Versenyprogram!P$10,'Nevezési lista'!$O$7:$Y$7,0),FALSE),"") | Q21: =IFERROR(VLOOKUP($H21,'Nevezési lista'!$O$7:$Y$29,MATCH(Versenyprogram!Q$10,'Nevezési lista'!$O$7:$Y$7,0),FALSE),"") | R21: =IFERROR(VLOOKUP($H21,'Nevezési lista'!$O$7:$Y$29,MATCH(Versenyprogram!R$10,'Nevezési lista'!$O$7:$Y$7,0),FALSE),"") | S21: =IFERROR(VLOOKUP($H21,'Nevezési lista'!$O$7:$Y$29,MATCH(Versenyprogram!S$10,'Nevezési lista'!$O$7:$Y$7,0),FALSE),"") | T21: =IFERROR(VLOOKUP($H21,'Nevezési lista'!$O$7:$Y$29,MATCH(Versenyprogram!T$10,'Nevezési lista'!$O$7:$Y$7,0),FALSE),"") | U21: =SUM(N21:T21) -> 0
C22: =+E21 -> 0.57638889 | D22: - | E22: =+C22+1/24/60*20 -> 0.59027778 | G22: belövés | H22: M 9 fiú (2010- ) | L22: =E22-C22 -> 0.013888889
C23: =+E22+1/24/60*5 -> 0.59375 | D23: - | E23: =+C23+1/24/60*15 -> 0.60416667 | G23: rajt | H23: M 9 fiú (2010- ) | I23: =VLOOKUP(H23,Kategóriák!$C$5:$N$25,4,FALSE) -> #N/A | J23: =U23 -> 0 | L23: =E23-C23 -> 0.010416667 | N23: =IFERROR(VLOOKUP($H23,'Nevezési lista'!$O$7:$Y$29,MATCH(Versenyprogram!N$10,'Nevezési lista'!$O$7:$Y$7,0),FALSE),"") | O23: =IFERROR(VLOOKUP($H23,'Nevezési lista'!$O$7:$Y$29,MATCH(Versenyprogram!O$10,'Nevezési lista'!$O$7:$Y$7,0),FALSE),"") | P23: =IFERROR(VLOOKUP($H23,'Nevezési lista'!$O$7:$Y$29,MATCH(Versenyprogram!P$10,'Nevezési lista'!$O$7:$Y$7,0),FALSE),"") | Q23: =IFERROR(VLOOKUP($H23,'Nevezési lista'!$O$7:$Y$29,MATCH(Versenyprogram!Q$10,'Nevezési lista'!$O$7:$Y$7,0),FALSE),"") | R23: =IFERROR(VLOOKUP($H23,'Nevezési lista'!$O$7:$Y$29,MATCH(Versenyprogram!R$10,'Nevezési lista'!$O$7:$Y$7,0),FALSE),"") | S23: =IFERROR(VLOOKUP($H23,'Nevezési lista'!$O$7:$Y$29,MATCH(Versenyprogram!S$10,'Nevezési lista'!$O$7:$Y$7,0),FALSE),"") | T23: =IFERROR(VLOOKUP($H23,'Nevezési lista'!$O$7:$Y$29,MATCH(Versenyprogram!T$10,'Nevezési lista'!$O$7:$Y$7,0),FALSE),"") | U23: =SUM(N23:T23) -> 0
C24: =+E23 -> 0.60416667 | D24: - | E24: =+C24+1/24/60*20 -> 0.61805556 | G24: belövés | H24: W 9 leány (2010- ) | L24: =E24-C24 -> 0.013888889
C25: =+E24+1/24/60*0 -> 0.61805556 | D25: - | E25: =+C25+1/24/60*15 -> 0.62847222 | G25: rajt | H25: W 9 leány (2010- ) | I25: =VLOOKUP(H25,Kategóriák!$C$5:$N$25,4,FALSE) -> #N/A | J25: =U25 -> 0 | L25: =E25-C25 -> 0.010416667 | N25: =IFERROR(VLOOKUP($H25,'Nevezési lista'!$O$7:$Y$29,MATCH(Versenyprogram!N$10,'Nevezési lista'!$O$7:$Y$7,0),FALSE),"") | O25: =IFERROR(VLOOKUP($H25,'Nevezési lista'!$O$7:$Y$29,MATCH(Versenyprogram!O$10,'Nevezési lista'!$O$7:$Y$7,0),FALSE),"") | P25: =IFERROR(VLOOKUP($H25,'Nevezési lista'!$O$7:$Y$29,MATCH(Versenyprogram!P$10,'Nevezési lista'!$O$7:$Y$7,0),FALSE),"") | Q25: =IFERROR(VLOOKUP($H25,'Nevezési lista'!$O$7:$Y$29,MATCH(Versenyprogram!Q$10,'Nevezési lista'!$O$7:$Y$7,0),FALSE),"") | R25: =IFERROR(VLOOKUP($H25,'Nevezési lista'!$O$7:$Y$29,MATCH(Versenyprogram!R$10,'Nevezési lista'!$O$7:$Y$7,0),FALSE),"") | S25: =IFERROR(VLOOKUP($H25,'Nevezési lista'!$O$7:$Y$29,MATCH(Versenyprogram!S$10,'Nevezési lista'!$O$7:$Y$7,0),FALSE),"") | T25: =IFERROR(VLOOKUP($H25,'Nevezési lista'!$O$7:$Y$29,MATCH(Versenyprogram!T$10,'Nevezési lista'!$O$7:$Y$7,0),FALSE),"") | U25: =SUM(N25:T25) -> 0
N26: =SUM(N12:N25) -> 0 | O26: =SUM(O12:O25) -> 0 | P26: =SUM(P12:P25) -> 0 | Q26: =SUM(Q12:Q25) -> 0 | R26: =SUM(R12:R25) -> 0 | S26: =SUM(S12:S25) -> 0 | T26: =SUM(T12:T25) -> 0 | U26: =SUM(U12:U25) -> 0
C27: =MAX(C7:E25)+1/24/60*15 -> 0.63888889 | D27: - | E27: =+C27+1/24/2 -> 0.65972222 | G27: eredményhirdetés
C29: 0.625 | D29: - | E29: =+C29+1/24*3 -> 0.75 | G29: Családi- és sportnap biatlon, lövészet
C30: =+C29 -> 0.625 | D30: - | E30: =+C30+1/24*3 -> 0.75 | G30: Családi- és sportnap ügyességi síroller

Sheet Nevezési lista
B1: =+Kategóriák!B1 -> SÍFUTÓ DIÁKOLIMPIA - 2020.02.12. - Mátraszentistván
B2: =+Kategóriák!B2 -> Egyéni futam / Individual Race
B3: N E V E Z É S I L I S T A
B4: Ssz. | C4: Rsz | D4: Név | E4: Kategória | F4: Szül. | G4: Megye | H4: Iskola | I4: Kcs. | J4: Nem | K4: Kategória | L4: fő | O4: Név | P4: (mind)
B5: 1 | C5: 1 | D5: Nagy Sarolta | E5: =+K5 -> I. kcs. Leány | F5: 40881 | G5: Pest | H5: József Nádor Általános Iskola és Alapfokú Művészeti Iskola (ÖKO Iskola) | I5: I. | J5: leány | K5: I. kcs. Leány | L5: =IF(B5>0,1,0) -> 1
B6: 2 | C6: 2 | D6: Birner Léna Petra | E6: =+K6 -> I. kcs. Leány | F6: 40808 | G6: Heves | H6: Gyöngyösi Arany János Általános Iskola | I6: I. | J6: leány | K6: I. kcs. Leány | L6: =IF(B6>0,1,0) -> 1 | O6: Mennyiség / Rsz. | P6: Oszlopcímkék
B7: 3 | C7: 3 | D7: Gergely Lujza Piroska | E7: =+K7 -> I. kcs. Leány | F7: 41163 | G7: Budapest | H7: Budenz József Általános Iskola és Gimnázium | I7: I. | J7: leány | K7: I. kcs. Leány | L7: =IF(B7>0,1,0) -> 1 | O7: Sorcímkék | P7: Bács-Kiskun | Q7: Baranya | R7: Borsod-A-Z | S7: Budapest | T7: Győr-M-S | U7: Heves | V7: Komárom-E | W7: Nógrád | X7: Pest | Y7: Tolna | Z7: Veszprém | AA7: Végösszeg
B8: 4 | C8: 4 | D8: Sári Laura | E8: =+K8 -> I. kcs. Leány | F8: 41383 | G8: Győr-M-S | H8: Prohászka Ottokár Orsolyita Gimnázium, Általános Iskola és Óvoda | I8: I. | J8: leány | K8: I. kcs. Leány | L8: =IF(B8>0,1,0) -> 1 | O8: I. kcs. Leány | S8: 3 | T8: 1 | U8: 1 | X8: 2 | AA8: 7
B9: 5 | C9: 5 | D9: Maus Virág | E9: =+K9 -> I. kcs. Leány | F9: 40976 | G9: Budapest | H9: Budenz József Általános Iskola és Gimnázium | I9: I. | J9: leány | K9: I. kcs. Leány | L9: =IF(B9>0,1,0) -> 1 | O9: I. kcs. Fiú | S9: 1 | T9: 1 | U9: 1 | X9: 1 | AA9: 4
B10: 6 | C10: 6 | D10: Rosivall Emma Nóra | E10: =+K10 -> I. kcs. Leány | F10: 40806 | G10: Budapest | H10: Budenz József Általános Iskola és Gimnázium | I10: I. | J10: leány | K10: I. kcs. Leány | L10: =IF(B10>0,1,0) -> 1 | O10: II. kcs. Leány | S10: 5 | U10: 3 | X10: 2 | Z10: 1 | AA10: 11
B11: 7 | C11: 7 | D11: Bozóki Barbara | E11: =+K11 -> I. kcs. Leány | F11: 41388 | G11: Pest | H11: Péceli Integrált Oktatási Központ Általános Iskola és Gimnázium | I11: I. | J11: leány | K11: I. kcs. Leány | L11: =IF(B11>0,1,0) -> 1 | O11: II. kcs. Fiú | R11: 2 | S11: 5 | U11: 3 | V11: 1 | X11: 4 | Y11: 1 | AA11: 16
B12: 8 | C12: 8 | D12: Szabó Botond | E12: =+K12 -> I. kcs. Fiú | F12: 40819 | G12: Heves | H12: Gyöngyöshalászi Széchenyi István Általános Iskola | I12: I. | J12: fiú | K12: I. kcs. Fiú | L12: =IF(B12>0,1,0) -> 1 | O12: III. kcs. Leány | R12: 2 | S12: 4 | U12: 2 | X12: 1 | AA12: 9
B13: 9 | C13: 9 | D13: Lemberkovics Zalán Viktor | E13: =+K13 -> I. kcs. Fiú | F13: 40970 | G13: Győr-M-S | H13: Prohászka Ottokár Orsolyita Gimnázium, Általános Iskola és Óvoda | I13: I. | J13: fiú | K13: I. kcs. Fiú | L13: =IF(B13>0,1,0) -> 1 | O13: III. kcs. Fiú | P13: 1 | R13: 2 | S13: 3 | U13: 8 | X13: 2 | AA13: 16
B14: 10 | C14: 10 | D14: Szabolcs Márton | E14: =+K14 -> I. kcs. Fiú | F14: 41056 | G14: Pest | H14: Gödi Németh László Általános Iskola és Alapfokú Művészeti Iskola | I14: I. | J14: fiú | K14: I. kcs. Fiú | L14: =IF(B14>0,1,0) -> 1 | O14: IV. kcs. Leány | R14: 1 | S14: 5 | U14: 2 | W14: 1 | X14: 1 | AA14: 10
B15: 11 | C15: 11 | D15: Gergely Márton | E15: =+K15 -> I. kcs. Fiú | F15: 40597 | G15: Budapest | H15: Budenz József Általános Iskola és Gimnázium | I15: I. | J15: fiú | K15: I. kcs. Fiú | L15: =IF(B15>0,1,0) -> 1 | O15: IV. kcs. Fiú | P15: 1 | R15: 1 | S15: 3 | U15: 5 | X15: 1 | AA15: 11
B16: 12 | C16: 12 | D16: Besze Regina Kira | E16: =+K16 -> II. kcs. Leány | F16: 40084 | G16: Heves | H16: Gyöngyössolymosi Nagy Gyula Katolikus Általános Iskola és Alapfokú Művészeti Iskola | I16: II. | J16: leány | K16: II. kcs. Leány | L16: =IF(B16>0,1,0) -> 1 | O16: V. kcs. Leány | U16: 2 | AA16: 2
B17: 13 | C17: 13 | D17: Katona Korinna | E17: =+K17 -> II. kcs. Leány | F17: 40079 | G17: Heves | H17: Eszterházy Károly Egyetem Gyakorló Általános, Közép-, Alapfokú Művészeti Iskola és Pedagógiai Intézet | I17: II. | J17: leány | K17: II. kcs. Leány | L17: =IF(B17>0,1,0) -> 1 | O17: V. kcs. Fiú | P17: 1 | R17: 1 | S17: 2 | U17: 2 | X17: 1 | AA17: 7
B18: 14 | C18: 14 | D18: Jankó Boglárka Dóra | E18: =+K18 -> II. kcs. Leány | F18: 40253 | G18: Pest | H18: Kesjár Csaba Általános Iskola | I18: II. | J18: leány | K18: II. kcs. Leány | L18: =IF(B18>0,1,0) -> 1 | O18: VI. kcs. Leány | R18: 1 | S18: 1 | U18: 1 | X18: 1 | AA18: 4
B19: 15 | C19: 15 | D19: Kovács Nóra | E19: =+K19 -> II. kcs. Leány | F19: 40442 | G19: Budapest | H19: Újbudai Ádám Jenő Általános Iskola | I19: II. | J19: leány | K19: II. kcs. Leány | L19: =IF(B19>0,1,0) -> 1 | O19: VI. kcs. Fiú | Q19: 2 | S19: 3 | AA19: 5
B20: 16 | C20: 16 | D20: Zámbó Hanna | E20: =+K20 -> II. kcs. Leány | F20: 39862 | G20: Budapest | H20: Testnevelési Egyetem Gyakorló Sportiskolai Általános Iskola és Gimnázium | I20: II. | J20: leány | K20: II. kcs. Leány | L20: =IF(B20>0,1,0) -> 1 | O20: Végösszeg | P20: 3 | Q20: 2 | R20: 10 | S20: 35 | T20: 2 | U20: 30 | V20: 1 | W20: 1 | X20: 16 | Y20: 1 | Z20: 1 | AA20: 102
B21: 17 | C21: 17 | D21: Varga Léna | E21: =+K21 -> II. kcs. Leány | F21: 40394 | G21: Budapest | H21: ELTE Gyertyánffy István Gyakorló Általános Iskola | I21: II. | J21: leány | K21: II. kcs. Leány | L21: =IF(B21>0,1,0) -> 1
B22: 18 | C22: 18 | D22: Ágoston Dalma | E22: =+K22 -> II. kcs. Leány | F22: 40308 | G22: Veszprém | H22: Nivegy-völgyi Német Nemzetiségi Nyelvoktató Általános Iskola és Alapfokú Művészeti Iskola | I22: II. | J22: leány | K22: II. kcs. Leány | L22: =IF(B22>0,1,0) -> 1
B23: 19 | C23: 19 | D23: Előházi Johanna | E23: =+K23 -> II. kcs. Leány | F23: 40494 | G23: Heves | H23: Gyöngyössolymosi Nagy Gyula Katolikus Általános Iskola és Alapfokú Művészeti Iskola | I23: II. | J23: leány | K23: II. kcs. Leány | L23: =IF(B23>0,1,0) -> 1
B24: 20 | C24: 20 | D24: Cseke Villő Emese | E24: =+K24 -> II. kcs. Leány | F24: 40217 | G24: Budapest | H24: Albertfalvi Don Bosco Katolikus Általános Iskola és Óvoda | I24: II. | J24: leány | K24: II. kcs. Leány | L24: =IF(B24>0,1,0) -> 1
B25: 21 | C25: 21 | D25: Cseke Zille Boglárka | E25: =+K25 -> II. kcs. Leány | F25: 40217 | G25: Budapest | H25: Albertfalvi Don Bosco Katolikus Általános Iskola és Óvoda | I25: II. | J25: leány | K25: II. kcs. Leány | L25: =IF(B25>0,1,0) -> 1
B26: 22 | C26: 22 | D26: Bozóki Tamara | E26: =+K26 -> II. kcs. Leány | F26: 39839 | G26: Pest | H26: Péceli Integrált Oktatási Központ Általános Iskola és Gimnázium | I26: II. | J26: leány | K26: II. kcs. Leány | L26: =IF(B26>0,1,0) -> 1
B27: 23 | C27: 23 | D27: Mikola Márk | E27: =+K27 -> II. kcs. Fiú | F27: 40443 | G27: Heves | H27: Gyöngyössolymosi Nagy Gyula Katolikus Általános Iskola és Alapfokú Művészeti Iskola | I27: II. | J27: fiú | K27: II. kcs. Fiú | L27: =IF(B27>0,1,0) -> 1
B28: 24 | C28: 24 | D28: Feledy Bence | E28: =+K28 -> II. kcs. Fiú | F28: 39876 | G28: Borsod-A-Z | H28: Bükki Szlovák Nemzetiségi Általános Iskola | I28: II. | J28: fiú | K28: II. kcs. Fiú | L28: =IF(B28>0,1,0) -> 1
B29: 25 | C29: 25 | D29: Telek Dominik | E29: =+K29 -> II. kcs. Fiú | F29: 39867 | G29: Heves | H29: Gyöngyössolymosi Nagy Gyula Katolikus Általános Iskola és Alapfokú Művészeti Iskola | I29: II. | J29: fiú | K29: II. kcs. Fiú | L29: =IF(B29>0,1,0) -> 1
B30: 26 | C30: 26 | D30: Maus Márton | E30: =+K30 -> II. kcs. Fiú | F30: 40318 | G30: Budapest | H30: Budenz József Általános Iskola és Gimnázium | I30: II. | J30: fiú | K30: II. kcs. Fiú | L30: =IF(B30>0,1,0) -> 1
B31: 27 | C31: 27 | D31: Szabolcs Balázs | E31: =+K31 -> II. kcs. Fiú | F31: 40479 | G31: Pest | H31: Gödi Németh László Általános Iskola és Alapfokú Művészeti Iskola | I31: II. | J31: fiú | K31: II. kcs. Fiú | L31: =IF(B31>0,1,0) -> 1
B32: 28 | C32: 28 | D32: Harangozó Gyergely | E32: =+K32 -> II. kcs. Fiú | F32: 40029 | G32: Budapest | H32: Zugligeti Általános Iskola | I32: II. | J32: fiú | K32: II. kcs. Fiú | L32: =IF(B32>0,1,0) -> 1
... B106: 102 | C106: 102 | D106: Kovács Péter | E106: =+K106 -> VI. kcs. Fiú | F106: 37313 | G106: Budapest | H106: Budapesti Fazekas Mihály Gyakorló Általános Iskola és Gimnázium | I106: VI. | J106: fiú | K106: VI. kcs. Fiú | L106: =IF(B106>0,1,0) -> 1
B107: 103 | E107: =+K107 -> 0 | L107: =IF(B107>0,1,0) -> 1
B108: 104 | E108: =+K108 -> 0 | L108: =IF(B108>0,1,0) -> 1
B109: 105 | E109: =+K109 -> 0 | L109: =IF(B109>0,1,0) -> 1
B110: 106 | E110: =+K110 -> 0 | L110: =IF(B110>0,1,0) -> 1
B111: 107 | E111: =+K111 -> 0 | L111: =IF(B111>0,1,0) -> 1
B112: 108 | E112: =+K112 -> 0 | L112: =IF(B112>0,1,0) -> 1
L113: =IF(B113>0,1,0) -> 0
...

Sheet Rajtlista
B1: =+Kategóriák!B1 -> SÍFUTÓ DIÁKOLIMPIA - 2020.02.12. - Mátraszentistván
B2: =+Kategóriák!B2 -> Egyéni futam / Individual Race
B3: R A J T L I S T A
B4: Rsz. | C4: Név | D4: Kategória | E4: Szül. | F4: Megye | G4: Iskola | H4: Rajt idő | I4: Megjegyzés
B5: =+Kategóriák!$E$6 -> I. kcs. Leány (2011-) - 0,5 km klasszikus | H5: 0.00034722222
B6: 1 | C6: =IFERROR(VLOOKUP($B6,'Nevezési lista'!$C$4:$K$116,MATCH(C$4,'Nevezési lista'!$C$4:$K$4,0),FALSE),"") -> Nagy Sarolta | D6: =+B5 -> I. kcs. Leány (2011-) - 0,5 km klasszikus | E6: =IFERROR(VLOOKUP($B6,'Nevezési lista'!$C$4:$K$116,MATCH(E$4,'Nevezési lista'!$C$4:$K$4,0),FALSE),"") -> 40881 | F6: =IFERROR(VLOOKUP($B6,'Nevezési lista'!$C$4:$K$116,MATCH(F$4,'Nevezési lista'!$C$4:$K$4,0),FALSE),"") -> Pest | G6: =IFERROR(VLOOKUP($B6,'Nevezési lista'!$C$4:$K$116,MATCH(G$4,'Nevezési lista'!$C$4:$K$4,0),FALSE),"") -> József Nádor Általános Iskola és Alapfokú Művészeti Iskola (ÖKO Iskola) | H6: =+Versenyprogram!C12+H5 -> 0.41701389 | J6: =IF(B6>0,1,0) -> 1
B7: 2 | C7: =IFERROR(VLOOKUP($B7,'Nevezési lista'!$C$4:$K$116,MATCH(C$4,'Nevezési lista'!$C$4:$K$4,0),FALSE),"") -> Birner Léna Petra | D7: =+D6 -> I. kcs. Leány (2011-) - 0,5 km klasszikus | E7: =IFERROR(VLOOKUP($B7,'Nevezési lista'!$C$4:$K$116,MATCH(E$4,'Nevezési lista'!$C$4:$K$4,0),FALSE),"") -> 40808 | F7: =IFERROR(VLOOKUP($B7,'Nevezési lista'!$C$4:$K$116,MATCH(F$4,'Nevezési lista'!$C$4:$K$4,0),FALSE),"") -> Heves | G7: =IFERROR(VLOOKUP($B7,'Nevezési lista'!$C$4:$K$116,MATCH(G$4,'Nevezési lista'!$C$4:$K$4,0),FALSE),"") -> Gyöngyösi Arany János Általános Iskola | H7: =H6+$H$5 -> 0.41736111 | J7: =IF(B7>0,1,0) -> 1
B8: 3 | C8: =IFERROR(VLOOKUP($B8,'Nevezési lista'!$C$4:$K$116,MATCH(C$4,'Nevezési lista'!$C$4:$K$4,0),FALSE),"") -> Gergely Lujza Piroska | D8: =+D7 -> I. kcs. Leány (2011-) - 0,5 km klasszikus | E8: =IFERROR(VLOOKUP($B8,'Nevezési lista'!$C$4:$K$116,MATCH(E$4,'Nevezési lista'!$C$4:$K$4,0),FALSE),"") -> 41163 | F8: =IFERROR(VLOOKUP($B8,'Nevezési lista'!$C$4:$K$116,MATCH(F$4,'Nevezési lista'!$C$4:$K$4,0),FALSE),"") -> Budapest | G8: =IFERROR(VLOOKUP($B8,'Nevezési lista'!$C$4:$K$116,MATCH(G$4,'Nevezési lista'!$C$4:$K$4,0),FALSE),"") -> Budenz József Általános Iskola és Gimnázium | H8: =H7+$H$5 -> 0.41770833 | J8: =IF(B8>0,1,0) -> 1
B9: 4 | C9: =IFERROR(VLOOKUP($B9,'Nevezési lista'!$C$4:$K$116,MATCH(C$4,'Nevezési lista'!$C$4:$K$4,0),FALSE),"") -> Sári Laura | D9: =+D8 -> I. kcs. Leány (2011-) - 0,5 km klasszikus | E9: =IFERROR(VLOOKUP($B9,'Nevezési lista'!$C$4:$K$116,MATCH(E$4,'Nevezési lista'!$C$4:$K$4,0),FALSE),"") -> 41383 | F9: =IFERROR(VLOOKUP($B9,'Nevezési lista'!$C$4:$K$116,MATCH(F$4,'Nevezési lista'!$C$4:$K$4,0),FALSE),"") -> Győr-M-S | G9: =IFERROR(VLOOKUP($B9,'Nevezési lista'!$C$4:$K$116,MATCH(G$4,'Nevezési lista'!$C$4:$K$4,0),FALSE),"") -> Prohászka Ottokár Orsolyita Gimnázium, Általános Iskola és Óvoda | H9: =H8+$H$5 -> 0.41805556 | J9: =IF(B9>0,1,0) -> 1
B10: 5 | C10: =IFERROR(VLOOKUP($B10,'Nevezési lista'!$C$4:$K$116,MATCH(C$4,'Nevezési lista'!$C$4:$K$4,0),FALSE),"") -> Maus Virág | D10: =+D9 -> I. kcs. Leány (2011-) - 0,5 km klasszikus | E10: =IFERROR(VLOOKUP($B10,'Nevezési lista'!$C$4:$K$116,MATCH(E$4,'Nevezési lista'!$C$4:$K$4,0),FALSE),"") -> 40976 | F10: =IFERROR(VLOOKUP($B10,'Nevezési lista'!$C$4:$K$116,MATCH(F$4,'Nevezési lista'!$C$4:$K$4,0),FALSE),"") -> Budapest | G10: =IFERROR(VLOOKUP($B10,'Nevezési lista'!$C$4:$K$116,MATCH(G$4,'Nevezési lista'!$C$4:$K$4,0),FALSE),"") -> Budenz József Általános Iskola és Gimnázium | H10: =H9+$H$5 -> 0.41840278 | J10: =IF(B10>0,1,0) -> 1
B11: 6 | C11: =IFERROR(VLOOKUP($B11,'Nevezési lista'!$C$4:$K$116,MATCH(C$4,'Nevezési lista'!$C$4:$K$4,0),FALSE),"") -> Rosivall Emma Nóra | D11: =+D10 -> I. kcs. Leány (2011-) - 0,5 km klasszikus | E11: =IFERROR(VLOOKUP($B11,'Nevezési lista'!$C$4:$K$116,MATCH(E$4,'Nevezési lista'!$C$4:$K$4,0),FALSE),"") -> 40806 | F11: =IFERROR(VLOOKUP($B11,'Nevezési lista'!$C$4:$K$116,MATCH(F$4,'Nevezési lista'!$C$4:$K$4,0),FALSE),"") -> Budapest | G11: =IFERROR(VLOOKUP($B11,'Nevezési lista'!$C$4:$K$116,MATCH(G$4,'Nevezési lista'!$C$4:$K$4,0),FALSE),"") -> Budenz József Általános Iskola és Gimnázium | H11: =H10+$H$5 -> 0.41875 | J11: =IF(B11>0,1,0) -> 1
B12: 7 | C12: =IFERROR(VLOOKUP($B12,'Nevezési lista'!$C$4:$K$116,MATCH(C$4,'Nevezési lista'!$C$4:$K$4,0),FALSE),"") -> Bozóki Barbara | D12: =+D11 -> I. kcs. Leány (2011-) - 0,5 km klasszikus | E12: =IFERROR(VLOOKUP($B12,'Nevezési lista'!$C$4:$K$116,MATCH(E$4,'Nevezési lista'!$C$4:$K$4,0),FALSE),"") -> 41388 | F12: =IFERROR(VLOOKUP($B12,'Nevezési lista'!$C$4:$K$116,MATCH(F$4,'Nevezési lista'!$C$4:$K$4,0),FALSE),"") -> Pest | G12: =IFERROR(VLOOKUP($B12,'Nevezési lista'!$C$4:$K$116,MATCH(G$4,'Nevezési lista'!$C$4:$K$4,0),FALSE),"") -> Péceli Integrált Oktatási Központ Általános Iskola és Gimnázium | H12: =H11+$H$5 -> 0.41909722 | J12: =IF(B12>0,1,0) -> 1
C13: =IFERROR(VLOOKUP($B13,'Nevezési lista'!$C$4:$K$116,MATCH(C$4,'Nevezési lista'!$C$4:$K$4,0),FALSE),"") | D13: =+D12 -> I. kcs. Leány (2011-) - 0,5 km klasszikus | E13: =IFERROR(VLOOKUP($B13,'Nevezési lista'!$C$4:$K$116,MATCH(E$4,'Nevezési lista'!$C$4:$K$4,0),FALSE),"") | F13: =IFERROR(VLOOKUP($B13,'Nevezési lista'!$C$4:$K$116,MATCH(F$4,'Nevezési lista'!$C$4:$K$4,0),FALSE),"") | G13: =IFERROR(VLOOKUP($B13,'Nevezési lista'!$C$4:$K$116,MATCH(G$4,'Nevezési lista'!$C$4:$K$4,0),FALSE),"") | H13: =H12+$H$5 -> 0.41944444 | J13: =IF(B13>0,1,0) -> 0
C14: =IFERROR(VLOOKUP($B14,'Nevezési lista'!$C$4:$K$116,MATCH(C$4,'Nevezési lista'!$C$4:$K$4,0),FALSE),"") | D14: =+D13 -> I. kcs. Leány (2011-) - 0,5 km klasszikus | E14: =IFERROR(VLOOKUP($B14,'Nevezési lista'!$C$4:$K$116,MATCH(E$4,'Nevezési lista'!$C$4:$K$4,0),FALSE),"") | F14: =IFERROR(VLOOKUP($B14,'Nevezési lista'!$C$4:$K$116,MATCH(F$4,'Nevezési lista'!$C$4:$K$4,0),FALSE),"") | G14: =IFERROR(VLOOKUP($B14,'Nevezési lista'!$C$4:$K$116,MATCH(G$4,'Nevezési lista'!$C$4:$K$4,0),FALSE),"") | H14: =H13+$H$5 -> 0.41979167 | J14: =IF(B14>0,1,0) -> 0
C15: =IFERROR(VLOOKUP($B15,'Nevezési lista'!$C$4:$K$116,MATCH(C$4,'Nevezési lista'!$C$4:$K$4,0),FALSE),"") | D15: =+D14 -> I. kcs. Leány (2011-) - 0,5 km klasszikus | E15: =IFERROR(VLOOKUP($B15,'Nevezési lista'!$C$4:$K$116,MATCH(E$4,'Nevezési lista'!$C$4:$K$4,0),FALSE),"") | F15: =IFERROR(VLOOKUP($B15,'Nevezési lista'!$C$4:$K$116,MATCH(F$4,'Nevezési lista'!$C$4:$K$4,0),FALSE),"") | G15: =IFERROR(VLOOKUP($B15,'Nevezési lista'!$C$4:$K$116,MATCH(G$4,'Nevezési lista'!$C$4:$K$4,0),FALSE),"") | H15: =H14+$H$5 -> 0.42013889 | J15: =IF(B15>0,1,0) -> 0
C16: =IFERROR(VLOOKUP($B16,'Nevezési lista'!$C$4:$K$116,MATCH(C$4,'Nevezési lista'!$C$4:$K$4,0),FALSE),"") | D16: =+D15 -> I. kcs. Leány (2011-) - 0,5 km klasszikus | E16: =IFERROR(VLOOKUP($B16,'Nevezési lista'!$C$4:$K$116,MATCH(E$4,'Nevezési lista'!$C$4:$K$4,0),FALSE),"") | F16: =IFERROR(VLOOKUP($B16,'Nevezési lista'!$C$4:$K$116,MATCH(F$4,'Nevezési lista'!$C$4:$K$4,0),FALSE),"") | G16: =IFERROR(VLOOKUP($B16,'Nevezési lista'!$C$4:$K$116,MATCH(G$4,'Nevezési lista'!$C$4:$K$4,0),FALSE),"") | H16: =H15+$H$5 -> 0.42048611 | J16: =IF(B16>0,1,0) -> 0
C17: =IFERROR(VLOOKUP($B17,'Nevezési lista'!$C$4:$K$116,MATCH(C$4,'Nevezési lista'!$C$4:$K$4,0),FALSE),"") | D17: =+D16 -> I. kcs. Leány (2011-) - 0,5 km klasszikus | E17: =IFERROR(VLOOKUP($B17,'Nevezési lista'!$C$4:$K$116,MATCH(E$4,'Nevezési lista'!$C$4:$K$4,0),FALSE),"") | F17: =IFERROR(VLOOKUP($B17,'Nevezési lista'!$C$4:$K$116,MATCH(F$4,'Nevezési lista'!$C$4:$K$4,0),FALSE),"") | G17: =IFERROR(VLOOKUP($B17,'Nevezési lista'!$C$4:$K$116,MATCH(G$4,'Nevezési lista'!$C$4:$K$4,0),FALSE),"") | H17: =H16+$H$5 -> 0.42083333 | J17: =IF(B17>0,1,0) -> 0
C18: =IFERROR(VLOOKUP($B18,'Nevezési lista'!$C$4:$K$116,MATCH(C$4,'Nevezési lista'!$C$4:$K$4,0),FALSE),"") | D18: =+D17 -> I. kcs. Leány (2011-) - 0,5 km klasszikus | E18: =IFERROR(VLOOKUP($B18,'Nevezési lista'!$C$4:$K$116,MATCH(E$4,'Nevezési lista'!$C$4:$K$4,0),FALSE),"") | F18: =IFERROR(VLOOKUP($B18,'Nevezési lista'!$C$4:$K$116,MATCH(F$4,'Nevezési lista'!$C$4:$K$4,0),FALSE),"") | G18: =IFERROR(VLOOKUP($B18,'Nevezési lista'!$C$4:$K$116,MATCH(G$4,'Nevezési lista'!$C$4:$K$4,0),FALSE),"") | H18: =H17+$H$5 -> 0.42118056 | J18: =IF(B18>0,1,0) -> 0
C19: =IFERROR(VLOOKUP($B19,'Nevezési lista'!$C$4:$K$116,MATCH(C$4,'Nevezési lista'!$C$4:$K$4,0),FALSE),"") | D19: =+D18 -> I. kcs. Leány (2011-) - 0,5 km klasszikus | E19: =IFERROR(VLOOKUP($B19,'Nevezési lista'!$C$4:$K$116,MATCH(E$4,'Nevezési lista'!$C$4:$K$4,0),FALSE),"") | F19: =IFERROR(VLOOKUP($B19,'Nevezési lista'!$C$4:$K$116,MATCH(F$4,'Nevezési lista'!$C$4:$K$4,0),FALSE),"") | G19: =IFERROR(VLOOKUP($B19,'Nevezési lista'!$C$4:$K$116,MATCH(G$4,'Nevezési lista'!$C$4:$K$4,0),FALSE),"") | H19: =H18+$H$5 -> 0.42152778 | J19: =IF(B19>0,1,0) -> 0
C20: =IFERROR(VLOOKUP($B20,'Nevezési lista'!$C$4:$K$116,MATCH(C$4,'Nevezési lista'!$C$4:$K$4,0),FALSE),"") | D20: =+D19 -> I. kcs. Leány (2011-) - 0,5 km klasszikus | E20: =IFERROR(VLOOKUP($B20,'Nevezési lista'!$C$4:$K$116,MATCH(E$4,'Nevezési lista'!$C$4:$K$4,0),FALSE),"") | F20: =IFERROR(VLOOKUP($B20,'Nevezési lista'!$C$4:$K$116,MATCH(F$4,'Nevezési lista'!$C$4:$K$4,0),FALSE),"") | G20: =IFERROR(VLOOKUP($B20,'Nevezési lista'!$C$4:$K$116,MATCH(G$4,'Nevezési lista'!$C$4:$K$4,0),FALSE),"") | H20: =H19+$H$5 -> 0.421875 | J20: =IF(B20>0,1,0) -> 0
B21: 0 | J21: =IF(B21>0,1,0) -> 0
B22: =+Kategóriák!$E$7 -> I. kcs. Fiú (2011-) - 0,5 km klasszikus | H22: 0.00034722222
B23: 8 | C23: =IFERROR(VLOOKUP($B23,'Nevezési lista'!$C$4:$K$116,MATCH(C$4,'Nevezési lista'!$C$4:$K$4,0),FALSE),"") -> Szabó Botond | D23: =+B22 -> I. kcs. Fiú (2011-) - 0,5 km klasszikus | E23: =IFERROR(VLOOKUP($B23,'Nevezési lista'!$C$4:$K$116,MATCH(E$4,'Nevezési lista'!$C$4:$K$4,0),FALSE),"") -> 40819 | F23: =IFERROR(VLOOKUP($B23,'Nevezési lista'!$C$4:$K$116,MATCH(F$4,'Nevezési lista'!$C$4:$K$4,0),FALSE),"") -> Heves | G23: =IFERROR(VLOOKUP($B23,'Nevezési lista'!$C$4:$K$116,MATCH(G$4,'Nevezési lista'!$C$4:$K$4,0),FALSE),"") -> Gyöngyöshalászi Széchenyi István Általános Iskola | H23: =H9+H22 -> 0.41840278 | J23: =IF(B23>0,1,0) -> 1
B24: 9 | C24: =IFERROR(VLOOKUP($B24,'Nevezési lista'!$C$4:$K$116,MATCH(C$4,'Nevezési lista'!$C$4:$K$4,0),FALSE),"") -> Lemberkovics Zalán Viktor | D24: =+D23 -> I. kcs. Fiú (2011-) - 0,5 km klasszikus | E24: =IFERROR(VLOOKUP($B24,'Nevezési lista'!$C$4:$K$116,MATCH(E$4,'Nevezési lista'!$C$4:$K$4,0),FALSE),"") -> 40970 | F24: =IFERROR(VLOOKUP($B24,'Nevezési lista'!$C$4:$K$116,MATCH(F$4,'Nevezési lista'!$C$4:$K$4,0),FALSE),"") -> Győr-M-S | G24: =IFERROR(VLOOKUP($B24,'Nevezési lista'!$C$4:$K$116,MATCH(G$4,'Nevezési lista'!$C$4:$K$4,0),FALSE),"") -> Prohászka Ottokár Orsolyita Gimnázium, Általános Iskola és Óvoda | H24: =H23+$H$22 -> 0.41875 | J24: =IF(B24>0,1,0) -> 1
B25: 10 | C25: =IFERROR(VLOOKUP($B25,'Nevezési lista'!$C$4:$K$116,MATCH(C$4,'Nevezési lista'!$C$4:$K$4,0),FALSE),"") -> Szabolcs Márton | D25: =+D24 -> I. kcs. Fiú (2011-) - 0,5 km klasszikus | E25: =IFERROR(VLOOKUP($B25,'Nevezési lista'!$C$4:$K$116,MATCH(E$4,'Nevezési lista'!$C$4:$K$4,0),FALSE),"") -> 41056 | F25: =IFERROR(VLOOKUP($B25,'Nevezési lista'!$C$4:$K$116,MATCH(F$4,'Nevezési lista'!$C$4:$K$4,0),FALSE),"") -> Pest | G25: =IFERROR(VLOOKUP($B25,'Nevezési lista'!$C$4:$K$116,MATCH(G$4,'Nevezési lista'!$C$4:$K$4,0),FALSE),"") -> Gödi Németh László Általános Iskola és Alapfokú Művészeti Iskola | H25: =H24+$H$22 -> 0.41909722 | J25: =IF(B25>0,1,0) -> 1
B26: 11 | C26: =IFERROR(VLOOKUP($B26,'Nevezési lista'!$C$4:$K$116,MATCH(C$4,'Nevezési lista'!$C$4:$K$4,0),FALSE),"") -> Gergely Márton | D26: =+D25 -> I. kcs. Fiú (2011-) - 0,5 km klasszikus | E26: =IFERROR(VLOOKUP($B26,'Nevezési lista'!$C$4:$K$116,MATCH(E$4,'Nevezési lista'!$C$4:$K$4,0),FALSE),"") -> 40597 | F26: =IFERROR(VLOOKUP($B26,'Nevezési lista'!$C$4:$K$116,MATCH(F$4,'Nevezési lista'!$C$4:$K$4,0),FALSE),"") -> Budapest | G26: =IFERROR(VLOOKUP($B26,'Nevezési lista'!$C$4:$K$116,MATCH(G$4,'Nevezési lista'!$C$4:$K$4,0),FALSE),"") -> Budenz József Általános Iskola és Gimnázium | H26: =H25+$H$22 -> 0.41944444 | J26: =IF(B26>0,1,0) -> 1
C27: =IFERROR(VLOOKUP($B27,'Nevezési lista'!$C$4:$K$116,MATCH(C$4,'Nevezési lista'!$C$4:$K$4,0),FALSE),"") | D27: =+D26 -> I. kcs. Fiú (2011-) - 0,5 km klasszikus | E27: =IFERROR(VLOOKUP($B27,'Nevezési lista'!$C$4:$K$116,MATCH(E$4,'Nevezési lista'!$C$4:$K$4,0),FALSE),"") | F27: =IFERROR(VLOOKUP($B27,'Nevezési lista'!$C$4:$K$116,MATCH(F$4,'Nevezési lista'!$C$4:$K$4,0),FALSE),"") | G27: =IFERROR(VLOOKUP($B27,'Nevezési lista'!$C$4:$K$116,MATCH(G$4,'Nevezési lista'!$C$4:$K$4,0),FALSE),"") | H27: =H26+$H$22 -> 0.41979167 | J27: =IF(B27>0,1,0) -> 0
C28: =IFERROR(VLOOKUP($B28,'Nevezési lista'!$C$4:$K$116,MATCH(C$4,'Nevezési lista'!$C$4:$K$4,0),FALSE),"") | D28: =+D27 -> I. kcs. Fiú (2011-) - 0,5 km klasszikus | E28: =IFERROR(VLOOKUP($B28,'Nevezési lista'!$C$4:$K$116,MATCH(E$4,'Nevezési lista'!$C$4:$K$4,0),FALSE),"") | F28: =IFERROR(VLOOKUP($B28,'Nevezési lista'!$C$4:$K$116,MATCH(F$4,'Nevezési lista'!$C$4:$K$4,0),FALSE),"") | G28: =IFERROR(VLOOKUP($B28,'Nevezési lista'!$C$4:$K$116,MATCH(G$4,'Nevezési lista'!$C$4:$K$4,0),FALSE),"") | H28: =H27+$H$22 -> 0.42013889 | J28: =IF(B28>0,1,0) -> 0
C29: =IFERROR(VLOOKUP($B29,'Nevezési lista'!$C$4:$K$116,MATCH(C$4,'Nevezési lista'!$C$4:$K$4,0),FALSE),"") | D29: =+D28 -> I. kcs. Fiú (2011-) - 0,5 km klasszikus | E29: =IFERROR(VLOOKUP($B29,'Nevezési lista'!$C$4:$K$116,MATCH(E$4,'Nevezési lista'!$C$4:$K$4,0),FALSE),"") | F29: =IFERROR(VLOOKUP($B29,'Nevezési lista'!$C$4:$K$116,MATCH(F$4,'Nevezési lista'!$C$4:$K$4,0),FALSE),"") | G29: =IFERROR(VLOOKUP($B29,'Nevezési lista'!$C$4:$K$116,MATCH(G$4,'Nevezési lista'!$C$4:$K$4,0),FALSE),"") | H29: =H28+$H$22 -> 0.42048611 | J29: =IF(B29>0,1,0) -> 0
C30: =IFERROR(VLOOKUP($B30,'Nevezési lista'!$C$4:$K$116,MATCH(C$4,'Nevezési lista'!$C$4:$K$4,0),FALSE),"") | D30: =+D29 -> I. kcs. Fiú (2011-) - 0,5 km klasszikus | E30: =IFERROR(VLOOKUP($B30,'Nevezési lista'!$C$4:$K$116,MATCH(E$4,'Nevezési lista'!$C$4:$K$4,0),FALSE),"") | F30: =IFERROR(VLOOKUP($B30,'Nevezési lista'!$C$4:$K$116,MATCH(F$4,'Nevezési lista'!$C$4:$K$4,0),FALSE),"") | G30: =IFERROR(VLOOKUP($B30,'Nevezési lista'!$C$4:$K$116,MATCH(G$4,'Nevezési lista'!$C$4:$K$4,0),FALSE),"") | H30: =H29+$H$22 -> 0.42083333 | J30: =IF(B30>0,1,0) -> 0
C31: =IFERROR(VLOOKUP($B31,'Nevezési lista'!$C$4:$K$116,MATCH(C$4,'Nevezési lista'!$C$4:$K$4,0),FALSE),"") | D31: =+D30 -> I. kcs. Fiú (2011-) - 0,5 km klasszikus | E31: =IFERROR(VLOOKUP($B31,'Nevezési lista'!$C$4:$K$116,MATCH(E$4,'Nevezési lista'!$C$4:$K$4,0),FALSE),"") | F31: =IFERROR(VLOOKUP($B31,'Nevezési lista'!$C$4:$K$116,MATCH(F$4,'Nevezési lista'!$C$4:$K$4,0),FALSE),"") | G31: =IFERROR(VLOOKUP($B31,'Nevezési lista'!$C$4:$K$116,MATCH(G$4,'Nevezési lista'!$C$4:$K$4,0),FALSE),"") | H31: =H30+$H$22 -> 0.42118056 | J31: =IF(B31>0,1,0) -> 0
C32: =IFERROR(VLOOKUP($B32,'Nevezési lista'!$C$4:$K$116,MATCH(C$4,'Nevezési lista'!$C$4:$K$4,0),FALSE),"") | D32: =+D31 -> I. kcs. Fiú (2011-) - 0,5 km klasszikus | E32: =IFERROR(VLOOKUP($B32,'Nevezési lista'!$C$4:$K$116,MATCH(E$4,'Nevezési lista'!$C$4:$K$4,0),FALSE),"") | F32: =IFERROR(VLOOKUP($B32,'Nevezési lista'!$C$4:$K$116,MATCH(F$4,'Nevezési lista'!$C$4:$K$4,0),FALSE),"") | G32: =IFERROR(VLOOKUP($B32,'Nevezési lista'!$C$4:$K$116,MATCH(G$4,'Nevezési lista'!$C$4:$K$4,0),FALSE),"") | H32: =H31+$H$22 -> 0.42152778 | J32: =IF(B32>0,1,0) -> 0
C33: =IFERROR(VLOOKUP($B33,'Nevezési lista'!$C$4:$K$116,MATCH(C$4,'Nevezési lista'!$C$4:$K$4,0),FALSE),"") | D33: =+D32 -> I. kcs. Fiú (2011-) - 0,5 km klasszikus | E33: =IFERROR(VLOOKUP($B33,'Nevezési lista'!$C$4:$K$116,MATCH(E$4,'Nevezési lista'!$C$4:$K$4,0),FALSE),"") | F33: =IFERROR(VLOOKUP($B33,'Nevezési lista'!$C$4:$K$116,MATCH(F$4,'Nevezési lista'!$C$4:$K$4,0),FALSE),"") | G33: =IFERROR(VLOOKUP($B33,'Nevezési lista'!$C$4:$K$116,MATCH(G$4,'Nevezési lista'!$C$4:$K$4,0),FALSE),"") | H33: =H32+$H$22 -> 0.421875 | J33: =IF(B33>0,1,0) -> 0
C34: =IFERROR(VLOOKUP($B34,'Nevezési lista'!$C$4:$K$116,MATCH(C$4,'Nevezési lista'!$C$4:$K$4,0),FALSE),"") | D34: =+D33 -> I. kcs. Fiú (2011-) - 0,5 km klasszikus | E34: =IFERROR(VLOOKUP($B34,'Nevezési lista'!$C$4:$K$116,MATCH(E$4,'Nevezési lista'!$C$4:$K$4,0),FALSE),"") | F34: =IFERROR(VLOOKUP($B34,'Nevezési lista'!$C$4:$K$116,MATCH(F$4,'Nevezési lista'!$C$4:$K$4,0),FALSE),"") | G34: =IFERROR(VLOOKUP($B34,'Nevezési lista'!$C$4:$K$116,MATCH(G$4,'Nevezési lista'!$C$4:$K$4,0),FALSE),"") | H34: =H33+$H$22 -> 0.42222222 | J34: =IF(B34>0,1,0) -> 0
C35: =IFERROR(VLOOKUP($B35,'Nevezési lista'!$C$4:$K$116,MATCH(C$4,'Nevezési lista'!$C$4:$K$4,0),FALSE),"") | D35: =+D34 -> I. kcs. Fiú (2011-) - 0,5 km klasszikus | E35: =IFERROR(VLOOKUP($B35,'Nevezési lista'!$C$4:$K$116,MATCH(E$4,'Nevezési lista'!$C$4:$K$4,0),FALSE),"") | F35: =IFERROR(VLOOKUP($B35,'Nevezési lista'!$C$4:$K$116,MATCH(F$4,'Nevezési lista'!$C$4:$K$4,0),FALSE),"") | G35: =IFERROR(VLOOKUP($B35,'Nevezési lista'!$C$4:$K$116,MATCH(G$4,'Nevezési lista'!$C$4:$K$4,0),FALSE),"") | H35: =H34+$H$22 -> 0.42256944 | J35: =IF(B35>0,1,0) -> 0
C36: =IFERROR(VLOOKUP($B36,'Nevezési lista'!$C$4:$K$116,MATCH(C$4,'Nevezési lista'!$C$4:$K$4,0),FALSE),"") | D36: =+D35 -> I. kcs. Fiú (2011-) - 0,5 km klasszikus | E36: =IFERROR(VLOOKUP($B36,'Nevezési lista'!$C$4:$K$116,MATCH(E$4,'Nevezési lista'!$C$4:$K$4,0),FALSE),"") | F36: =IFERROR(VLOOKUP($B36,'Nevezési lista'!$C$4:$K$116,MATCH(F$4,'Nevezési lista'!$C$4:$K$4,0),FALSE),"") | G36: =IFERROR(VLOOKUP($B36,'Nevezési lista'!$C$4:$K$116,MATCH(G$4,'Nevezési lista'!$C$4:$K$4,0),FALSE),"") | H36: =H35+$H$22 -> 0.42291667 | J36: =IF(B36>0,1,0) -> 0
C37: =IFERROR(VLOOKUP($B37,'Nevezési lista'!$C$4:$K$116,MATCH(C$4,'Nevezési lista'!$C$4:$K$4,0),FALSE),"") | D37: =+D36 -> I. kcs. Fiú (2011-) - 0,5 km klasszikus | E37: =IFERROR(VLOOKUP($B37,'Nevezési lista'!$C$4:$K$116,MATCH(E$4,'Nevezési lista'!$C$4:$K$4,0),FALSE),"") | F37: =IFERROR(VLOOKUP($B37,'Nevezési lista'!$C$4:$K$116,MATCH(F$4,'Nevezési lista'!$C$4:$K$4,0),FALSE),"") | G37: =IFERROR(VLOOKUP($B37,'Nevezési lista'!$C$4:$K$116,MATCH(G$4,'Nevezési lista'!$C$4:$K$4,0),FALSE),"") | H37: =H36+$H$22 -> 0.42326389 | J37: =IF(B37>0,1,0) -> 0
B38: 0 | J38: =IF(B38>0,1,0) -> 0
B39: =+Kategóriák!$E$8 -> II. kcs. Leány (2009-2010) - 1 km klasszikus | H39: 0.00034722222
B40: 12 | C40: =IFERROR(VLOOKUP($B40,'Nevezési lista'!$C$4:$K$116,MATCH(C$4,'Nevezési lista'!$C$4:$K$4,0),FALSE),"") -> Besze Regina Kira | D40: =+B39 -> II. kcs. Leány (2009-2010) - 1 km klasszikus | E40: =IFERROR(VLOOKUP($B40,'Nevezési lista'!$C$4:$K$116,MATCH(E$4,'Nevezési lista'!$C$4:$K$4,0),FALSE),"") -> 40084 | F40: =IFERROR(VLOOKUP($B40,'Nevezési lista'!$C$4:$K$116,MATCH(F$4,'Nevezési lista'!$C$4:$K$4,0),FALSE),"") -> Heves | G40: =IFERROR(VLOOKUP($B40,'Nevezési lista'!$C$4:$K$116,MATCH(G$4,'Nevezési lista'!$C$4:$K$4,0),FALSE),"") -> Gyöngyössolymosi Nagy Gyula Katolikus Általános Iskola és Alapfokú Művészeti Iskola | H40: =+Versenyprogram!C15+H39 -> 0.46215278 | J40: =IF(B40>0,1,0) -> 1
...

Sheet reader
A2: Adatfájl: | B2: c:/reader/cardList.txt
A5: Rajtszám | B5: Kártyaadat | C5: Dátum | D5: Idő

Sheet Idő
A1: rsz | B1: rsz javított | C1: dátum | D1: idő | E1: Megjegyzés | F1: reader | G1: eltérés | I1: Megjegyzés | J1: Hibaüzenet | K1: Név javított | L1: Egyesület | M1: Kategória | N1: Futóidő
A2: 2 | B2: =A2 -> 2 | C2: 43701 | D2: 0.43075231 | F2: =IFERROR(VLOOKUP(B2,reader!A:D,4,FALSE),"") | G2: =IF(F2="","",IF(D2>F2,"-",IF(D2<F2,"+",""))) | H2: =IF(F2="","",ABS(F2-D2)) | J2: =IF(B2="-","",IF(COUNTIFS($B$1:B1,B2)>0,"MÁR BEFUTOTT!",IF(COUNTIFS(Rajtlista!B:B,B2)=1,"","Nincs ilyen rsz!"))) | K2: =IFERROR(VLOOKUP(B2,Rajtlista!B:I,2,FALSE),"") -> Birner Léna Petra | L2: =IFERROR(VLOOKUP(B2,Rajtlista!B:J,6,FALSE),"") -> Gyöngyösi Arany János Általános Iskola | M2: =IFERROR(VLOOKUP(B2,Rajtlista!B:I,3,FALSE),"") -> I. kcs. Leány (2011-) - 0,5 km klasszikus | N2: =IFERROR(D2-VLOOKUP(B2,Rajtlista!B:J,7,FALSE),"") -> 0.013391204
A3: 3 | B3: =A3 -> 3 | C3: 43701 | D3: 0.43208333 | E3: 0.42246528 | F3: =IFERROR(VLOOKUP(B3,reader!A:D,4,FALSE),"") | G3: =IF(F3="","",IF(D3>F3,"-",IF(D3<F3,"+",""))) | H3: =IF(F3="","",ABS(F3-D3)) | J3: =IF(B3="-","",IF(COUNTIFS($B$1:B2,B3)>0,"MÁR BEFUTOTT!",IF(COUNTIFS(Rajtlista!B:B,B3)=1,"","Nincs ilyen rsz!"))) | K3: =IFERROR(VLOOKUP(B3,Rajtlista!B:I,2,FALSE),"") -> Gergely Lujza Piroska | L3: =IFERROR(VLOOKUP(B3,Rajtlista!B:J,6,FALSE),"") -> Budenz József Általános Iskola és Gimnázium | M3: =IFERROR(VLOOKUP(B3,Rajtlista!B:I,3,FALSE),"") -> I. kcs. Leány (2011-) - 0,5 km klasszikus | N3: =IFERROR(D3-VLOOKUP(B3,Rajtlista!B:J,7,FALSE),"") -> 0.014375
A4: 5 | B4: =A4 -> 5 | C4: 43701 | D4: 0.43392361 | E4: 0.42256944 | F4: =IFERROR(VLOOKUP(B4,reader!A:D,4,FALSE),"") | G4: =IF(F4="","",IF(D4>F4,"-",IF(D4<F4,"+",""))) | H4: =IF(F4="","",ABS(F4-D4)) | J4: =IF(B4="-","",IF(COUNTIFS($B$1:B3,B4)>0,"MÁR BEFUTOTT!",IF(COUNTIFS(Rajtlista!B:B,B4)=1,"","Nincs ilyen rsz!"))) | K4: =IFERROR(VLOOKUP(B4,Rajtlista!B:I,2,FALSE),"") -> Maus Virág | L4: =IFERROR(VLOOKUP(B4,Rajtlista!B:J,6,FALSE),"") -> Budenz József Általános Iskola és Gimnázium | M4: =IFERROR(VLOOKUP(B4,Rajtlista!B:I,3,FALSE),"") -> I. kcs. Leány (2011-) - 0,5 km klasszikus | N4: =IFERROR(D4-VLOOKUP(B4,Rajtlista!B:J,7,FALSE),"") -> 0.015520833
A5: 1 | B5: =A5 -> 1 | C5: 43701 | D5: 0.43527778 | E5: 0.42256944 | F5: =IFERROR(VLOOKUP(B5,reader!A:D,4,FALSE),"") | G5: =IF(F5="","",IF(D5>F5,"-",IF(D5<F5,"+",""))) | H5: =IF(F5="","",ABS(F5-D5)) | J5: =IF(B5="-","",IF(COUNTIFS($B$1:B4,B5)>0,"MÁR BEFUTOTT!",IF(COUNTIFS(Rajtlista!B:B,B5)=1,"","Nincs ilyen rsz!"))) | K5: =IFERROR(VLOOKUP(B5,Rajtlista!B:I,2,FALSE),"") -> Nagy Sarolta | L5: =IFERROR(VLOOKUP(B5,Rajtlista!B:J,6,FALSE),"") -> József Nádor Általános Iskola és Alapfokú Művészeti Iskola (ÖKO Iskola) | M5: =IFERROR(VLOOKUP(B5,Rajtlista!B:I,3,FALSE),"") -> I. kcs. Leány (2011-) - 0,5 km klasszikus | N5: =IFERROR(D5-VLOOKUP(B5,Rajtlista!B:J,7,FALSE),"") -> 0.018263889
A6: 4 | B6: =A6 -> 4 | C6: 43701 | D6: 0.43737269 | E6: 0.42256944 | F6: =IFERROR(VLOOKUP(B6,reader!A:D,4,FALSE),"") | G6: =IF(F6="","",IF(D6>F6,"-",IF(D6<F6,"+",""))) | H6: =IF(F6="","",ABS(F6-D6)) | J6: =IF(B6="-","",IF(COUNTIFS($B$1:B5,B6)>0,"MÁR BEFUTOTT!",IF(COUNTIFS(Rajtlista!B:B,B6)=1,"","Nincs ilyen rsz!"))) | K6: =IFERROR(VLOOKUP(B6,Rajtlista!B:I,2,FALSE),"") -> Sári Laura | L6: =IFERROR(VLOOKUP(B6,Rajtlista!B:J,6,FALSE),"") -> Prohászka Ottokár Orsolyita Gimnázium, Általános Iskola és Óvoda | M6: =IFERROR(VLOOKUP(B6,Rajtlista!B:I,3,FALSE),"") -> I. kcs. Leány (2011-) - 0,5 km klasszikus | N6: =IFERROR(D6-VLOOKUP(B6,Rajtlista!B:J,7,FALSE),"") -> 0.01931713
A7: 6 | B7: =A7 -> 6 | C7: 43701 | D7: 0.47447917 | E7: 0.42256944 | F7: =IFERROR(VLOOKUP(B7,reader!A:D,4,FALSE),"") | G7: =IF(F7="","",IF(D7>F7,"-",IF(D7<F7,"+",""))) | H7: =IF(F7="","",ABS(F7-D7)) | J7: =IF(B7="-","",IF(COUNTIFS($B$1:B6,B7)>0,"MÁR BEFUTOTT!",IF(COUNTIFS(Rajtlista!B:B,B7)=1,"","Nincs ilyen rsz!"))) | K7: =IFERROR(VLOOKUP(B7,Rajtlista!B:I,2,FALSE),"") -> Rosivall Emma Nóra | L7: =IFERROR(VLOOKUP(B7,Rajtlista!B:J,6,FALSE),"") -> Budenz József Általános Iskola és Gimnázium | M7: =IFERROR(VLOOKUP(B7,Rajtlista!B:I,3,FALSE),"") -> I. kcs. Leány (2011-) - 0,5 km klasszikus | N7: =IFERROR(D7-VLOOKUP(B7,Rajtlista!B:J,7,FALSE),"") -> 0.055729167
A8: 10 | B8: =A8 -> 10 | C8: 43701 | D8: 0.475 | E8: 0.42256944 | F8: =IFERROR(VLOOKUP(B8,reader!A:D,4,FALSE),"") | G8: =IF(F8="","",IF(D8>F8,"-",IF(D8<F8,"+",""))) | H8: =IF(F8="","",ABS(F8-D8)) | J8: =IF(B8="-","",IF(COUNTIFS($B$1:B7,B8)>0,"MÁR BEFUTOTT!",IF(COUNTIFS(Rajtlista!B:B,B8)=1,"","Nincs ilyen rsz!"))) | K8: =IFERROR(VLOOKUP(B8,Rajtlista!B:I,2,FALSE),"") -> Szabolcs Márton | L8: =IFERROR(VLOOKUP(B8,Rajtlista!B:J,6,FALSE),"") -> Gödi Németh László Általános Iskola és Alapfokú Művészeti Iskola | M8: =IFERROR(VLOOKUP(B8,Rajtlista!B:I,3,FALSE),"") -> I. kcs. Fiú (2011-) - 0,5 km klasszikus | N8: =IFERROR(D8-VLOOKUP(B8,Rajtlista!B:J,7,FALSE),"") -> 0.055902778
A9: 8 | B9: 11 | C9: 43701 | D9: 0.47707176 | E9: 0.42256944 | F9: =IFERROR(VLOOKUP(B9,reader!A:D,4,FALSE),"") | G9: =IF(F9="","",IF(D9>F9,"-",IF(D9<F9,"+",""))) | H9: =IF(F9="","",ABS(F9-D9)) | J9: =IF(B9="-","",IF(COUNTIFS($B$1:B8,B9)>0,"MÁR BEFUTOTT!",IF(COUNTIFS(Rajtlista!B:B,B9)=1,"","Nincs ilyen rsz!"))) | K9: =IFERROR(VLOOKUP(B9,Rajtlista!B:I,2,FALSE),"") -> Gergely Márton | L9: =IFERROR(VLOOKUP(B9,Rajtlista!B:J,6,FALSE),"") -> Budenz József Általános Iskola és Gimnázium | M9: =IFERROR(VLOOKUP(B9,Rajtlista!B:I,3,FALSE),"") -> I. kcs. Fiú (2011-) - 0,5 km klasszikus | N9: =IFERROR(D9-VLOOKUP(B9,Rajtlista!B:J,7,FALSE),"") -> 0.057627315
A10: 8 | B10: =A10 -> 8 | C10: 43701 | D10: 0.47871528 | E10: 0.42256944 | F10: =IFERROR(VLOOKUP(B10,reader!A:D,4,FALSE),"") | G10: =IF(F10="","",IF(D10>F10,"-",IF(D10<F10,"+",""))) | H10: =IF(F10="","",ABS(F10-D10)) | J10: =IF(B10="-","",IF(COUNTIFS($B$1:B9,B10)>0,"MÁR BEFUTOTT!",IF(COUNTIFS(Rajtlista!B:B,B10)=1,"","Nincs ilyen rsz!"))) | K10: =IFERROR(VLOOKUP(B10,Rajtlista!B:I,2,FALSE),"") -> Szabó Botond | L10: =IFERROR(VLOOKUP(B10,Rajtlista!B:J,6,FALSE),"") -> Gyöngyöshalászi Széchenyi István Általános Iskola | M10: =IFERROR(VLOOKUP(B10,Rajtlista!B:I,3,FALSE),"") -> I. kcs. Fiú (2011-) - 0,5 km klasszikus | N10: =IFERROR(D10-VLOOKUP(B10,Rajtlista!B:J,7,FALSE),"") -> 0.0603125
A11: 7 | B11: =A11 -> 7 | C11: 43701 | D11: 0.48547454 | E11: 0.42256944 | F11: =IFERROR(VLOOKUP(B11,reader!A:D,4,FALSE),"") | G11: =IF(F11="","",IF(D11>F11,"-",IF(D11<F11,"+",""))) | H11: =IF(F11="","",ABS(F11-D11)) | J11: =IF(B11="-","",IF(COUNTIFS($B$1:B10,B11)>0,"MÁR BEFUTOTT!",IF(COUNTIFS(Rajtlista!B:B,B11)=1,"","Nincs ilyen rsz!"))) | K11: =IFERROR(VLOOKUP(B11,Rajtlista!B:I,2,FALSE),"") -> Bozóki Barbara | L11: =IFERROR(VLOOKUP(B11,Rajtlista!B:J,6,FALSE),"") -> Péceli Integrált Oktatási Központ Általános Iskola és Gimnázium | M11: =IFERROR(VLOOKUP(B11,Rajtlista!B:I,3,FALSE),"") -> I. kcs. Leány (2011-) - 0,5 km klasszikus | N11: =IFERROR(D11-VLOOKUP(B11,Rajtlista!B:J,7,FALSE),"") -> 0.066377315
A12: 12 | B12: =A12 -> 12 | C12: 43701 | D12: 0.51269676 | E12: 0.42256944 | F12: =IFERROR(VLOOKUP(B12,reader!A:D,4,FALSE),"") | G12: =IF(F12="","",IF(D12>F12,"-",IF(D12<F12,"+",""))) | H12: =IF(F12="","",ABS(F12-D12)) | J12: =IF(B12="-","",IF(COUNTIFS($B$1:B11,B12)>0,"MÁR BEFUTOTT!",IF(COUNTIFS(Rajtlista!B:B,B12)=1,"","Nincs ilyen rsz!"))) | K12: =IFERROR(VLOOKUP(B12,Rajtlista!B:I,2,FALSE),"") -> Besze Regina Kira | L12: =IFERROR(VLOOKUP(B12,Rajtlista!B:J,6,FALSE),"") -> Gyöngyössolymosi Nagy Gyula Katolikus Általános Iskola és Alapfokú Művészeti Iskola | M12: =IFERROR(VLOOKUP(B12,Rajtlista!B:I,3,FALSE),"") -> II. kcs. Leány (2009-2010) - 1 km klasszikus | N12: =IFERROR(D12-VLOOKUP(B12,Rajtlista!B:J,7,FALSE),"") -> 0.050543981
A13: 14 | B13: =A13 -> 14 | C13: 43701 | D13: 0.5127662 | E13: 0.42256944 | F13: =IFERROR(VLOOKUP(B13,reader!A:D,4,FALSE),"") | G13: =IF(F13="","",IF(D13>F13,"-",IF(D13<F13,"+",""))) | H13: =IF(F13="","",ABS(F13-D13)) | J13: =IF(B13="-","",IF(COUNTIFS($B$1:B12,B13)>0,"MÁR BEFUTOTT!",IF(COUNTIFS(Rajtlista!B:B,B13)=1,"","Nincs ilyen rsz!"))) | K13: =IFERROR(VLOOKUP(B13,Rajtlista!B:I,2,FALSE),"") -> Jankó Boglárka Dóra | L13: =IFERROR(VLOOKUP(B13,Rajtlista!B:J,6,FALSE),"") -> Kesjár Csaba Általános Iskola | M13: =IFERROR(VLOOKUP(B13,Rajtlista!B:I,3,FALSE),"") -> II. kcs. Leány (2009-2010) - 1 km klasszikus | N13: =IFERROR(D13-VLOOKUP(B13,Rajtlista!B:J,7,FALSE),"") -> 0.049918981
A14: 16 | B14: =A14 -> 16 | C14: 43701 | D14: 0.51361111 | E14: 0.42256944 | F14: =IFERROR(VLOOKUP(B14,reader!A:D,4,FALSE),"") | G14: =IF(F14="","",IF(D14>F14,"-",IF(D14<F14,"+",""))) | H14: =IF(F14="","",ABS(F14-D14)) | J14: =IF(B14="-","",IF(COUNTIFS($B$1:B13,B14)>0,"MÁR BEFUTOTT!",IF(COUNTIFS(Rajtlista!B:B,B14)=1,"","Nincs ilyen rsz!"))) | K14: =IFERROR(VLOOKUP(B14,Rajtlista!B:I,2,FALSE),"") -> Zámbó Hanna | L14: =IFERROR(VLOOKUP(B14,Rajtlista!B:J,6,FALSE),"") -> Testnevelési Egyetem Gyakorló Sportiskolai Általános Iskola és Gimnázium | M14: =IFERROR(VLOOKUP(B14,Rajtlista!B:I,3,FALSE),"") -> II. kcs. Leány (2009-2010) - 1 km klasszikus | N14: =IFERROR(D14-VLOOKUP(B14,Rajtlista!B:J,7,FALSE),"") -> 0.050069444
A15: 13 | B15: =A15 -> 13 | C15: 43701 | D15: 0.51387731 | E15: 0.42256944 | F15: =IFERROR(VLOOKUP(B15,reader!A:D,4,FALSE),"") | G15: =IF(F15="","",IF(D15>F15,"-",IF(D15<F15,"+",""))) | H15: =IF(F15="","",ABS(F15-D15)) | J15: =IF(B15="-","",IF(COUNTIFS($B$1:B14,B15)>0,"MÁR BEFUTOTT!",IF(COUNTIFS(Rajtlista!B:B,B15)=1,"","Nincs ilyen rsz!"))) | K15: =IFERROR(VLOOKUP(B15,Rajtlista!B:I,2,FALSE),"") -> Katona Korinna | L15: =IFERROR(VLOOKUP(B15,Rajtlista!B:J,6,FALSE),"") -> Eszterházy Károly Egyetem Gyakorló Általános, Közép-, Alapfokú Művészeti Iskola és Pedagógiai Intézet | M15: =IFERROR(VLOOKUP(B15,Rajtlista!B:I,3,FALSE),"") -> II. kcs. Leány (2009-2010) - 1 km klasszikus | N15: =IFERROR(D15-VLOOKUP(B15,Rajtlista!B:J,7,FALSE),"") -> 0.051377315
A16: 17 | B16: =A16 -> 17 | C16: 43701 | D16: 0.51454861 | E16: 0.42256944 | F16: =IFERROR(VLOOKUP(B16,reader!A:D,4,FALSE),"") | G16: =IF(F16="","",IF(D16>F16,"-",IF(D16<F16,"+",""))) | H16: =IF(F16="","",ABS(F16-D16)) | J16: =IF(B16="-","",IF(COUNTIFS($B$1:B15,B16)>0,"MÁR BEFUTOTT!",IF(COUNTIFS(Rajtlista!B:B,B16)=1,"","Nincs ilyen rsz!"))) | K16: =IFERROR(VLOOKUP(B16,Rajtlista!B:I,2,FALSE),"") -> Varga Léna | L16: =IFERROR(VLOOKUP(B16,Rajtlista!B:J,6,FALSE),"") -> ELTE Gyertyánffy István Gyakorló Általános Iskola | M16: =IFERROR(VLOOKUP(B16,Rajtlista!B:I,3,FALSE),"") -> II. kcs. Leány (2009-2010) - 1 km klasszikus | N16: =IFERROR(D16-VLOOKUP(B16,Rajtlista!B:J,7,FALSE),"") -> 0.050659722
A17: 18 | B17: =A17 -> 18 | C17: 43701 | D17: 0.51540509 | E17: 0.42256944 | F17: =IFERROR(VLOOKUP(B17,reader!A:D,4,FALSE),"") | G17: =IF(F17="","",IF(D17>F17,"-",IF(D17<F17,"+",""))) | H17: =IF(F17="","",ABS(F17-D17)) | J17: =IF(B17="-","",IF(COUNTIFS($B$1:B16,B17)>0,"MÁR BEFUTOTT!",IF(COUNTIFS(Rajtlista!B:B,B17)=1,"","Nincs ilyen rsz!"))) | K17: =IFERROR(VLOOKUP(B17,Rajtlista!B:I,2,FALSE),"") -> Ágoston Dalma | L17: =IFERROR(VLOOKUP(B17,Rajtlista!B:J,6,FALSE),"") -> Nivegy-völgyi Német Nemzetiségi Nyelvoktató Általános Iskola és Alapfokú Művészeti Iskola | M17: =IFERROR(VLOOKUP(B17,Rajtlista!B:I,3,FALSE),"") -> II. kcs. Leány (2009-2010) - 1 km klasszikus | N17: =IFERROR(D17-VLOOKUP(B17,Rajtlista!B:J,7,FALSE),"") -> 0.051168981
A18: 15 | B18: =A18 -> 15 | C18: 43701 | D18: 0.51578704 | E18: 0.42256944 | F18: =IFERROR(VLOOKUP(B18,reader!A:D,4,FALSE),"") | G18: =IF(F18="","",IF(D18>F18,"-",IF(D18<F18,"+",""))) | H18: =IF(F18="","",ABS(F18-D18)) | J18: =IF(B18="-","",IF(COUNTIFS($B$1:B17,B18)>0,"MÁR BEFUTOTT!",IF(COUNTIFS(Rajtlista!B:B,B18)=1,"","Nincs ilyen rsz!"))) | K18: =IFERROR(VLOOKUP(B18,Rajtlista!B:I,2,FALSE),"") -> Kovács Nóra | L18: =IFERROR(VLOOKUP(B18,Rajtlista!B:J,6,FALSE),"") -> Újbudai Ádám Jenő Általános Iskola | M18: =IFERROR(VLOOKUP(B18,Rajtlista!B:I,3,FALSE),"") -> II. kcs. Leány (2009-2010) - 1 km klasszikus | N18: =IFERROR(D18-VLOOKUP(B18,Rajtlista!B:J,7,FALSE),"") -> 0.052592593
A19: 19 | B19: =A19 -> 19 | C19: 43701 | D19: 0.54554398 | E19: 0.42256944 | F19: =IFERROR(VLOOKUP(B19,reader!A:D,4,FALSE),"") | G19: =IF(F19="","",IF(D19>F19,"-",IF(D19<F19,"+",""))) | H19: =IF(F19="","",ABS(F19-D19)) | J19: =IF(B19="-","",IF(COUNTIFS($B$1:B18,B19)>0,"MÁR BEFUTOTT!",IF(COUNTIFS(Rajtlista!B:B,B19)=1,"","Nincs ilyen rsz!"))) | K19: =IFERROR(VLOOKUP(B19,Rajtlista!B:I,2,FALSE),"") -> Előházi Johanna | L19: =IFERROR(VLOOKUP(B19,Rajtlista!B:J,6,FALSE),"") -> Gyöngyössolymosi Nagy Gyula Katolikus Általános Iskola és Alapfokú Művészeti Iskola | M19: =IFERROR(VLOOKUP(B19,Rajtlista!B:I,3,FALSE),"") -> II. kcs. Leány (2009-2010) - 1 km klasszikus | N19: =IFERROR(D19-VLOOKUP(B19,Rajtlista!B:J,7,FALSE),"") -> 0.080960648
A20: 21 | B20: =A20 -> 21 | C20: 43701 | D20: 0.54707176 | E20: 0.42256944 | F20: =IFERROR(VLOOKUP(B20,reader!A:D,4,FALSE),"") | G20: =IF(F20="","",IF(D20>F20,"-",IF(D20<F20,"+",""))) | H20: =IF(F20="","",ABS(F20-D20)) | J20: =IF(B20="-","",IF(COUNTIFS($B$1:B19,B20)>0,"MÁR BEFUTOTT!",IF(COUNTIFS(Rajtlista!B:B,B20)=1,"","Nincs ilyen rsz!"))) | K20: =IFERROR(VLOOKUP(B20,Rajtlista!B:I,2,FALSE),"") -> Cseke Zille Boglárka | L20: =IFERROR(VLOOKUP(B20,Rajtlista!B:J,6,FALSE),"") -> Albertfalvi Don Bosco Katolikus Általános Iskola és Óvoda | M20: =IFERROR(VLOOKUP(B20,Rajtlista!B:I,3,FALSE),"") -> II. kcs. Leány (2009-2010) - 1 km klasszikus | N20: =IFERROR(D20-VLOOKUP(B20,Rajtlista!B:J,7,FALSE),"") -> 0.081793981
A21: 13 | B21: 23 | C21: 43701 | D21: 0.54710648 | E21: 0.42256944 | F21: =IFERROR(VLOOKUP(B21,reader!A:D,4,FALSE),"") | G21: =IF(F21="","",IF(D21>F21,"-",IF(D21<F21,"+",""))) | H21: =IF(F21="","",ABS(F21-D21)) | J21: =IF(B21="-","",IF(COUNTIFS($B$1:B20,B21)>0,"MÁR BEFUTOTT!",IF(COUNTIFS(Rajtlista!B:B,B21)=1,"","Nincs ilyen rsz!"))) | K21: =IFERROR(VLOOKUP(B21,Rajtlista!B:I,2,FALSE),"") -> Mikola Márk | L21: =IFERROR(VLOOKUP(B21,Rajtlista!B:J,6,FALSE),"") -> Gyöngyössolymosi Nagy Gyula Katolikus Általános Iskola és Alapfokú Művészeti Iskola | M21: =IFERROR(VLOOKUP(B21,Rajtlista!B:I,3,FALSE),"") -> II. kcs. Fiú (2009-2010) - 1 km klasszikus | N21: =IFERROR(D21-VLOOKUP(B21,Rajtlista!B:J,7,FALSE),"") -> 0.046759259
A22: 22 | B22: =A22 -> 22 | C22: 43701 | D22: 0.54747685 | E22: 0.42256944 | F22: =IFERROR(VLOOKUP(B22,reader!A:D,4,FALSE),"") | G22: =IF(F22="","",IF(D22>F22,"-",IF(D22<F22,"+",""))) | H22: =IF(F22="","",ABS(F22-D22)) | J22: =IF(B22="-","",IF(COUNTIFS($B$1:B21,B22)>0,"MÁR BEFUTOTT!",IF(COUNTIFS(Rajtlista!B:B,B22)=1,"","Nincs ilyen rsz!"))) | K22: =IFERROR(VLOOKUP(B22,Rajtlista!B:I,2,FALSE),"") -> Bozóki Tamara | L22: =IFERROR(VLOOKUP(B22,Rajtlista!B:J,6,FALSE),"") -> Péceli Integrált Oktatási Központ Általános Iskola és Gimnázium | M22: =IFERROR(VLOOKUP(B22,Rajtlista!B:I,3,FALSE),"") -> II. kcs. Leány (2009-2010) - 1 km klasszikus | N22: =IFERROR(D22-VLOOKUP(B22,Rajtlista!B:J,7,FALSE),"") -> 0.081851852
A23: 25 | B23: =A23 -> 25 | C23: 43701 | D23: 0.54840278 | E23: 0.42256944 | F23: =IFERROR(VLOOKUP(B23,reader!A:D,4,FALSE),"") | G23: =IF(F23="","",IF(D23>F23,"-",IF(D23<F23,"+",""))) | H23: =IF(F23="","",ABS(F23-D23)) | J23: =IF(B23="-","",IF(COUNTIFS($B$1:B22,B23)>0,"MÁR BEFUTOTT!",IF(COUNTIFS(Rajtlista!B:B,B23)=1,"","Nincs ilyen rsz!"))) | K23: =IFERROR(VLOOKUP(B23,Rajtlista!B:I,2,FALSE),"") -> Telek Dominik | L23: =IFERROR(VLOOKUP(B23,Rajtlista!B:J,6,FALSE),"") -> Gyöngyössolymosi Nagy Gyula Katolikus Általános Iskola és Alapfokú Művészeti Iskola | M23: =IFERROR(VLOOKUP(B23,Rajtlista!B:I,3,FALSE),"") -> II. kcs. Fiú (2009-2010) - 1 km klasszikus | N23: =IFERROR(D23-VLOOKUP(B23,Rajtlista!B:J,7,FALSE),"") -> 0.047361111
