Workbook

Sheet Kategóriák
B1: SÍFUTÓ DIÁKOLIMPIA - 2020.02.12. - Mátraszentistván
B2: Egyéni futam / Individual Race
B3: K A T E G Ó R I Á K
B5: Ssz. | C5: Kategória | D5: Szül.év | E5: Kategória teljes neve | F5: Táv | H5: Lövészet | M5: Stílus | N5: Nevezők száma | Q5: Teljes lista
B6: 1 | C6: I. kcs. Leány | D6: 2011- | E6: =CONCATENATE(C6," (",D6,") - ",F6," ",G6," ",M6) -> I. kcs. Leány (2011-) - 0,5 km klasszikus | F6: 0.5 | G6: km | M6: klasszikus | N6: =SUMIF(Rajtlista!D:D,Kategóriák!C6,Rajtlista!J:J) -> 0 | Q6: Gyermek II. Fiúk
B7: 2 | C7: I. kcs. Fiú | D7: 2011- | E7: =CONCATENATE(C7," (",D7,") - ",F7," ",G7," ",M7) -> I. kcs. Fiú (2011-) - 0,5 km klasszikus | F7: 0.5 | G7: =$G$6 -> km | M7: klasszikus | N7: =SUMIF(Rajtlista!D:D,Kategóriák!C7,Rajtlista!J:J) -> 0 | Q7: Gyermek II. Lányok
B8: 3 | C8: II. kcs. Leány | D8: 2009-2010 | E8: =CONCATENATE(C8," (",D8,") - ",F8," ",G8," ",M8) -> II. kcs. Leány (2009-2010) - 1 km klasszikus | F8: 1 | G8: =$G$6 -> km | M8: klasszikus | N8: =SUMIF(Rajtlista!D:D,Kategóriák!C8,Rajtlista!J:J) -> 0 | Q8: Gyermek I. Fiúk
B9: 4 | C9: II. kcs. Fiú | D9: 2009-2010 | E9: =CONCATENATE(C9," (",D9,") - ",F9," ",G9," ",M9) -> II. kcs. Fiú (2009-2010) - 1 km klasszikus | F9: 1 | G9: =$G$6 -> km | M9: klasszikus | N9: =SUMIF(Rajtlista!D:D,Kategóriák!C9,Rajtlista!J:J) -> 0 | Q9: Gyermek I. Lányok
B10: 5 | C10: III. kcs. Leány | D10: 2007-2008 | E10: =CONCATENATE(C10," (",D10,") - ",F10," ",G10," ",M10) -> III. kcs. Leány (2007-2008) - 1,5 km klasszikus | F10: 1.5 | G10: =$G$6 -> km | M10: klasszikus | N10: =SUMIF(Rajtlista!D:D,Kategóriák!C10,Rajtlista!J:J) -> 0 | Q10: Serdülő II. Fiúk
B11: 6 | C11: III. kcs. Fiú | D11: 2007-2008 | E11: =CONCATENATE(C11," (",D11,") - ",F11," ",G11," ",M11) -> III. kcs. Fiú (2007-2008) - 1,5 km klasszikus | F11: 1.5 | G11: =$G$6 -> km | M11: klasszikus | N11: =SUMIF(Rajtlista!D:D,Kategóriák!C11,Rajtlista!J:J) -> 0 | Q11: Serdülő II. Lányok
B12: 7 | C12: IV. kcs. Leány | D12: 2005-2006 | E12: =CONCATENATE(C12," (",D12,") - ",F12," ",G12," ",M12) -> IV. kcs. Leány (2005-2006) - 1 km szabadstílus | F12: 1 | G12: =$G$6 -> km | M12: szabadstílus | N12: =SUMIF(Rajtlista!D:D,Kategóriák!C12,Rajtlista!J:J) -> 0 | Q12: Serdülő I. Fiúk
B13: 8 | C13: IV. kcs. Fiú | D13: 2005-2006 | E13: =CONCATENATE(C13," (",D13,") - ",F13," ",G13," ",M13) -> IV. kcs. Fiú (2005-2006) - 1 km szabadstílus | F13: 1 | G13: =$G$6 -> km | M13: szabadstílus | N13: =SUMIF(Rajtlista!D:D,Kategóriák!C13,Rajtlista!J:J) -> 0 | Q13: Serdülő I. Lányok
B14: 9 | C14: V. kcs. Leány | D14: 2003-2004 | E14: =CONCATENATE(C14," (",D14,") - ",F14," ",G14," ",M14) -> V. kcs. Leány (2003-2004) - 2 km szabadstílus | F14: 2 | G14: km | M14: szabadstílus | N14: =SUMIF(Rajtlista!D:D,Kategóriák!C14,Rajtlista!J:J) -> 0 | Q14: Ifjúsági II. Fiúk
B15: 10 | C15: V. kcs. Fiú | D15: 2003-2004 | E15: =CONCATENATE(C15," (",D15,") - ",F15," ",G15," ",M15) -> V. kcs. Fiú (2003-2004) - 2 km szabadstílus | F15: 2 | G15: km | M15: szabadstílus | N15: =SUMIF(Rajtlista!D:D,Kategóriák!C15,Rajtlista!J:J) -> 0 | Q15: Ifjúsági II. Lányok
B16: 11 | C16: VI. kcs. Leány | D16: -2002 | E16: =CONCATENATE(C16," (",D16,") - ",F16," ",G16," ",M16) -> VI. kcs. Leány (-2002) - 3 km szabadstílus | F16: 3 | G16: km | M16: szabadstílus | N16: =SUMIF(Rajtlista!D:D,Kategóriák!C16,Rajtlista!J:J) -> 0 | Q16: Ifjúsági I. Fiúk
B17: 12 | C17: VI. kcs. Fiú | D17: -2002 | E17: =CONCATENATE(C17," (",D17,") - ",F17," ",G17," ",M17) -> VI. kcs. Fiú (-2002) - 3 km szabadstílus | F17: 3 | G17: km | M17: szabadstílus | N17: =SUMIF(Rajtlista!D:D,Kategóriák!C17,Rajtlista!J:J) -> 0 | Q17: Ifjúsági I. Lányok
B18: 13 | N18: =SUMIF(Rajtlista!D:D,Kategóriák!C18,Rajtlista!J:J) -> 0 | Q18: Junior Fiúk
B19: 14 | N19: =SUMIF(Rajtlista!D:D,Kategóriák!C19,Rajtlista!J:J) -> 0 | Q19: Junior Lányok
B20: 15 | N20: =SUMIF(Rajtlista!D:D,Kategóriák!C20,Rajtlista!J:J) -> 0 | Q20: Felnőtt Férfi
B21: 16 | N21: =SUMIF(Rajtlista!D:D,Kategóriák!C21,Rajtlista!J:J) -> 0 | Q21: Felnőtt Női
B22: 17 | N22: =SUMIF(Rajtlista!D:D,Kategóriák!C22,Rajtlista!J:J) -> 0 | Q22: Masters I. Férfi
B23: 18 | N23: =SUMIF(Rajtlista!D:D,Kategóriák!C23,Rajtlista!J:J) -> 0 | Q23: Masters I. Női
B24: 19 | N24: =SUMIF(Rajtlista!D:D,Kategóriák!C24,Rajtlista!J:J) -> 0 | Q24: Masters II. Férfi
C25: Összesen | N25: =SUM(N6:N24) -> 0 | Q25: Masters II. Női
Q26: Felnőtt Férfi - görkorcsolya
C27: Verseny: IBU szabályoknak megfelelőn kell a versenyzőnek egyénileg teljesíteni. | Q27: Felnőtt Női - görkorcsolya
C28: * segítséggel és kitámasztással
C29: ** kitámasztással | Q29: M 13-14 fiú (2004-2005)
Q30: W 13-14 leány (2004-2005)
C31: Eredmény: Az utolsó célba érkező után 15 percen belül kifüggesztésre kerül. | Q31: M 12-13 fiú (2006-2007)
C33: Óvás: 2.000 Ft óvási díj – írásban – a tájékoztató eredmény kifüggesztése után 15 percen belül) amely esetén az Óvási bizottság jár el az IBU-szabályok értelmében. Kedvező elbírálás esetén az óvási díj visszafizetésre kerül. | Q33: I. kcs. Leány
Q34: I. kcs. Fiú
Q35: II. kcs. Leány
Q36: II. kcs. Fiú
Q37: III. kcs. Leány
Q38: III. kcs. Fiú
Q39: IV. kcs. Leány
Q40: IV. kcs. Fiú
Q41: V. kcs. Leány
Q42: V. kcs. Fiú
Q43: VI. kcs. Leány
Q44: VI. kcs. Fiú
Q57: W 12-13 leány (2006-2007)
... Q61: W 9 leány (2010- )

Sheet Versenyprogram
B1: =+Kategóriák!B1 -> SÍFUTÓ DIÁKOLIMPIA - 2020.02.12. - Mátraszentistván
B2: =+Kategóriák!B2 -> Egyéni futam / Individual Race
B3: VERSENYPROGRAM
C5: Galyatető – Biatlon: | H5: https://goo.gl/maps/24n25QXUYJK2
C7: 0.33333333 | D7: - | E7: 0.39583333 | H7: Rajtszámok kiosztása minden kategória számára.
H8: Minden rajt előtt fegyverjelölés a megfelelő kategóriának.
H9: Egyénenkénti indítás, 30 másodpercenként | L9: IDŐINTERVALLUM | N9: VERSENYZŐK EGYESÜLETENKÉNT
C10: =+E7 -> 0.39583333 | D10: - | E10: =+C10+1/24/60*25 -> 0.41319444 | G10: belövés | H10: M 13-14 fiú (2004-2005) | L10: =E10-C10 -> 0.017361111 | N10: Csíkszereda | O10: Honvéd Zalka SE | P10: Miskolci Honvéd SE | Q10: Nordsport 2011 SE | R10: Panoráma SE | S10: Predajna | T10: Vasas SC | U10: Összesen
G11: belövés | H11: W 13-14 leány (2004-2005)
C12: =+E10+1/24/60*5 -> 0.41666667 | D12: - | E12: =+C12+1/24/60*35 -> 0.44097222 | G12: rajt | H12: M 13-14 fiú (2004-2005) | I12: =VLOOKUP(H12,Kategóriák!$C$5:$N$25,4,FALSE) -> #N/A | J12: =U12 -> 0 | L12: =E12-C12 -> 0.024305556 | N12: =IFERROR(VLOOKUP($H12,'Nevezési lista'!$O$7:$Y$29,MATCH(Versenyprogram!N$10,'Nevezési lista'!$O$7:$Y$7,0),FALSE),"") | O12: =IFERROR(VLOOKUP($H12,'Nevezési lista'!$O$7:$Y$29,MATCH(Versenyprogram!O$10,'Nevezési lista'!$O$7:$Y$7,0),FALSE),"") | P12: =IFERROR(VLOOKUP($H12,'Nevezési lista'!$O$7:$Y$29,MATCH(Versenyprogram!P$10,'Nevezési lista'!$O$7:$Y$7,0),FALSE),"") | Q12: =IFERROR(VLOOKUP($H12,'Nevezési lista'!$O$7:$Y$29,MATCH(Versenyprogram!Q$10,'Nevezési lista'!$O$7:$Y$7,0),FALSE),"") | R12: =IFERROR(VLOOKUP($H12,'Nevezési lista'!$O$7:$Y$29,MATCH(Versenyprogram!R$10,'Nevezési lista'!$O$7:$Y$7,0),FALSE),"") | S12: =IFERROR(VLOOKUP($H12,'Nevezési lista'!$O$7:$Y$29,MATCH(Versenyprogram!S$10,'Nevezési lista'!$O$7:$Y$7,0),FALSE),"") | T12: =IFERROR(VLOOKUP($H12,'Nevezési lista'!$O$7:$Y$29,MATCH(Versenyprogram!T$10,'Nevezési lista'!$O$7:$Y$7,0),FALSE),"") | U12: =SUM(N12:T12) -> 0
G13: rajt | H13: W 13-14 leány (2004-2005) | I13: =VLOOKUP(H13,Kategóriák!$C$5:$N$25,4,FALSE) -> #N/A | J13: =U13 -> 0 | N13: =IFERROR(VLOOKUP($H13,'Nevezési lista'!$O$7:$Y$29,MATCH(Versenyprogram!N$10,'Nevezési lista'!$O$7:$Y$7,0),FALSE),"") | O13: =IFERROR(VLOOKUP($H13,'Nevezési lista'!$O$7:$Y$29,MATCH(Versenyprogram!O$10,'Nevezési lista'!$O$7:$Y$7,0),FALSE),"") | P13: =IFERROR(VLOOKUP($H13,'Nevezési lista'!$O$7:$Y$29,MATCH(Versenyprogram!P$10,'Nevezési lista'!$O$7:$Y$7,0),FALSE),"") | Q13: =IFERROR(VLOOKUP($H13,'Nevezési lista'!$O$7:$Y$29,MATCH(Versenyprogram!Q$10,'Nevezési lista'!$O$7:$Y$7,0),FALSE),"") | R13: =IFERROR(VLOOKUP($H13,'Nevezési lista'!$O$7:$Y$29,MATCH(Versenyprogram!R$10,'Nevezési lista'!$O$7:$Y$7,0),FALSE),"") | S13: =IFERROR(VLOOKUP($H13,'Nevezési lista'!$O$7:$Y$29,MATCH(Versenyprogram!S$10,'Nevezési lista'!$O$7:$Y$7,0),FALSE),"") | T13: =IFERROR(VLOOKUP($H13,'Nevezési lista'!$O$7:$Y$29,MATCH(Versenyprogram!T$10,'Nevezési lista'!$O$7:$Y$7,0),FALSE),"") | U13: =SUM(N13:T13) -> 0
C14: =+E12 -> 0.44097222 | D14: - | E14: =+C14+1/24/60*25 -> 0.45833333 | G14: belövés | H14: M 12-13 fiú (2006-2007) | L14: =E14-C14 -> 0.017361111
C15: =+E14+1/24/60*5 -> 0.46180556 | D15: - | E15: =+C15+1/24/60*30 -> 0.48263889 | G15: rajt | H15: M 12-13 fiú (2006-2007) | I15: =VLOOKUP(H15,Kategóriák!$C$5:$N$25,4,FALSE) -> #N/A | J15: =U15 -> 0 | L15: =E15-C15 -> 0.020833333 | N15: =IFERROR(VLOOKUP($H15,'Nevezési lista'!$O$7:$Y$29,MATCH(Versenyprogram!N$10,'Nevezési lista'!$O$7:$Y$7,0),FALSE),"") | O15: =IFERROR(VLOOKUP($H15,'Nevezési lista'!$O$7:$Y$29,MATCH(Versenyprogram!O$10,'Nevezési lista'!$O$7:$Y$7,0),FALSE),"") | P15: =IFERROR(VLOOKUP($H15,'Nevezési lista'!$O$7:$Y$29,MATCH(Versenyprogram!P$10,'Nevezési lista'!$O$7:$Y$7,0),FALSE),"") | Q15: =IFERROR(VLOOKUP($H15,'Nevezési lista'!$O$7:$Y$29,MATCH(Versenyprogram!Q$10,'Nevezési lista'!$O$7:$Y$7,0),FALSE),"") | R15: =IFERROR(VLOOKUP($H15,'Nevezési lista'!$O$7:$Y$29,MATCH(Versenyprogram!R$10,'Nevezési lista'!$O$7:$Y$7,0),FALSE),"") | S15: =IFERROR(VLOOKUP($H15,'Nevezési lista'!$O$7:$Y$29,MATCH(Versenyprogram!S$10,'Nevezési lista'!$O$7:$Y$7,0),FALSE),"") | T15: =IFERROR(VLOOKUP($H15,'Nevezési lista'!$O$7:$Y$29,MATCH(Versenyprogram!T$10,'Nevezési lista'!$O$7:$Y$7,0),FALSE),"") | U15: =SUM(N15:T15) -> 0
C16: =+E15 -> 0.48263889 | D16: - | E16: =+C16+1/24/60*20 -> 0.49652778 | G16: belövés | H16: W 12-13 leány (2006-2007) | L16: =E16-C16 -> 0.013888889
C17: =+E16+1/24/60*5 -> 0.5 | D17: - | E17: =+C17+1/24/60*30 -> 0.52083333 | G17: rajt | H17: W 12-13 leány (2006-2007) | I17: =VLOOKUP(H17,Kategóriák!$C$5:$N$25,4,FALSE) -> #N/A | J17: =U17 -> 0 | L17: =E17-C17 -> 0.020833333 | N17: =IFERROR(VLOOKUP($H17,'Nevezési lista'!$O$7:$Y$29,MATCH(Versenyprogram!N$10,'Nevezési lista'!$O$7:$Y$7,0),FALSE),"") | O17: =IFERROR(VLOOKUP($H17,'Nevezési lista'!$O$7:$Y$29,MATCH(Versenyprogram!O$10,'Nevezési lista'!$O$7:$Y$7,0),FALSE),"") | P17: =IFERROR(VLOOKUP($H17,'Nevezési lista'!$O$7:$Y$29,MATCH(Versenyprogram!P$10,'Nevezési lista'!$O$7:$Y$7,0),FALSE),"") | Q17: =IFERROR(VLOOKUP($H17,'Nevezési lista'!$O$7:$Y$29,MATCH(Versenyprogram!Q$10,'Nevezési lista'!$O$7:$Y$7,0),FALSE),"") | R17: =IFERROR(VLOOKUP($H17,'Nevezési lista'!$O$7:$Y$29,MATCH(Versenyprogram!R$10,'Nevezési lista'!$O$7:$Y$7,0),FALSE),"") | S17: =IFERROR(VLOOKUP($H17,'Nevezési lista'!$O$7:$Y$29,MATCH(Versenyprogram!S$10,'Nevezési lista'!$O$7:$Y$7,0),FALSE),"") | T17: =IFERROR(VLOOKUP($H17,'Nevezési lista'!$O$7:$Y$29,MATCH(Versenyprogram!T$10,'Nevezési lista'!$O$7:$Y$7,0),FALSE),"") | U17: =SUM(N17:T17) -> 0
C18: =+E17 -> 0.52083333 | D18: - | E18: =+C18+1/24/60*20 -> 0.53472222 | G18: belövés | H18: M 10-11 fiú (2008-2009) | L18: =E18-C18 -> 0.013888889
C19: =+E18+1/24/60*5 -> 0.53819444 | D19: - | E19: =+C19+1/24/60*15 -> 0.54861111 | G19: rajt | H19: M 10-11 fiú (2008-2009) | I19: =VLOOKUP(H19,Kategóriák!$C$5:$N$25,4,FALSE) -> #N/A | J19: =U19 -> 0 | L19: =E19-C19 -> 0.010416667 | N19: =IFERROR(VLOOKUP($H19,'Nevezési lista'!$O$7:$Y$29,MATCH(Versenyprogram!N$10,'Nevezési lista'!$O$7:$Y$7,0),FALSE),"") | O19: =IFERROR(VLOOKUP($H19,'Nevezési lista'!$O$7:$Y$29,MATCH(Versenyprogram!O$10,'Nevezési lista'!$O$7:$Y$7,0),FALSE),"") | P19: =IFERROR(VLOOKUP($H19,'Nevezési lista'!$O$7:$Y$29,MATCH(Versenyprogram!P$10,'Nevezési lista'!$O$7:$Y$7,0),FALSE),"") | Q19: =IFERROR(VLOOKUP($H19,'Nevezési lista'!$O$7:$Y$29,MATCH(Versenyprogram!Q$10,'Nevezési lista'!$O$7:$Y$7,0),FALSE),"") | R19: =IFERROR(VLOOKUP($H19,'Nevezési lista'!$O$7:$Y$29,MATCH(Versenyprogram!R$10,'Nevezési lista'!$O$7:$Y$7,0),FALSE),"") | S19: =IFERROR(VLOOKUP($H19,'Nevezési lista'!$O$7:$Y$29,MATCH(Versenyprogram!S$10,'Nevezési lista'!$O$7:$Y$7,0),FALSE),"") | T19: =IFERROR(VLOOKUP($H19,'Nevezési lista'!$O$7:$Y$29,MATCH(Versenyprogram!T$10,'Nevezési lista'!$O$7:$Y$7,0),FALSE),"") | U19: =SUM(N19:T19) -> 0
C20: =+E19 -> 0.54861111 | D20: - | E20: =+C20+1/24/60*20 -> 0.5625 | G20: belövés | H20: W 10-11 leány (2008-2009) | L20: =E20-C20 -> 0.013888889
C21: =+E20+1/24/60*5 -> 0.56597222 | D21: - | E21: =+C21+1/24/60*15 -> 0.57638889 | G21: rajt | H21: W 10-11 leány (2008-2009) | I21: =VLOOKUP(H21,Kategóriák!$C$5:$N$25,4,FALSE) -> #N/A | J21: =U21 -> 0 | L21: =E21-C21 -> 0.010416667 | N21: =IFERROR(VLOOKUP($H21,'Nevezési lista'!$O$7:$Y$29,MATCH(Versenyprogram!N$10,'Nevezési lista'!$O$7:$Y$7,0),FALSE),"") | O21: =IFERROR(VLOOKUP($H21,'Nevezési lista'!$O$7:$Y$29,MATCH(Versenyprogram!O$10,'Nevezési lista'!$O$7:$Y$7,0),FALSE),"") | P21: =IFERROR(VLOOKUP($H21,'Nevezési lista'!$O$7:$Y$29,MATCH(Versenyprogram!P$10,'Nevezési lista'!$O$7:$Y$7,0),FALSE),"") | Q21: =IFERROR(VLOOKUP($H21,'Nevezési lista'!$O$7:$Y$29,MATCH(Versenyprogram!Q$10,'Nevezési lista'!$O$7:$Y$7,0),FALSE),"") | R21: =IFERROR(VLOOKUP($H21,'Nevezési lista'!$O$7:$Y$29,MATCH(Versenyprogram!R$10,'Nevezési lista'!$O$7:$Y$7,0),FALSE),"") | S21: =IFERROR(VLOOKUP($H21,'Nevezési lista'!$O$7:$Y$29,MATCH(Versenyprogram!S$10,'Nevezési lista'!$O$7:$Y$7,0),FALSE),"") | T21: =IFERROR(VLOOKUP($H21,'Nevezési lista'!$O$7:$Y$29,MATCH(Versenyprogram!T$10,'Nevezési lista'!$O$7:$Y$7,0),FALSE),"") | U21: =SUM(N21:T21) -> 0
C22: =+E21 -> 0.57638889 | D22: - | E22: =+C22+1/24/60*20 -> 0.59027778 | G22: belövés | H22: M 9 fiú (2010- ) | L22: =E22-C22 -> 0.013888889
C23: =+E22+1/24/60*5 -> 0.59375 | D23: - | E23: =+C23+1/24/60*15 -> 0.60416667 | G23: rajt | H23: M 9 fiú (2010- ) | I23: =VLOOKUP(H23,Kategóriák!$C$5:$N$25,4,FALSE) -> #N/A | J23: =U23 -> 0 | L23: =E23-C23 -> 0.010416667 | N23: =IFERROR(VLOOKUP($H23,'Nevezési lista'!$O$7:$Y$29,MATCH(Versenyprogram!N$10,'Nevezési lista'!$O$7:$Y$7,0),FALSE),"") | O23: =IFERROR(VLOOKUP($H23,'Nevezési lista'!$O$7:$Y$29,MATCH(Versenyprogram!O$10,'Nevezési lista'!$O$7:$Y$7,0),FALSE),"") | P23: =IFERROR(VLOOKUP($H23,'Nevezési lista'!$O$7:$Y$29,MATCH(Versenyprogram!P$10,'Nevezési lista'!$O$7:$Y$7,0),FALSE),"") | Q23: =IFERROR(VLOOKUP($H23,'Nevezési lista'!$O$7:$Y$29,MATCH(Versenyprogram!Q$10,'Nevezési lista'!$O$7:$Y$7,0),FALSE),"") | R23: =IFERROR(VLOOKUP($H23,'Nevezési lista'!$O$7:$Y$29,MATCH(Versenyprogram!R$10,'Nevezési lista'!$O$7:$Y$7,0),FALSE),"") | S23: =IFERROR(VLOOKUP($H23,'Nevezési lista'!$O$7:$Y$29,MATCH(Versenyprogram!S$10,'Nevezési lista'!$O$7:$Y$7,0),FALSE),"") | T23: =IFERROR(VLOOKUP($H23,'Nevezési lista'!$O$7:$Y$29,MATCH(Versenyprogram!T$10,'Nevezési lista'!$O$7:$Y$7,0),FALSE),"") | U23: =SUM(N23:T23) -> 0
C24: =+E23 -> 0.60416667 | D24: - | E24: =+C24+1/24/60*20 -> 0.61805556 | G24: belövés | H24: W 9 leány (2010- ) | L24: =E24-C24 -> 0.013888889
C25: =+E24+1/24/60*0 -> 0.61805556 | D25: - | E25: =+C25+1/24/60*15 -> 0.62847222 | G25: rajt | H25: W 9 leány (2010- ) | I25: =VLOOKUP(H25,Kategóriák!$C$5:$N$25,4,FALSE) -> #N/A | J25: =U25 -> 0 | L25: =E25-C25 -> 0.010416667 | N25: =IFERROR(VLOOKUP($H25,'Nevezési lista'!$O$7:$Y$29,MATCH(Versenyprogram!N$10,'Nevezési lista'!$O$7:$Y$7,0),FALSE),"") | O25: =IFERROR(VLOOKUP($H25,'Nevezési lista'!$O$7:$Y$29,MATCH(Versenyprogram!O$10,'Nevezési lista'!$O$7:$Y$7,0),FALSE),"") | P25: =IFERROR(VLOOKUP($H25,'Nevezési lista'!$O$7:$Y$29,MATCH(Versenyprogram!P$10,'Nevezési lista'!$O$7:$Y$7,0),FALSE),"") | Q25: =IFERROR(VLOOKUP($H25,'Nevezési lista'!$O$7:$Y$29,MATCH(Versenyprogram!Q$10,'Nevezési lista'!$O$7:$Y$7,0),FALSE),"") | R25: =IFERROR(VLOOKUP($H25,'Nevezési lista'!$O$7:$Y$29,MATCH(Versenyprogram!R$10,'Nevezési lista'!$O$7:$Y$7,0),FALSE),"") | S25: =IFERROR(VLOOKUP($H25,'Nevezési lista'!$O$7:$Y$29,MATCH(Versenyprogram!S$10,'Nevezési lista'!$O$7:$Y$7,0),FALSE),"") | T25: =IFERROR(VLOOKUP($H25,'Nevezési lista'!$O$7:$Y$29,MATCH(Versenyprogram!T$10,'Nevezési lista'!$O$7:$Y$7,0),FALSE),"") | U25: =SUM(N25:T25) -> 0
N26: =SUM(N12:N25) -> 0 | O26: =SUM(O12:O25) -> 0 | P26: =SUM(P12:P25) -> 0 | Q26: =SUM(Q12:Q25) -> 0 | R26: =SUM(R12:R25) -> 0 | S26: =SUM(S12:S25) -> 0 | T26: =SUM(T12:T25) -> 0 | U26: =SUM(U12:U25) -> 0
C27: =MAX(C7:E25)+1/24/60*15 -> 0.63888889 | D27: - | E27: =+C27+1/24/2 -> 0.65972222 | G27: eredményhirdetés
C29: 0.625 | D29: - | E29: =+C29+1/24*3 -> 0.75 | G29: Családi- és sportnap biatlon, lövészet
C30: =+C29 -> 0.625 | D30: - | E30: =+C30+1/24*3 -> 0.75 | G30: Családi- és sportnap ügyességi síroller

Sheet Nevezési lista
B1: =+Kategóriák!B1 -> SÍFUTÓ DIÁKOLIMPIA - 2020.02.12. - Mátraszentistván
B2: =+Kategóriák!B2 -> Egyéni futam / Individual Race
B3: N E V E Z É S I L I S T A
B4: Ssz. | C4: Rsz | D4: Név | E4: Kategória | F4: Szül. | G4: Megye | H4: Iskola | I4: Kcs. | J4: Nem | K4: Kategória | L4: fő | O4: Név | P4: (mind)
B5: 1 | C5: 1 | D5: Nagy Sarolta | E5: =+K5 -> I. kcs. Leány | F5: 40881 | G5: Pest | H5: József Nádor Általános Iskola és Alapfokú Művészeti Iskola (ÖKO Iskola) | I5: I. | J5: leány | K5: I. kcs. Leány | L5: =IF(B5>0,1,0) -> 1
B6: 2 | C6: 2 | D6: Birner Léna Petra | E6: =+K6 -> I. kcs. Leány | F6: 40808 | G6: Heves | H6: Gyöngyösi Arany János Általános Iskola | I6: I. | J6: leány | K6: I. kcs. Leány | L6: =IF(B6>0,1,0) -> 1 | O6: Mennyiség / Rsz. | P6: Oszlopcímkék
B7: 3 | C7: 3 | D7: Gergely Lujza Piroska | E7: =+K7 -> I. kcs. Leány | F7: 41163 | G7: Budapest | H7: Budenz József Általános Iskola és Gimnázium | I7: I. | J7: leány | K7: I. kcs. Leány | L7: =IF(B7>0,1,0) -> 1 | O7: Sorcímkék | P7: Bács-Kiskun | Q7: Baranya | R7: Borsod-A-Z | S7: Budapest | T7: Győr-M-S | U7: Heves | V7: Komárom-E | W7: Nógrád | X7: Pest | Y7: Tolna | Z7: Veszprém | AA7: Végösszeg
B8: 4 | C8: 4 | D8: Sári Laura | E8: =+K8 -> I. kcs. Leány | F8: 41383 | G8: Győr-M-S | H8: Prohászka Ottokár Orsolyita Gimnázium, Általános Iskola és Óvoda | I8: I. | J8: leány | K8: I. kcs. Leány | L8: =IF(B8>0,1,0) -> 1 | O8: I. kcs. Leány | S8: 3 | T8: 1 | U8: 1 | X8: 2 | AA8: 7
B9: 5 | C9: 5 | D9: Maus Virág | E9: =+K9 -> I. kcs. Leány | F9: 40976 | G9: Budapest | H9: Budenz József Általános Iskola és Gimnázium | I9: I. | J9: leány | K9: I. kcs. Leány | L9: =IF(B9>0,1,0) -> 1 | O9: I. kcs. Fiú | S9: 1 | T9: 1 | U9: 1 | X9: 1 | AA9: 4
B10: 6 | C10: 6 | D10: Rosivall Emma Nóra | E10: =+K10 -> I. kcs. Leány | F10: 40806 | G10: Budapest | H10: Budenz József Általános Iskola és Gimnázium | I10: I. | J10: leány | K10: I. kcs. Leány | L10: =IF(B10>0,1,0) -> 1 | O10: II. kcs. Leány | S10: 5 | U10: 3 | X10: 2 | Z10: 1 | AA10: 11
B11: 7 | C11: 7 | D11: Bozóki Barbara | E11: =+K11 -> I. kcs. Leány | F11: 41388 | G11: Pest | H11: Péceli Integrált Oktatási Központ Általános Iskola és Gimnázium | I11: I. | J11: leány | K11: I. kcs. Leány | L11: =IF(B11>0,1,0) -> 1 | O11: II. kcs. Fiú | R11: 2 | S11: 5 | U11: 3 | V11: 1 | X11: 4 | Y11: 1 | AA11: 16
B12: 8 | C12: 8 | D12: Szabó Botond | E12: =+K12 -> I. kcs. Fiú | F12: 40819 | G12: Heves | H12: Gyöngyöshalászi Széchenyi István Általános Iskola | I12: I. | J12: fiú | K12: I. kcs. Fiú | L12: =IF(B12>0,1,0) -> 1 | O12: III. kcs. Leány | R12: 2 | S12: 4 | U12: 2 | X12: 1 | AA12: 9
B13: 9 | C13: 9 | D13: Lemberkovics Zalán Viktor | E13: =+K13 -> I. kcs. Fiú | F13: 40970 | G13: Győr-M-S | H13: Prohászka Ottokár Orsolyita Gimnázium, Általános Iskola és Óvoda | I13: I. | J13: fiú | K13: I. kcs. Fiú | L13: =IF(B13>0,1,0) -> 1 | O13: III. kcs. Fiú | P13: 1 | R13: 2 | S13: 3 | U13: 8 | X13: 2 | AA13: 16
B14: 10 | C14: 10 | D14: Szabolcs Márton | E14: =+K14 -> I. kcs. Fiú | F14: 41056 | G14: Pest | H14: Gödi Németh László Általános Iskola és Alapfokú Művészeti Iskola | I14: I. | J14: fiú | K14: I. kcs. Fiú | L14: =IF(B14>0,1,0) -> 1 | O14: IV. kcs. Leány | R14: 1 | S14: 5 | U14: 2 | W14: 1 | X14: 1 | AA14: 10
B15: 11 | C15: 11 | D15: Gergely Márton | E15: =+K15 -> I. kcs. Fiú | F15: 40597 | G15: Budapest | H15: Budenz József Általános Iskola és Gimnázium | I15: I. | J15: fiú | K15: I. kcs. Fiú | L15: =IF(B15>0,1,0) -> 1 | O15: IV. kcs. Fiú | P15: 1 | R15: 1 | S15: 3 | U15: 5 | X15: 1 | AA15: 11
B16: 12 | C16: 12 | D16: Besze Regina Kira | E16: =+K16 -> II. kcs. Leány | F16: 40084 | G16: Heves | H16: Gyöngyössolymosi Nagy Gyula Katolikus Általános Iskola és Alapfokú Művészeti Iskola | I16: II. | J16: leány | K16: II. kcs. Leány | L16: =IF(B16>0,1,0) -> 1 | O16: V. kcs. Leány | U16: 2 | AA16: 2
B17: 13 | C17: 13 | D17: Katona Korinna | E17: =+K17 -> II. kcs. Leány | F17: 40079 | G17: Heves | H17: Eszterházy Károly Egyetem Gyakorló Általános, Közép-, Alapfokú Művészeti Iskola és Pedagógiai Intézet | I17: II. | J17: leány | K17: II. kcs. Leány | L17: =IF(B17>0,1,0) -> 1 | O17: V. kcs. Fiú | P17: 1 | R17: 1 | S17: 2 | U17: 2 | X17: 1 | AA17: 7
B18: 14 | C18: 14 | D18: Jankó Boglárka Dóra | E18: =+K18 -> II. kcs. Leány | F18: 40253 | G18: Pest | H18: Kesjár Csaba Általános Iskola | I18: II. | J18: leány | K18: II. kcs. Leány | L18: =IF(B18>0,1,0) -> 1 | O18: VI. kcs. Leány | R18: 1 | S18: 1 | U18: 1 | X18: 1 | AA18: 4
B19: 15 | C19: 15 | D19: Kovács Nóra | E19: =+K19 -> II. kcs. Leány | F19: 40442 | G19: Budapest | H19: Újbudai Ádám Jenő Általános Iskola | I19: II. | J19: leány | K19: II. kcs. Leány | L19: =IF(B19>0,1,0) -> 1 | O19: VI. kcs. Fiú | Q19: 2 | S19: 3 | AA19: 5
B20: 16 | C20: 16 | D20: Zámbó Hanna | E20: =+K20 -> II. kcs. Leány | F20: 39862 | G20: Budapest | H20: Testnevelési Egyetem Gyakorló Sportiskolai Általános Iskola és Gimnázium | I20: II. | J20: leány | K20: II. kcs. Leány | L20: =IF(B20>0,1,0) -> 1 | O20: Végösszeg | P20: 3 | Q20: 2 | R20: 10 | S20: 35 | T20: 2 | U20: 30 | V20: 1 | W20: 1 | X20: 16 | Y20: 1 | Z20: 1 | AA20: 102
B21: 17 | C21: 17 | D21: Varga Léna | E21: =+K21 -> II. kcs. Leány | F21: 40394 | G21: Budapest | H21: ELTE Gyertyánffy István Gyakorló Általános Iskola | I21: II. | J21: leány | K21: II. kcs. Leány | L21: =IF(B21>0,1,0) -> 1
B22: 18 | C22: 18 | D22: Ágoston Dalma | E22: =+K22 -> II. kcs. Leány | F22: 40308 | G22: Veszprém | H22: Nivegy-völgyi Német Nemzetiségi Nyelvoktató Általános Iskola és Alapfokú Művészeti Iskola | I22: II. | J22: leány | K22: II. kcs. Leány | L22: =IF(B22>0,1,0) -> 1
B23: 19 | C23: 19 | D23: Előházi Johanna | E23: =+K23 -> II. kcs. Leány | F23: 40494 | G23: Heves | H23: Gyöngyössolymosi Nagy Gyula Katolikus Általános Iskola és Alapfokú Művészeti Iskola | I23: II. | J23: leány | K23: II. kcs. Leány | L23: =IF(B23>0,1,0) -> 1
B24: 20 | C24: 20 | D24: Cseke Villő Emese | E24: =+K24 -> II. kcs. Leány | F24: 40217 | G24: Budapest | H24: Albertfalvi Don Bosco Katolikus Általános Iskola és Óvoda | I24: II. | J24: leány | K24: II. kcs. Leány | L24: =IF(B24>0,1,0) -> 1
B25: 21 | C25: 21 | D25: Cseke Zille Boglárka | E25: =+K25 -> II. kcs. Leány | F25: 40217 | G25: Budapest | H25: Albertfalvi Don Bosco Katolikus Általános Iskola és Óvoda | I25: II. | J25: leány | K25: II. kcs. Leány | L25: =IF(B25>0,1,0) -> 1
B26: 22 | C26: 22 | D26: Bozóki Tamara | E26: =+K26 -> II. kcs. Leány | F26: 39839 | G26: Pest | H26: Péceli Integrált Oktatási Központ Általános Iskola és Gimnázium | I26: II. | J26: leány | K26: II. kcs. Leány | L26: =IF(B26>0,1,0) -> 1
B27: 23 | C27: 23 | D27: Mikola Márk | E27: =+K27 -> II. kcs. Fiú | F27: 40443 | G27: Heves | H27: Gyöngyössolymosi Nagy Gyula Katolikus Általános Iskola és Alapfokú Művészeti Iskola | I27: II. | J27: fiú | K27: II. kcs. Fiú | L27: =IF(B27>0,1,0) -> 1
B28: 24 | C28: 24 | D28: Feledy Bence | E28: =+K28 -> II. kcs. Fiú | F28: 39876 | G28: Borsod-A-Z | H28: Bükki Szlovák Nemzetiségi Általános Iskola | I28: II. | J28: fiú | K28: II. kcs. Fiú | L28: =IF(B28>0,1,0) -> 1
B29: 25 | C29: 25 | D29: Telek Dominik | E29: =+K29 -> II. kcs. Fiú | F29: 39867 | G29: Heves | H29: Gyöngyössolymosi Nagy Gyula Katolikus Általános Iskola és Alapfokú Művészeti Iskola | I29: II. | J29: fiú | K29: II. kcs. Fiú | L29: =IF(B29>0,1,0) -> 1
B30: 26 | C30: 26 | D30: Maus Márton | E30: =+K30 -> II. kcs. Fiú | F30: 40318 | G30: Budapest | H30: Budenz József Általános Iskola és Gimnázium | I30: II. | J30: fiú | K30: II. kcs. Fiú | L30: =IF(B30>0,1,0) -> 1
B31: 27 | C31: 27 | D31: Szabolcs Balázs | E31: =+K31 -> II. kcs. Fiú | F31: 40479 | G31: Pest | H31: Gödi Németh László Általános Iskola és Alapfokú Művészeti Iskola | I31: II. | J31: fiú | K31: II. kcs. Fiú | L31: =IF(B31>0,1,0) -> 1
B32: 28 | C32: 28 | D32: Harangozó Gyergely | E32: =+K32 -> II. kcs. Fiú | F32: 40029 | G32: Budapest | H32: Zugligeti Általános Iskola | I32: II. | J32: fiú | K32: II. kcs. Fiú | L32: =IF(B32>0,1,0) -> 1
... B106: 102 | C106: 102 | D106: Kovács Péter | E106: =+K106 -> VI. kcs. Fiú | F106: 37313 | G106: Budapest | H106: Budapesti Fazekas Mihály Gyakorló Általános Iskola és Gimnázium | I106: VI. | J106: fiú | K106: VI. kcs. Fiú | L106: =IF(B106>0,1,0) -> 1
B107: 103 | E107: =+K107 -> 0 | L107: =IF(B107>0,1,0) -> 1
B108: 104 | E108: =+K108 -> 0 | L108: =IF(B108>0,1,0) -> 1
B109: 105 | E109: =+K109 -> 0 | L109: =IF(B109>0,1,0) -> 1
B110: 106 | E110: =+K110 -> 0 | L110: =IF(B110>0,1,0) -> 1
B111: 107 | E111: =+K111 -> 0 | L111: =IF(B111>0,1,0) -> 1
B112: 108 | E112: =+K112 -> 0 | L112: =IF(B112>0,1,0) -> 1
L113: =IF(B113>0,1,0) -> 0
G116: Bács-Kiskun | H116: =SUMIF($G$5:$G$113,G116,$L$5:$L$113) -> 3
G117: Baranya | H117: =SUMIF($G$5:$G$113,G117,$L$5:$L$113) -> 2
G118: Borsod-A-Z | H118: =SUMIF($G$5:$G$113,G118,$L$5:$L$113) -> 10
G119: Budapest | H119: =SUMIF($G$5:$G$113,G119,$L$5:$L$113) -> 35
G120: Győr-M-S | H120: =SUMIF($G$5:$G$113,G120,$L$5:$L$113) -> 2
G121: Heves | H121: =SUMIF($G$5:$G$113,G121,$L$5:$L$113) -> 30
G122: Komárom-E | H122: =SUMIF($G$5:$G$113,G122,$L$5:$L$113) -> 1
G123: Nógrád | H123: =SUMIF($G$5:$G$113,G123,$L$5:$L$113) -> 1
G124: Pest | H124: =SUMIF($G$5:$G$113,G124,$L$5:$L$113) -> 16
G125: Tolna | H125: =SUMIF($G$5:$G$113,G125,$L$5:$L$113) -> 1
G126: Veszprém | H126: =SUMIF($G$5:$G$113,G126,$L$5:$L$113) -> 1
G128: Össz. | H128: =SUM(H116:H127) -> 102

Sheet Rajtlista
B1: =+Kategóriák!B1 -> SÍFUTÓ DIÁKOLIMPIA - 2020.02.12. - Mátraszentistván
B2: =+Kategóriák!B2 -> Egyéni futam / Individual Race
B3: R A J T L I S T A
B4: Rsz. | C4: Név | D4: Kategória | E4: Szül. | F4: Megye | G4: Iskola | H4: Rajt idő | I4: Megjegyzés
B5: =+Kategóriák!$E$6 -> I. kcs. Leány (2011-) - 0,5 km klasszikus | H5: 0.00034722222
B6: 1 | C6: =IFERROR(VLOOKUP($B6,'Nevezési lista'!$C$4:$K$116,MATCH(C$4,'Nevezési lista'!$C$4:$K$4,0),FALSE),"") -> Nagy Sarolta | D6: =+B5 -> I. kcs. Leány (2011-) - 0,5 km klasszikus | E6: =IFERROR(VLOOKUP($B6,'Nevezési lista'!$C$4:$K$116,MATCH(E$4,'Nevezési lista'!$C$4:$K$4,0),FALSE),"") -> 40881 | F6: =IFERROR(VLOOKUP($B6,'Nevezési lista'!$C$4:$K$116,MATCH(F$4,'Nevezési lista'!$C$4:$K$4,0),FALSE),"") -> Pest | G6: =IFERROR(VLOOKUP($B6,'Nevezési lista'!$C$4:$K$116,MATCH(G$4,'Nevezési lista'!$C$4:$K$4,0),FALSE),"") -> József Nádor Általános Iskola és Alapfokú Művészeti Iskola (ÖKO Iskola) | H6: =+Versenyprogram!C12+H5 -> 0.41701389 | J6: =IF(B6>0,1,0) -> 1
B7: 2 | C7: =IFERROR(VLOOKUP($B7,'Nevezési lista'!$C$4:$K$116,MATCH(C$4,'Nevezési lista'!$C$4:$K$4,0),FALSE),"") -> Birner Léna Petra | D7: =+D6 -> I. kcs. Leány (2011-) - 0,5 km klasszikus | E7: =IFERROR(VLOOKUP($B7,'Nevezési lista'!$C$4:$K$116,MATCH(E$4,'Nevezési lista'!$C$4:$K$4,0),FALSE),"") -> 40808 | F7: =IFERROR(VLOOKUP($B7,'Nevezési lista'!$C$4:$K$116,MATCH(F$4,'Nevezési lista'!$C$4:$K$4,0),FALSE),"") -> Heves | G7: =IFERROR(VLOOKUP($B7,'Nevezési lista'!$C$4:$K$116,MATCH(G$4,'Nevezési lista'!$C$4:$K$4,0),FALSE),"") -> Gyöngyösi Arany János Általános Iskola | H7: =H6+$H$5 -> 0.41736111 | J7: =IF(B7>0,1,0) -> 1
B8: 3 | C8: =IFERROR(VLOOKUP($B8,'Nevezési lista'!$C$4:$K$116,MATCH(C$4,'Nevezési lista'!$C$4:$K$4,0),FALSE),"") -> Gergely Lujza Piroska | D8: =+D7 -> I. kcs. Leány (2011-) - 0,5 km klasszikus | E8: =IFERROR(VLOOKUP($B8,'Nevezési lista'!$C$4:$K$116,MATCH(E$4,'Nevezési lista'!$C$4:$K$4,0),FALSE),"") -> 41163 | F8: =IFERROR(VLOOKUP($B8,'Nevezési lista'!$C$4:$K$116,MATCH(F$4,'Nevezési lista'!$C$4:$K$4,0),FALSE),"") -> Budapest | G8: =IFERROR(VLOOKUP($B8,'Nevezési lista'!$C$4:$K$116,MATCH(G$4,'Nevezési lista'!$C$4:$K$4,0),FALSE),"") -> Budenz József Általános Iskola és Gimnázium | H8: =H7+$H$5 -> 0.41770833 | J8: =IF(B8>0,1,0) -> 1
B9: 4 | C9: =IFERROR(VLOOKUP($B9,'Nevezési lista'!$C$4:$K$116,MATCH(C$4,'Nevezési lista'!$C$4:$K$4,0),FALSE),"") -> Sári Laura | D9: =+D8 -> I. kcs. Leány (2011-) - 0,5 km klasszikus | E9: =IFERROR(VLOOKUP($B9,'Nevezési lista'!$C$4:$K$116,MATCH(E$4,'Nevezési lista'!$C$4:$K$4,0),FALSE),"") -> 41383 | F9: =IFERROR(VLOOKUP($B9,'Nevezési lista'!$C$4:$K$116,MATCH(F$4,'Nevezési lista'!$C$4:$K$4,0),FALSE),"") -> Győr-M-S | G9: =IFERROR(VLOOKUP($B9,'Nevezési lista'!$C$4:$K$116,MATCH(G$4,'Nevezési lista'!$C$4:$K$4,0),FALSE),"") -> Prohászka Ottokár Orsolyita Gimnázium, Általános Iskola és Óvoda | H9: =H8+$H$5 -> 0.41805556 | J9: =IF(B9>0,1,0) -> 1
B10: 5 | C10: =IFERROR(VLOOKUP($B10,'Nevezési lista'!$C$4:$K$116,MATCH(C$4,'Nevezési lista'!$C$4:$K$4,0),FALSE),"") -> Maus Virág | D10: =+D9 -> I. kcs. Leány (2011-) - 0,5 km klasszikus | E10: =IFERROR(VLOOKUP($B10,'Nevezési lista'!$C$4:$K$116,MATCH(E$4,'Nevezési lista'!$C$4:$K$4,0),FALSE),"") -> 40976 | F10: =IFERROR(VLOOKUP($B10,'Nevezési lista'!$C$4:$K$116,MATCH(F$4,'Nevezési lista'!$C$4:$K$4,0),FALSE),"") -> Budapest | G10: =IFERROR(VLOOKUP($B10,'Nevezési lista'!$C$4:$K$116,MATCH(G$4,'Nevezési lista'!$C$4:$K$4,0),FALSE),"") -> Budenz József Általános Iskola és Gimnázium | H10: =H9+$H$5 -> 0.41840278 | J10: =IF(B10>0,1,0) -> 1
B11: 6 | C11: =IFERROR(VLOOKUP($B11,'Nevezési lista'!$C$4:$K$116,MATCH(C$4,'Nevezési lista'!$C$4:$K$4,0),FALSE),"") -> Rosivall Emma Nóra | D11: =+D10 -> I. kcs. Leány (2011-) - 0,5 km klasszikus | E11: =IFERROR(VLOOKUP($B11,'Nevezési lista'!$C$4:$K$116,MATCH(E$4,'Nevezési lista'!$C$4:$K$4,0),FALSE),"") -> 40806 | F11: =IFERROR(VLOOKUP($B11,'Nevezési lista'!$C$4:$K$116,MATCH(F$4,'Nevezési lista'!$C$4:$K$4,0),FALSE),"") -> Budapest | G11: =IFERROR(VLOOKUP($B11,'Nevezési lista'!$C$4:$K$116,MATCH(G$4,'Nevezési lista'!$C$4:$K$4,0),FALSE),"") -> Budenz József Általános Iskola és Gimnázium | H11: =H10+$H$5 -> 0.41875 | J11: =IF(B11>0,1,0) -> 1
B12: 7 | C12: =IFERROR(VLOOKUP($B12,'Nevezési lista'!$C$4:$K$116,MATCH(C$4,'Nevezési lista'!$C$4:$K$4,0),FALSE),"") -> Bozóki Barbara | D12: =+D11 -> I. kcs. Leány (2011-) - 0,5 km klasszikus | E12: =IFERROR(VLOOKUP($B12,'Nevezési lista'!$C$4:$K$116,MATCH(E$4,'Nevezési lista'!$C$4:$K$4,0),FALSE),"") -> 41388 | F12: =IFERROR(VLOOKUP($B12,'Nevezési lista'!$C$4:$K$116,MATCH(F$4,'Nevezési lista'!$C$4:$K$4,0),FALSE),"") -> Pest | G12: =IFERROR(VLOOKUP($B12,'Nevezési lista'!$C$4:$K$116,MATCH(G$4,'Nevezési lista'!$C$4:$K$4,0),FALSE),"") -> Péceli Integrált Oktatási Központ Általános Iskola és Gimnázium | H12: =H11+$H$5 -> 0.41909722 | J12: =IF(B12>0,1,0) -> 1
C13: =IFERROR(VLOOKUP($B13,'Nevezési lista'!$C$4:$K$116,MATCH(C$4,'Nevezési lista'!$C$4:$K$4,0),FALSE),"") | D13: =+D12 -> I. kcs. Leány (2011-) - 0,5 km klasszikus | E13: =IFERROR(VLOOKUP($B13,'Nevezési lista'!$C$4:$K$116,MATCH(E$4,'Nevezési lista'!$C$4:$K$4,0),FALSE),"") | F13: =IFERROR(VLOOKUP($B13,'Nevezési lista'!$C$4:$K$116,MATCH(F$4,'Nevezési lista'!$C$4:$K$4,0),FALSE),"") | G13: =IFERROR(VLOOKUP($B13,'Nevezési lista'!$C$4:$K$116,MATCH(G$4,'Nevezési lista'!$C$4:$K$4,0),FALSE),"") | H13: =H12+$H$5 -> 0.41944444 | J13: =IF(B13>0,1,0) -> 0
C14: =IFERROR(VLOOKUP($B14,'Nevezési lista'!$C$4:$K$116,MATCH(C$4,'Nevezési lista'!$C$4:$K$4,0),FALSE),"") | D14: =+D13 -> I. kcs. Leány (2011-) - 0,5 km klasszikus | E14: =IFERROR(VLOOKUP($B14,'Nevezési lista'!$C$4:$K$116,MATCH(E$4,'Nevezési lista'!$C$4:$K$4,0),FALSE),"") | F14: =IFERROR(VLOOKUP($B14,'Nevezési lista'!$C$4:$K$116,MATCH(F$4,'Nevezési lista'!$C$4:$K$4,0),FALSE),"") | G14: =IFERROR(VLOOKUP($B14,'Nevezési lista'!$C$4:$K$116,MATCH(G$4,'Nevezési lista'!$C$4:$K$4,0),FALSE),"") | H14: =H13+$H$5 -> 0.41979167 | J14: =IF(B14>0,1,0) -> 0
C15: =IFERROR(VLOOKUP($B15,'Nevezési lista'!$C$4:$K$116,MATCH(C$4,'Nevezési lista'!$C$4:$K$4,0),FALSE),"") | D15: =+D14 -> I. kcs. Leány (2011-) - 0,5 km klasszikus | E15: =IFERROR(VLOOKUP($B15,'Nevezési lista'!$C$4:$K$116,MATCH(E$4,'Nevezési lista'!$C$4:$K$4,0),FALSE),"") | F15: =IFERROR(VLOOKUP($B15,'Nevezési lista'!$C$4:$K$116,MATCH(F$4,'Nevezési lista'!$C$4:$K$4,0),FALSE),"") | G15: =IFERROR(VLOOKUP($B15,'Nevezési lista'!$C$4:$K$116,MATCH(G$4,'Nevezési lista'!$C$4:$K$4,0),FALSE),"") | H15: =H14+$H$5 -> 0.42013889 | J15: =IF(B15>0,1,0) -> 0
C16: =IFERROR(VLOOKUP($B16,'Nevezési lista'!$C$4:$K$116,MATCH(C$4,'Nevezési lista'!$C$4:$K$4,0),FALSE),"") | D16: =+D15 -> I. kcs. Leány (2011-) - 0,5 km klasszikus | E16: =IFERROR(VLOOKUP($B16,'Nevezési lista'!$C$4:$K$116,MATCH(E$4,'Nevezési lista'!$C$4:$K$4,0),FALSE),"") | F16: =IFERROR(VLOOKUP($B16,'Nevezési lista'!$C$4:$K$116,MATCH(F$4,'Nevezési lista'!$C$4:$K$4,0),FALSE),"") | G16: =IFERROR(VLOOKUP($B16,'Nevezési lista'!$C$4:$K$116,MATCH(G$4,'Nevezési lista'!$C$4:$K$4,0),FALSE),"") | H16: =H15+$H$5 -> 0.42048611 | J16: =IF(B16>0,1,0) -> 0
C17: =IFERROR(VLOOKUP($B17,'Nevezési lista'!$C$4:$K$116,MATCH(C$4,'Nevezési lista'!$C$4:$K$4,0),FALSE),"") | D17: =+D16 -> I. kcs. Leány (2011-) - 0,5 km klasszikus | E17: =IFERROR(VLOOKUP($B17,'Nevezési lista'!$C$4:$K$116,MATCH(E$4,'Nevezési lista'!$C$4:$K$4,0),FALSE),"") | F17: =IFERROR(VLOOKUP($B17,'Nevezési lista'!$C$4:$K$116,MATCH(F$4,'Nevezési lista'!$C$4:$K$4,0),FALSE),"") | G17: =IFERROR(VLOOKUP($B17,'Nevezési lista'!$C$4:$K$116,MATCH(G$4,'Nevezési lista'!$C$4:$K$4,0),FALSE),"") | H17: =H16+$H$5 -> 0.42083333 | J17: =IF(B17>0,1,0) -> 0
C18: =IFERROR(VLOOKUP($B18,'Nevezési lista'!$C$4:$K$116,MATCH(C$4,'Nevezési lista'!$C$4:$K$4,0),FALSE),"") | D18: =+D17 -> I. kcs. Leány (2011-) - 0,5 km klasszikus | E18: =IFERROR(VLOOKUP($B18,'Nevezési lista'!$C$4:$K$116,MATCH(E$4,'Nevezési lista'!$C$4:$K$4,0),FALSE),"") | F18: =IFERROR(VLOOKUP($B18,'Nevezési lista'!$C$4:$K$116,MATCH(F$4,'Nevezési lista'!$C$4:$K$4,0),FALSE),"") | G18: =IFERROR(VLOOKUP($B18,'Nevezési lista'!$C$4:$K$116,MATCH(G$4,'Nevezési lista'!$C$4:$K$4,0),FALSE),"") | H18: =H17+$H$5 -> 0.42118056 | J18: =IF(B18>0,1,0) -> 0
C19: =IFERROR(VLOOKUP($B19,'Nevezési lista'!$C$4:$K$116,MATCH(C$4,'Nevezési lista'!$C$4:$K$4,0),FALSE),"") | D19: =+D18 -> I. kcs. Leány (2011-) - 0,5 km klasszikus | E19: =IFERROR(VLOOKUP($B19,'Nevezési lista'!$C$4:$K$116,MATCH(E$4,'Nevezési lista'!$C$4:$K$4,0),FALSE),"") | F19: =IFERROR(VLOOKUP($B19,'Nevezési lista'!$C$4:$K$116,MATCH(F$4,'Nevezési lista'!$C$4:$K$4,0),FALSE),"") | G19: =IFERROR(VLOOKUP($B19,'Nevezési lista'!$C$4:$K$116,MATCH(G$4,'Nevezési lista'!$C$4:$K$4,0),FALSE),"") | H19: =H18+$H$5 -> 0.42152778 | J19: =IF(B19>0,1,0) -> 0
C20: =IFERROR(VLOOKUP($B20,'Nevezési lista'!$C$4:$K$116,MATCH(C$4,'Nevezési lista'!$C$4:$K$4,0),FALSE),"") | D20: =+D19 -> I. kcs. Leány (2011-) - 0,5 km klasszikus | E20: =IFERROR(VLOOKUP($B20,'Nevezési lista'!$C$4:$K$116,MATCH(E$4,'Nevezési lista'!$C$4:$K$4,0),FALSE),"") | F20: =IFERROR(VLOOKUP($B20,'Nevezési lista'!$C$4:$K$116,MATCH(F$4,'Nevezési lista'!$C$4:$K$4,0),FALSE),"") | G20: =IFERROR(VLOOKUP($B20,'Nevezési lista'!$C$4:$K$116,MATCH(G$4,'Nevezési lista'!$C$4:$K$4,0),FALSE),"") | H20: =H19+$H$5 -> 0.421875 | J20: =IF(B20>0,1,0) -> 0
B21: 0 | J21: =IF(B21>0,1,0) -> 0
B22: =+Kategóriák!$E$7 -> I. kcs. Fiú (2011-) - 0,5 km klasszikus | H22: 0.00034722222
B23: 8 | C23: =IFERROR(VLOOKUP($B23,'Nevezési lista'!$C$4:$K$116,MATCH(C$4,'Nevezési lista'!$C$4:$K$4,0),FALSE),"") -> Szabó Botond | D23: =+B22 -> I. kcs. Fiú (2011-) - 0,5 km klasszikus | E23: =IFERROR(VLOOKUP($B23,'Nevezési lista'!$C$4:$K$116,MATCH(E$4,'Nevezési lista'!$C$4:$K$4,0),FALSE),"") -> 40819 | F23: =IFERROR(VLOOKUP($B23,'Nevezési lista'!$C$4:$K$116,MATCH(F$4,'Nevezési lista'!$C$4:$K$4,0),FALSE),"") -> Heves | G23: =IFERROR(VLOOKUP($B23,'Nevezési lista'!$C$4:$K$116,MATCH(G$4,'Nevezési lista'!$C$4:$K$4,0),FALSE),"") -> Gyöngyöshalászi Széchenyi István Általános Iskola | H23: =H9+H22 -> 0.41840278 | J23: =IF(B23>0,1,0) -> 1
B24: 9 | C24: =IFERROR(VLOOKUP($B24,'Nevezési lista'!$C$4:$K$116,MATCH(C$4,'Nevezési lista'!$C$4:$K$4,0),FALSE),"") -> Lemberkovics Zalán Viktor | D24: =+D23 -> I. kcs. Fiú (2011-) - 0,5 km klasszikus | E24: =IFERROR(VLOOKUP($B24,'Nevezési lista'!$C$4:$K$116,MATCH(E$4,'Nevezési lista'!$C$4:$K$4,0),FALSE),"") -> 40970 | F24: =IFERROR(VLOOKUP($B24,'Nevezési lista'!$C$4:$K$116,MATCH(F$4,'Nevezési lista'!$C$4:$K$4,0),FALSE),"") -> Győr-M-S | G24: =IFERROR(VLOOKUP($B24,'Nevezési lista'!$C$4:$K$116,MATCH(G$4,'Nevezési lista'!$C$4:$K$4,0),FALSE),"") -> Prohászka Ottokár Orsolyita Gimnázium, Általános Iskola és Óvoda | H24: =H23+$H$22 -> 0.41875 | J24: =IF(B24>0,1,0) -> 1
B25: 10 | C25: =IFERROR(VLOOKUP($B25,'Nevezési lista'!$C$4:$K$116,MATCH(C$4,'Nevezési lista'!$C$4:$K$4,0),FALSE),"") -> Szabolcs Márton | D25: =+D24 -> I. kcs. Fiú (2011-) - 0,5 km klasszikus | E25: =IFERROR(VLOOKUP($B25,'Nevezési lista'!$C$4:$K$116,MATCH(E$4,'Nevezési lista'!$C$4:$K$4,0),FALSE),"") -> 41056 | F25: =IFERROR(VLOOKUP($B25,'Nevezési lista'!$C$4:$K$116,MATCH(F$4,'Nevezési lista'!$C$4:$K$4,0),FALSE),"") -> Pest | G25: =IFERROR(VLOOKUP($B25,'Nevezési lista'!$C$4:$K$116,MATCH(G$4,'Nevezési lista'!$C$4:$K$4,0),FALSE),"") -> Gödi Németh László Általános Iskola és Alapfokú Művészeti Iskola | H25: =H24+$H$22 -> 0.41909722 | J25: =IF(B25>0,1,0) -> 1
B26: 11 | C26: =IFERROR(VLOOKUP($B26,'Nevezési lista'!$C$4:$K$116,MATCH(C$4,'Nevezési lista'!$C$4:$K$4,0),FALSE),"") -> Gergely Márton | D26: =+D25 -> I. kcs. Fiú (2011-) - 0,5 km klasszikus | E26: =IFERROR(VLOOKUP($B26,'Nevezési lista'!$C$4:$K$116,MATCH(E$4,'Nevezési lista'!$C$4:$K$4,0),FALSE),"") -> 40597 | F26: =IFERROR(VLOOKUP($B26,'Nevezési lista'!$C$4:$K$116,MATCH(F$4,'Nevezési lista'!$C$4:$K$4,0),FALSE),"") -> Budapest | G26: =IFERROR(VLOOKUP($B26,'Nevezési lista'!$C$4:$K$116,MATCH(G$4,'Nevezési lista'!$C$4:$K$4,0),FALSE),"") -> Budenz József Általános Iskola és Gimnázium | H26: =H25+$H$22 -> 0.41944444 | J26: =IF(B26>0,1,0) -> 1
C27: =IFERROR(VLOOKUP($B27,'Nevezési lista'!$C$4:$K$116,MATCH(C$4,'Nevezési lista'!$C$4:$K$4,0),FALSE),"") | D27: =+D26 -> I. kcs. Fiú (2011-) - 0,5 km klasszikus | E27: =IFERROR(VLOOKUP($B27,'Nevezési lista'!$C$4:$K$116,MATCH(E$4,'Nevezési lista'!$C$4:$K$4,0),FALSE),"") | F27: =IFERROR(VLOOKUP($B27,'Nevezési lista'!$C$4:$K$116,MATCH(F$4,'Nevezési lista'!$C$4:$K$4,0),FALSE),"") | G27: =IFERROR(VLOOKUP($B27,'Nevezési lista'!$C$4:$K$116,MATCH(G$4,'Nevezési lista'!$C$4:$K$4,0),FALSE),"") | H27: =H26+$H$22 -> 0.41979167 | J27: =IF(B27>0,1,0) -> 0
C28: =IFERROR(VLOOKUP($B28,'Nevezési lista'!$C$4:$K$116,MATCH(C$4,'Nevezési lista'!$C$4:$K$4,0),FALSE),"") | D28: =+D27 -> I. kcs. Fiú (2011-) - 0,5 km klasszikus | E28: =IFERROR(VLOOKUP($B28,'Nevezési lista'!$C$4:$K$116,MATCH(E$4,'Nevezési lista'!$C$4:$K$4,0),FALSE),"") | F28: =IFERROR(VLOOKUP($B28,'Nevezési lista'!$C$4:$K$116,MATCH(F$4,'Nevezési lista'!$C$4:$K$4,0),FALSE),"") | G28: =IFERROR(VLOOKUP($B28,'Nevezési lista'!$C$4:$K$116,MATCH(G$4,'Nevezési lista'!$C$4:$K$4,0),FALSE),"") | H28: =H27+$H$22 -> 0.42013889 | J28: =IF(B28>0,1,0) -> 0
C29: =IFERROR(VLOOKUP($B29,'Nevezési lista'!$C$4:$K$116,MATCH(C$4,'Nevezési lista'!$C$4:$K$4,0),FALSE),"") | D29: =+D28 -> I. kcs. Fiú (2011-) - 0,5 km klasszikus | E29: =IFERROR(VLOOKUP($B29,'Nevezési lista'!$C$4:$K$116,MATCH(E$4,'Nevezési lista'!$C$4:$K$4,0),FALSE),"") | F29: =IFERROR(VLOOKUP($B29,'Nevezési lista'!$C$4:$K$116,MATCH(F$4,'Nevezési lista'!$C$4:$K$4,0),FALSE),"") | G29: =IFERROR(VLOOKUP($B29,'Nevezési lista'!$C$4:$K$116,MATCH(G$4,'Nevezési lista'!$C$4:$K$4,0),FALSE),"") | H29: =H28+$H$22 -> 0.42048611 | J29: =IF(B29>0,1,0) -> 0
C30: =IFERROR(VLOOKUP($B30,'Nevezési lista'!$C$4:$K$116,MATCH(C$4,'Nevezési lista'!$C$4:$K$4,0),FALSE),"") | D30: =+D29 -> I. kcs. Fiú (2011-) - 0,5 km klasszikus | E30: =IFERROR(VLOOKUP($B30,'Nevezési lista'!$C$4:$K$116,MATCH(E$4,'Nevezési lista'!$C$4:$K$4,0),FALSE),"") | F30: =IFERROR(VLOOKUP($B30,'Nevezési lista'!$C$4:$K$116,MATCH(F$4,'Nevezési lista'!$C$4:$K$4,0),FALSE),"") | G30: =IFERROR(VLOOKUP($B30,'Nevezési lista'!$C$4:$K$116,MATCH(G$4,'Nevezési lista'!$C$4:$K$4,0),FALSE),"") | H30: =H29+$H$22 -> 0.42083333 | J30: =IF(B30>0,1,0) -> 0
C31: =IFERROR(VLOOKUP($B31,'Nevezési lista'!$C$4:$K$116,MATCH(C$4,'Nevezési lista'!$C$4:$K$4,0),FALSE),"") | D31: =+D30 -> I. kcs. Fiú (2011-) - 0,5 km klasszikus | E31: =IFERROR(VLOOKUP($B31,'Nevezési lista'!$C$4:$K$116,MATCH(E$4,'Nevezési lista'!$C$4:$K$4,0),FALSE),"") | F31: =IFERROR(VLOOKUP($B31,'Nevezési lista'!$C$4:$K$116,MATCH(F$4,'Nevezési lista'!$C$4:$K$4,0),FALSE),"") | G31: =IFERROR(VLOOKUP($B31,'Nevezési lista'!$C$4:$K$116,MATCH(G$4,'Nevezési lista'!$C$4:$K$4,0),FALSE),"") | H31: =H30+$H$22 -> 0.42118056 | J31: =IF(B31>0,1,0) -> 0
C32: =IFERROR(VLOOKUP($B32,'Nevezési lista'!$C$4:$K$116,MATCH(C$4,'Nevezési lista'!$C$4:$K$4,0),FALSE),"") | D32: =+D31 -> I. kcs. Fiú (2011-) - 0,5 km klasszikus | E32: =IFERROR(VLOOKUP($B32,'Nevezési lista'!$C$4:$K$116,MATCH(E$4,'Nevezési lista'!$C$4:$K$4,0),FALSE),"") | F32: =IFERROR(VLOOKUP($B32,'Nevezési lista'!$C$4:$K$116,MATCH(F$4,'Nevezési lista'!$C$4:$K$4,0),FALSE),"") | G32: =IFERROR(VLOOKUP($B32,'Nevezési lista'!$C$4:$K$116,MATCH(G$4,'Nevezési lista'!$C$4:$K$4,0),FALSE),"") | H32: =H31+$H$22 -> 0.42152778 | J32: =IF(B32>0,1,0) -> 0
C33: =IFERROR(VLOOKUP($B33,'Nevezési lista'!$C$4:$K$116,MATCH(C$4,'Nevezési lista'!$C$4:$K$4,0),FALSE),"") | D33: =+D32 -> I. kcs. Fiú (2011-) - 0,5 km klasszikus | E33: =IFERROR(VLOOKUP($B33,'Nevezési lista'!$C$4:$K$116,MATCH(E$4,'Nevezési lista'!$C$4:$K$4,0),FALSE),"") | F33: =IFERROR(VLOOKUP($B33,'Nevezési lista'!$C$4:$K$116,MATCH(F$4,'Nevezési lista'!$C$4:$K$4,0),FALSE),"") | G33: =IFERROR(VLOOKUP($B33,'Nevezési lista'!$C$4:$K$116,MATCH(G$4,'Nevezési lista'!$C$4:$K$4,0),FALSE),"") | H33: =H32+$H$22 -> 0.421875 | J33: =IF(B33>0,1,0) -> 0
C34: =IFERROR(VLOOKUP($B34,'Nevezési lista'!$C$4:$K$116,MATCH(C$4,'Nevezési lista'!$C$4:$K$4,0),FALSE),"") | D34: =+D33 -> I. kcs. Fiú (2011-) - 0,5 km klasszikus | E34: =IFERROR(VLOOKUP($B34,'Nevezési lista'!$C$4:$K$116,MATCH(E$4,'Nevezési lista'!$C$4:$K$4,0),FALSE),"") | F34: =IFERROR(VLOOKUP($B34,'Nevezési lista'!$C$4:$K$116,MATCH(F$4,'Nevezési lista'!$C$4:$K$4,0),FALSE),"") | G34: =IFERROR(VLOOKUP($B34,'Nevezési lista'!$C$4:$K$116,MATCH(G$4,'Nevezési lista'!$C$4:$K$4,0),FALSE),"") | H34: =H33+$H$22 -> 0.42222222 | J34: =IF(B34>0,1,0) -> 0
C35: =IFERROR(VLOOKUP($B35,'Nevezési lista'!$C$4:$K$116,MATCH(C$4,'Nevezési lista'!$C$4:$K$4,0),FALSE),"") | D35: =+D34 -> I. kcs. Fiú (2011-) - 0,5 km klasszikus | E35: =IFERROR(VLOOKUP($B35,'Nevezési lista'!$C$4:$K$116,MATCH(E$4,'Nevezési lista'!$C$4:$K$4,0),FALSE),"") | F35: =IFERROR(VLOOKUP($B35,'Nevezési lista'!$C$4:$K$116,MATCH(F$4,'Nevezési lista'!$C$4:$K$4,0),FALSE),"") | G35: =IFERROR(VLOOKUP($B35,'Nevezési lista'!$C$4:$K$116,MATCH(G$4,'Nevezési lista'!$C$4:$K$4,0),FALSE),"") | H35: =H34+$H$22 -> 0.42256944 | J35: =IF(B35>0,1,0) -> 0
C36: =IFERROR(VLOOKUP($B36,'Nevezési lista'!$C$4:$K$116,MATCH(C$4,'Nevezési lista'!$C$4:$K$4,0),FALSE),"") | D36: =+D35 -> I. kcs. Fiú (2011-) - 0,5 km klasszikus | E36: =IFERROR(VLOOKUP($B36,'Nevezési lista'!$C$4:$K$116,MATCH(E$4,'Nevezési lista'!$C$4:$K$4,0),FALSE),"") | F36: =IFERROR(VLOOKUP($B36,'Nevezési lista'!$C$4:$K$116,MATCH(F$4,'Nevezési lista'!$C$4:$K$4,0),FALSE),"") | G36: =IFERROR(VLOOKUP($B36,'Nevezési lista'!$C$4:$K$116,MATCH(G$4,'Nevezési lista'!$C$4:$K$4,0),FALSE),"") | H36: =H35+$H$22 -> 0.42291667 | J36: =IF(B36>0,1,0) -> 0
C37: =IFERROR(VLOOKUP($B37,'Nevezési lista'!$C$4:$K$116,MATCH(C$4,'Nevezési lista'!$C$4:$K$4,0),FALSE),"") | D37: =+D36 -> I. kcs. Fiú (2011-) - 0,5 km klasszikus | E37: =IFERROR(VLOOKUP($B37,'Nevezési lista'!$C$4:$K$116,MATCH(E$4,'Nevezési lista'!$C$4:$K$4,0),FALSE),"") | F37: =IFERROR(VLOOKUP($B37,'Nevezési lista'!$C$4:$K$116,MATCH(F$4,'Nevezési lista'!$C$4:$K$4,0),FALSE),"") | G37: =IFERROR(VLOOKUP($B37,'Nevezési lista'!$C$4:$K$116,MATCH(G$4,'Nevezési lista'!$C$4:$K$4,0),FALSE),"") | H37: =H36+$H$22 -> 0.42326389 | J37: =IF(B37>0,1,0) -> 0
B38: 0 | J38: =IF(B38>0,1,0) -> 0
B39: =+Kategóriák!$E$8 -> II. kcs. Leány (2009-2010) - 1 km klasszikus | H39: 0.00034722222
B40: 12 | C40: =IFERROR(VLOOKUP($B40,'Nevezési lista'!$C$4:$K$116,MATCH(C$4,'Nevezési lista'!$C$4:$K$4,0),FALSE),"") -> Besze Regina Kira | D40: =+B39 -> II. kcs. Leány (2009-2010) - 1 km klasszikus | E40: =IFERROR(VLOOKUP($B40,'Nevezési lista'!$C$4:$K$116,MATCH(E$4,'Nevezési lista'!$C$4:$K$4,0),FALSE),"") -> 40084 | F40: =IFERROR(VLOOKUP($B40,'Nevezési lista'!$C$4:$K$116,MATCH(F$4,'Nevezési lista'!$C$4:$K$4,0),FALSE),"") -> Heves | G40: =IFERROR(VLOOKUP($B40,'Nevezési lista'!$C$4:$K$116,MATCH(G$4,'Nevezési lista'!$C$4:$K$4,0),FALSE),"") -> Gyöngyössolymosi Nagy Gyula Katolikus Általános Iskola és Alapfokú Művészeti Iskola | H40: =+Versenyprogram!C15+H39 -> 0.46215278 | J40: =IF(B40>0,1,0) -> 1
B41: 13 | C41: =IFERROR(VLOOKUP($B41,'Nevezési lista'!$C$4:$K$116,MATCH(C$4,'Nevezési lista'!$C$4:$K$4,0),FALSE),"") -> Katona Korinna | D41: =+D40 -> II. kcs. Leány (2009-2010) - 1 km klasszikus | E41: =IFERROR(VLOOKUP($B41,'Nevezési lista'!$C$4:$K$116,MATCH(E$4,'Nevezési lista'!$C$4:$K$4,0),FALSE),"") -> 40079 | F41: =IFERROR(VLOOKUP($B41,'Nevezési lista'!$C$4:$K$116,MATCH(F$4,'Nevezési lista'!$C$4:$K$4,0),FALSE),"") -> Heves | G41: =IFERROR(VLOOKUP($B41,'Nevezési lista'!$C$4:$K$116,MATCH(G$4,'Nevezési lista'!$C$4:$K$4,0),FALSE),"") -> Eszterházy Károly Egyetem Gyakorló Általános, Közép-, Alapfokú Művészeti Iskola és Pedagógiai Intézet | H41: =H40+$H$39 -> 0.4625 | J41: =IF(B41>0,1,0) -> 1
B42: 14 | C42: =IFERROR(VLOOKUP($B42,'Nevezési lista'!$C$4:$K$116,MATCH(C$4,'Nevezési lista'!$C$4:$K$4,0),FALSE),"") -> Jankó Boglárka Dóra | D42: =+D41 -> II. kcs. Leány (2009-2010) - 1 km klasszikus | E42: =IFERROR(VLOOKUP($B42,'Nevezési lista'!$C$4:$K$116,MATCH(E$4,'Nevezési lista'!$C$4:$K$4,0),FALSE),"") -> 40253 | F42: =IFERROR(VLOOKUP($B42,'Nevezési lista'!$C$4:$K$116,MATCH(F$4,'Nevezési lista'!$C$4:$K$4,0),FALSE),"") -> Pest | G42: =IFERROR(VLOOKUP($B42,'Nevezési lista'!$C$4:$K$116,MATCH(G$4,'Nevezési lista'!$C$4:$K$4,0),FALSE),"") -> Kesjár Csaba Általános Iskola | H42: =H41+$H$39 -> 0.46284722 | J42: =IF(B42>0,1,0) -> 1
B43: 15 | C43: =IFERROR(VLOOKUP($B43,'Nevezési lista'!$C$4:$K$116,MATCH(C$4,'Nevezési lista'!$C$4:$K$4,0),FALSE),"") -> Kovács Nóra | D43: =+D42 -> II. kcs. Leány (2009-2010) - 1 km klasszikus | E43: =IFERROR(VLOOKUP($B43,'Nevezési lista'!$C$4:$K$116,MATCH(E$4,'Nevezési lista'!$C$4:$K$4,0),FALSE),"") -> 40442 | F43: =IFERROR(VLOOKUP($B43,'Nevezési lista'!$C$4:$K$116,MATCH(F$4,'Nevezési lista'!$C$4:$K$4,0),FALSE),"") -> Budapest | G43: =IFERROR(VLOOKUP($B43,'Nevezési lista'!$C$4:$K$116,MATCH(G$4,'Nevezési lista'!$C$4:$K$4,0),FALSE),"") -> Újbudai Ádám Jenő Általános Iskola | H43: =H42+$H$39 -> 0.46319444 | J43: =IF(B43>0,1,0) -> 1
B44: 16 | C44: =IFERROR(VLOOKUP($B44,'Nevezési lista'!$C$4:$K$116,MATCH(C$4,'Nevezési lista'!$C$4:$K$4,0),FALSE),"") -> Zámbó Hanna | D44: =+D43 -> II. kcs. Leány (2009-2010) - 1 km klasszikus | E44: =IFERROR(VLOOKUP($B44,'Nevezési lista'!$C$4:$K$116,MATCH(E$4,'Nevezési lista'!$C$4:$K$4,0),FALSE),"") -> 39862 | F44: =IFERROR(VLOOKUP($B44,'Nevezési lista'!$C$4:$K$116,MATCH(F$4,'Nevezési lista'!$C$4:$K$4,0),FALSE),"") -> Budapest | G44: =IFERROR(VLOOKUP($B44,'Nevezési lista'!$C$4:$K$116,MATCH(G$4,'Nevezési lista'!$C$4:$K$4,0),FALSE),"") -> Testnevelési Egyetem Gyakorló Sportiskolai Általános Iskola és Gimnázium | H44: =H43+$H$39 -> 0.46354167 | J44: =IF(B44>0,1,0) -> 1
B45: 17 | C45: =IFERROR(VLOOKUP($B45,'Nevezési lista'!$C$4:$K$116,MATCH(C$4,'Nevezési lista'!$C$4:$K$4,0),FALSE),"") -> Varga Léna | D45: =+D44 -> II. kcs. Leány (2009-2010) - 1 km klasszikus | E45: =IFERROR(VLOOKUP($B45,'Nevezési lista'!$C$4:$K$116,MATCH(E$4,'Nevezési lista'!$C$4:$K$4,0),FALSE),"") -> 40394 | F45: =IFERROR(VLOOKUP($B45,'Nevezési lista'!$C$4:$K$116,MATCH(F$4,'Nevezési lista'!$C$4:$K$4,0),FALSE),"") -> Budapest | G45: =IFERROR(VLOOKUP($B45,'Nevezési lista'!$C$4:$K$116,MATCH(G$4,'Nevezési lista'!$C$4:$K$4,0),FALSE),"") -> ELTE Gyertyánffy István Gyakorló Általános Iskola | H45: =H44+$H$39 -> 0.46388889 | J45: =IF(B45>0,1,0) -> 1
B46: 18 | C46: =IFERROR(VLOOKUP($B46,'Nevezési lista'!$C$4:$K$116,MATCH(C$4,'Nevezési lista'!$C$4:$K$4,0),FALSE),"") -> Ágoston Dalma | D46: =+D45 -> II. kcs. Leány (2009-2010) - 1 km klasszikus | E46: =IFERROR(VLOOKUP($B46,'Nevezési lista'!$C$4:$K$116,MATCH(E$4,'Nevezési lista'!$C$4:$K$4,0),FALSE),"") -> 40308 | F46: =IFERROR(VLOOKUP($B46,'Nevezési lista'!$C$4:$K$116,MATCH(F$4,'Nevezési lista'!$C$4:$K$4,0),FALSE),"") -> Veszprém | G46: =IFERROR(VLOOKUP($B46,'Nevezési lista'!$C$4:$K$116,MATCH(G$4,'Nevezési lista'!$C$4:$K$4,0),FALSE),"") -> Nivegy-völgyi Német Nemzetiségi Nyelvoktató Általános Iskola és Alapfokú Művészeti Iskola | H46: =H45+$H$39 -> 0.46423611 | J46: =IF(B46>0,1,0) -> 1
B47: 19 | C47: =IFERROR(VLOOKUP($B47,'Nevezési lista'!$C$4:$K$116,MATCH(C$4,'Nevezési lista'!$C$4:$K$4,0),FALSE),"") -> Előházi Johanna | D47: =+D46 -> II. kcs. Leány (2009-2010) - 1 km klasszikus | E47: =IFERROR(VLOOKUP($B47,'Nevezési lista'!$C$4:$K$116,MATCH(E$4,'Nevezési lista'!$C$4:$K$4,0),FALSE),"") -> 40494 | F47: =IFERROR(VLOOKUP($B47,'Nevezési lista'!$C$4:$K$116,MATCH(F$4,'Nevezési lista'!$C$4:$K$4,0),FALSE),"") -> Heves | G47: =IFERROR(VLOOKUP($B47,'Nevezési lista'!$C$4:$K$116,MATCH(G$4,'Nevezési lista'!$C$4:$K$4,0),FALSE),"") -> Gyöngyössolymosi Nagy Gyula Katolikus Általános Iskola és Alapfokú Művészeti Iskola | H47: =H46+$H$39 -> 0.46458333 | J47: =IF(B47>0,1,0) -> 1
B48: 20 | C48: =IFERROR(VLOOKUP($B48,'Nevezési lista'!$C$4:$K$116,MATCH(C$4,'Nevezési lista'!$C$4:$K$4,0),FALSE),"") -> Cseke Villő Emese | D48: =+D47 -> II. kcs. Leány (2009-2010) - 1 km klasszikus | E48: =IFERROR(VLOOKUP($B48,'Nevezési lista'!$C$4:$K$116,MATCH(E$4,'Nevezési lista'!$C$4:$K$4,0),FALSE),"") -> 40217 | F48: =IFERROR(VLOOKUP($B48,'Nevezési lista'!$C$4:$K$116,MATCH(F$4,'Nevezési lista'!$C$4:$K$4,0),FALSE),"") -> Budapest | G48: =IFERROR(VLOOKUP($B48,'Nevezési lista'!$C$4:$K$116,MATCH(G$4,'Nevezési lista'!$C$4:$K$4,0),FALSE),"") -> Albertfalvi Don Bosco Katolikus Általános Iskola és Óvoda | H48: =H47+$H$39 -> 0.46493056 | J48: =IF(B48>0,1,0) -> 1
B49: 21 | C49: =IFERROR(VLOOKUP($B49,'Nevezési lista'!$C$4:$K$116,MATCH(C$4,'Nevezési lista'!$C$4:$K$4,0),FALSE),"") -> Cseke Zille Boglárka | D49: =+D48 -> II. kcs. Leány (2009-2010) - 1 km klasszikus | E49: =IFERROR(VLOOKUP($B49,'Nevezési lista'!$C$4:$K$116,MATCH(E$4,'Nevezési lista'!$C$4:$K$4,0),FALSE),"") -> 40217 | F49: =IFERROR(VLOOKUP($B49,'Nevezési lista'!$C$4:$K$116,MATCH(F$4,'Nevezési lista'!$C$4:$K$4,0),FALSE),"") -> Budapest | G49: =IFERROR(VLOOKUP($B49,'Nevezési lista'!$C$4:$K$116,MATCH(G$4,'Nevezési lista'!$C$4:$K$4,0),FALSE),"") -> Albertfalvi Don Bosco Katolikus Általános Iskola és Óvoda | H49: =H48+$H$39 -> 0.46527778 | J49: =IF(B49>0,1,0) -> 1
B50: 22 | C50: =IFERROR(VLOOKUP($B50,'Nevezési lista'!$C$4:$K$116,MATCH(C$4,'Nevezési lista'!$C$4:$K$4,0),FALSE),"") -> Bozóki Tamara | D50: =+D49 -> II. kcs. Leány (2009-2010) - 1 km klasszikus | E50: =IFERROR(VLOOKUP($B50,'Nevezési lista'!$C$4:$K$116,MATCH(E$4,'Nevezési lista'!$C$4:$K$4,0),FALSE),"") -> 39839 | F50: =IFERROR(VLOOKUP($B50,'Nevezési lista'!$C$4:$K$116,MATCH(F$4,'Nevezési lista'!$C$4:$K$4,0),FALSE),"") -> Pest | G50: =IFERROR(VLOOKUP($B50,'Nevezési lista'!$C$4:$K$116,MATCH(G$4,'Nevezési lista'!$C$4:$K$4,0),FALSE),"") -> Péceli Integrált Oktatási Központ Általános Iskola és Gimnázium | H50: =H49+$H$39 -> 0.465625 | J50: =IF(B50>0,1,0) -> 1
C51: =IFERROR(VLOOKUP($B51,'Nevezési lista'!$C$4:$K$116,MATCH(C$4,'Nevezési lista'!$C$4:$K$4,0),FALSE),"") | D51: =+D50 -> II. kcs. Leány (2009-2010) - 1 km klasszikus | E51: =IFERROR(VLOOKUP($B51,'Nevezési lista'!$C$4:$K$116,MATCH(E$4,'Nevezési lista'!$C$4:$K$4,0),FALSE),"") | F51: =IFERROR(VLOOKUP($B51,'Nevezési lista'!$C$4:$K$116,MATCH(F$4,'Nevezési lista'!$C$4:$K$4,0),FALSE),"") | G51: =IFERROR(VLOOKUP($B51,'Nevezési lista'!$C$4:$K$116,MATCH(G$4,'Nevezési lista'!$C$4:$K$4,0),FALSE),"") | H51: =H50+$H$39 -> 0.46597222 | J51: =IF(B51>0,1,0) -> 0
C52: =IFERROR(VLOOKUP($B52,'Nevezési lista'!$C$4:$K$116,MATCH(C$4,'Nevezési lista'!$C$4:$K$4,0),FALSE),"") | D52: =+D51 -> II. kcs. Leány (2009-2010) - 1 km klasszikus | E52: =IFERROR(VLOOKUP($B52,'Nevezési lista'!$C$4:$K$116,MATCH(E$4,'Nevezési lista'!$C$4:$K$4,0),FALSE),"") | F52: =IFERROR(VLOOKUP($B52,'Nevezési lista'!$C$4:$K$116,MATCH(F$4,'Nevezési lista'!$C$4:$K$4,0),FALSE),"") | G52: =IFERROR(VLOOKUP($B52,'Nevezési lista'!$C$4:$K$116,MATCH(G$4,'Nevezési lista'!$C$4:$K$4,0),FALSE),"") | H52: =H51+$H$39 -> 0.46631944 | J52: =IF(B52>0,1,0) -> 0
C53: =IFERROR(VLOOKUP($B53,'Nevezési lista'!$C$4:$K$116,MATCH(C$4,'Nevezési lista'!$C$4:$K$4,0),FALSE),"") | D53: =+D52 -> II. kcs. Leány (2009-2010) - 1 km klasszikus | E53: =IFERROR(VLOOKUP($B53,'Nevezési lista'!$C$4:$K$116,MATCH(E$4,'Nevezési lista'!$C$4:$K$4,0),FALSE),"") | F53: =IFERROR(VLOOKUP($B53,'Nevezési lista'!$C$4:$K$116,MATCH(F$4,'Nevezési lista'!$C$4:$K$4,0),FALSE),"") | G53: =IFERROR(VLOOKUP($B53,'Nevezési lista'!$C$4:$K$116,MATCH(G$4,'Nevezési lista'!$C$4:$K$4,0),FALSE),"") | H53: =H52+$H$39 -> 0.46666667 | J53: =IF(B53>0,1,0) -> 0
C54: =IFERROR(VLOOKUP($B54,'Nevezési lista'!$C$4:$K$116,MATCH(C$4,'Nevezési lista'!$C$4:$K$4,0),FALSE),"") | D54: =+D53 -> II. kcs. Leány (2009-2010) - 1 km klasszikus | E54: =IFERROR(VLOOKUP($B54,'Nevezési lista'!$C$4:$K$116,MATCH(E$4,'Nevezési lista'!$C$4:$K$4,0),FALSE),"") | F54: =IFERROR(VLOOKUP($B54,'Nevezési lista'!$C$4:$K$116,MATCH(F$4,'Nevezési lista'!$C$4:$K$4,0),FALSE),"") | G54: =IFERROR(VLOOKUP($B54,'Nevezési lista'!$C$4:$K$116,MATCH(G$4,'Nevezési lista'!$C$4:$K$4,0),FALSE),"") | H54: =H53+$H$39 -> 0.46701389 | J54: =IF(B54>0,1,0) -> 0
B55: 0 | J55: =IF(B55>0,1,0) -> 0
B56: =+Kategóriák!$E$9 -> II. kcs. Fiú (2009-2010) - 1 km klasszikus | H56: 0.00034722222
B57: 23 | C57: =IFERROR(VLOOKUP($B57,'Nevezési lista'!$C$4:$K$116,MATCH(C$4,'Nevezési lista'!$C$4:$K$4,0),FALSE),"") -> Mikola Márk | D57: =+B56 -> II. kcs. Fiú (2009-2010) - 1 km klasszikus | E57: =IFERROR(VLOOKUP($B57,'Nevezési lista'!$C$4:$K$116,MATCH(E$4,'Nevezési lista'!$C$4:$K$4,0),FALSE),"") -> 40443 | F57: =IFERROR(VLOOKUP($B57,'Nevezési lista'!$C$4:$K$116,MATCH(F$4,'Nevezési lista'!$C$4:$K$4,0),FALSE),"") -> Heves | G57: =IFERROR(VLOOKUP($B57,'Nevezési lista'!$C$4:$K$116,MATCH(G$4,'Nevezési lista'!$C$4:$K$4,0),FALSE),"") -> Gyöngyössolymosi Nagy Gyula Katolikus Általános Iskola és Alapfokú Művészeti Iskola | H57: =+Versenyprogram!C17+H56 -> 0.50034722 | J57: =IF(B57>0,1,0) -> 1
B58: 24 | C58: =IFERROR(VLOOKUP($B58,'Nevezési lista'!$C$4:$K$116,MATCH(C$4,'Nevezési lista'!$C$4:$K$4,0),FALSE),"") -> Feledy Bence | D58: =+D57 -> II. kcs. Fiú (2009-2010) - 1 km klasszikus | E58: =IFERROR(VLOOKUP($B58,'Nevezési lista'!$C$4:$K$116,MATCH(E$4,'Nevezési lista'!$C$4:$K$4,0),FALSE),"") -> 39876 | F58: =IFERROR(VLOOKUP($B58,'Nevezési lista'!$C$4:$K$116,MATCH(F$4,'Nevezési lista'!$C$4:$K$4,0),FALSE),"") -> Borsod-A-Z | G58: =IFERROR(VLOOKUP($B58,'Nevezési lista'!$C$4:$K$116,MATCH(G$4,'Nevezési lista'!$C$4:$K$4,0),FALSE),"") -> Bükki Szlovák Nemzetiségi Általános Iskola | H58: =H57+$H$56 -> 0.50069444 | J58: =IF(B58>0,1,0) -> 1
B59: 25 | C59: =IFERROR(VLOOKUP($B59,'Nevezési lista'!$C$4:$K$116,MATCH(C$4,'Nevezési lista'!$C$4:$K$4,0),FALSE),"") -> Telek Dominik | D59: =+D58 -> II. kcs. Fiú (2009-2010) - 1 km klasszikus | E59: =IFERROR(VLOOKUP($B59,'Nevezési lista'!$C$4:$K$116,MATCH(E$4,'Nevezési lista'!$C$4:$K$4,0),FALSE),"") -> 39867 | F59: =IFERROR(VLOOKUP($B59,'Nevezési lista'!$C$4:$K$116,MATCH(F$4,'Nevezési lista'!$C$4:$K$4,0),FALSE),"") -> Heves | G59: =IFERROR(VLOOKUP($B59,'Nevezési lista'!$C$4:$K$116,MATCH(G$4,'Nevezési lista'!$C$4:$K$4,0),FALSE),"") -> Gyöngyössolymosi Nagy Gyula Katolikus Általános Iskola és Alapfokú Művészeti Iskola | H59: =H58+$H$56 -> 0.50104167 | J59: =IF(B59>0,1,0) -> 1
B60: 26 | C60: =IFERROR(VLOOKUP($B60,'Nevezési lista'!$C$4:$K$116,MATCH(C$4,'Nevezési lista'!$C$4:$K$4,0),FALSE),"") -> Maus Márton | D60: =+D59 -> II. kcs. Fiú (2009-2010) - 1 km klasszikus | E60: =IFERROR(VLOOKUP($B60,'Nevezési lista'!$C$4:$K$116,MATCH(E$4,'Nevezési lista'!$C$4:$K$4,0),FALSE),"") -> 40318 | F60: =IFERROR(VLOOKUP($B60,'Nevezési lista'!$C$4:$K$116,MATCH(F$4,'Nevezési lista'!$C$4:$K$4,0),FALSE),"") -> Budapest | G60: =IFERROR(VLOOKUP($B60,'Nevezési lista'!$C$4:$K$116,MATCH(G$4,'Nevezési lista'!$C$4:$K$4,0),FALSE),"") -> Budenz József Általános Iskola és Gimnázium | H60: =H59+$H$56 -> 0.50138889 | J60: =IF(B60>0,1,0) -> 1
B61: 27 | C61: =IFERROR(VLOOKUP($B61,'Nevezési lista'!$C$4:$K$116,MATCH(C$4,'Nevezési lista'!$C$4:$K$4,0),FALSE),"") -> Szabolcs Balázs | D61: =+D60 -> II. kcs. Fiú (2009-2010) - 1 km klasszikus | E61: =IFERROR(VLOOKUP($B61,'Nevezési lista'!$C$4:$K$116,MATCH(E$4,'Nevezési lista'!$C$4:$K$4,0),FALSE),"") -> 40479 | F61: =IFERROR(VLOOKUP($B61,'Nevezési lista'!$C$4:$K$116,MATCH(F$4,'Nevezési lista'!$C$4:$K$4,0),FALSE),"") -> Pest | G61: =IFERROR(VLOOKUP($B61,'Nevezési lista'!$C$4:$K$116,MATCH(G$4,'Nevezési lista'!$C$4:$K$4,0),FALSE),"") -> Gödi Németh László Általános Iskola és Alapfokú Művészeti Iskola | H61: =H60+$H$56 -> 0.50173611 | J61: =IF(B61>0,1,0) -> 1
B62: 28 | C62: =IFERROR(VLOOKUP($B62,'Nevezési lista'!$C$4:$K$116,MATCH(C$4,'Nevezési lista'!$C$4:$K$4,0),FALSE),"") -> Harangozó Gyergely | D62: =+D61 -> II. kcs. Fiú (2009-2010) - 1 km klasszikus | E62: =IFERROR(VLOOKUP($B62,'Nevezési lista'!$C$4:$K$116,MATCH(E$4,'Nevezési lista'!$C$4:$K$4,0),FALSE),"") -> 40029 | F62: =IFERROR(VLOOKUP($B62,'Nevezési lista'!$C$4:$K$116,MATCH(F$4,'Nevezési lista'!$C$4:$K$4,0),FALSE),"") -> Budapest | G62: =IFERROR(VLOOKUP($B62,'Nevezési lista'!$C$4:$K$116,MATCH(G$4,'Nevezési lista'!$C$4:$K$4,0),FALSE),"") -> Zugligeti Általános Iskola | H62: =H61+$H$56 -> 0.50208333 | J62: =IF(B62>0,1,0) -> 1
B63: 29 | C63: =IFERROR(VLOOKUP($B63,'Nevezési lista'!$C$4:$K$116,MATCH(C$4,'Nevezési lista'!$C$4:$K$4,0),FALSE),"") -> Boldogh Tamás Oszkár | D63: =+D62 -> II. kcs. Fiú (2009-2010) - 1 km klasszikus | E63: =IFERROR(VLOOKUP($B63,'Nevezési lista'!$C$4:$K$116,MATCH(E$4,'Nevezési lista'!$C$4:$K$4,0),FALSE),"") -> 40143 | F63: =IFERROR(VLOOKUP($B63,'Nevezési lista'!$C$4:$K$116,MATCH(F$4,'Nevezési lista'!$C$4:$K$4,0),FALSE),"") -> Budapest | G63: =IFERROR(VLOOKUP($B63,'Nevezési lista'!$C$4:$K$116,MATCH(G$4,'Nevezési lista'!$C$4:$K$4,0),FALSE),"") -> Sashegyi Arany János Általános Iskola és Gimnázium | H63: =H62+$H$56 -> 0.50243056 | J63: =IF(B63>0,1,0) -> 1
B64: 30 | C64: =IFERROR(VLOOKUP($B64,'Nevezési lista'!$C$4:$K$116,MATCH(C$4,'Nevezési lista'!$C$4:$K$4,0),FALSE),"") -> Nagy Vilmos | D64: =+D63 -> II. kcs. Fiú (2009-2010) - 1 km klasszikus | E64: =IFERROR(VLOOKUP($B64,'Nevezési lista'!$C$4:$K$116,MATCH(E$4,'Nevezési lista'!$C$4:$K$4,0),FALSE),"") -> 39873 | F64: =IFERROR(VLOOKUP($B64,'Nevezési lista'!$C$4:$K$116,MATCH(F$4,'Nevezési lista'!$C$4:$K$4,0),FALSE),"") -> Pest | G64: =IFERROR(VLOOKUP($B64,'Nevezési lista'!$C$4:$K$116,MATCH(G$4,'Nevezési lista'!$C$4:$K$4,0),FALSE),"") -> József Nádor Általános Iskola és Alapfokú Művészeti Iskola (ÖKO Iskola) | H64: =H63+$H$56 -> 0.50277778 | J64: =IF(B64>0,1,0) -> 1
B65: 31 | C65: =IFERROR(VLOOKUP($B65,'Nevezési lista'!$C$4:$K$116,MATCH(C$4,'Nevezési lista'!$C$4:$K$4,0),FALSE),"") -> Fekete Boldizsár László | D65: =+D64 -> II. kcs. Fiú (2009-2010) - 1 km klasszikus | E65: =IFERROR(VLOOKUP($B65,'Nevezési lista'!$C$4:$K$116,MATCH(E$4,'Nevezési lista'!$C$4:$K$4,0),FALSE),"") -> 40506 | F65: =IFERROR(VLOOKUP($B65,'Nevezési lista'!$C$4:$K$116,MATCH(F$4,'Nevezési lista'!$C$4:$K$4,0),FALSE),"") -> Budapest | G65: =IFERROR(VLOOKUP($B65,'Nevezési lista'!$C$4:$K$116,MATCH(G$4,'Nevezési lista'!$C$4:$K$4,0),FALSE),"") -> Budenz József Általános Iskola és Gimnázium | H65: =H64+$H$56 -> 0.503125 | J65: =IF(B65>0,1,0) -> 1
B66: 32 | C66: =IFERROR(VLOOKUP($B66,'Nevezési lista'!$C$4:$K$116,MATCH(C$4,'Nevezési lista'!$C$4:$K$4,0),FALSE),"") -> Móczár Ádám | D66: =+D65 -> II. kcs. Fiú (2009-2010) - 1 km klasszikus | E66: =IFERROR(VLOOKUP($B66,'Nevezési lista'!$C$4:$K$116,MATCH(E$4,'Nevezési lista'!$C$4:$K$4,0),FALSE),"") -> 39933 | F66: =IFERROR(VLOOKUP($B66,'Nevezési lista'!$C$4:$K$116,MATCH(F$4,'Nevezési lista'!$C$4:$K$4,0),FALSE),"") -> Heves | G66: =IFERROR(VLOOKUP($B66,'Nevezési lista'!$C$4:$K$116,MATCH(G$4,'Nevezési lista'!$C$4:$K$4,0),FALSE),"") -> Felső-Mátrai Zakupszky László Általános Iskola és Óvoda | H66: =H65+$H$56 -> 0.50347222 | J66: =IF(B66>0,1,0) -> 1
B67: 33 | C67: =IFERROR(VLOOKUP($B67,'Nevezési lista'!$C$4:$K$116,MATCH(C$4,'Nevezési lista'!$C$4:$K$4,0),FALSE),"") -> Lehőcz Zétény | D67: =+D66 -> II. kcs. Fiú (2009-2010) - 1 km klasszikus | E67: =IFERROR(VLOOKUP($B67,'Nevezési lista'!$C$4:$K$116,MATCH(E$4,'Nevezési lista'!$C$4:$K$4,0),FALSE),"") -> 40229 | F67: =IFERROR(VLOOKUP($B67,'Nevezési lista'!$C$4:$K$116,MATCH(F$4,'Nevezési lista'!$C$4:$K$4,0),FALSE),"") -> Tolna | G67: =IFERROR(VLOOKUP($B67,'Nevezési lista'!$C$4:$K$116,MATCH(G$4,'Nevezési lista'!$C$4:$K$4,0),FALSE),"") -> Szent Orsolya Rendi Gárdonyi Géza Katolikus Általános Iskola, Alapfokú Művészeti Iskola és Kollégium | H67: =H66+$H$56 -> 0.50381944 | J67: =IF(B67>0,1,0) -> 1
B68: 34 | C68: =IFERROR(VLOOKUP($B68,'Nevezési lista'!$C$4:$K$116,MATCH(C$4,'Nevezési lista'!$C$4:$K$4,0),FALSE),"") -> Pap Móric István | D68: =+D67 -> II. kcs. Fiú (2009-2010) - 1 km klasszikus | E68: =IFERROR(VLOOKUP($B68,'Nevezési lista'!$C$4:$K$116,MATCH(E$4,'Nevezési lista'!$C$4:$K$4,0),FALSE),"") -> 40228 | F68: =IFERROR(VLOOKUP($B68,'Nevezési lista'!$C$4:$K$116,MATCH(F$4,'Nevezési lista'!$C$4:$K$4,0),FALSE),"") -> Pest | G68: =IFERROR(VLOOKUP($B68,'Nevezési lista'!$C$4:$K$116,MATCH(G$4,'Nevezési lista'!$C$4:$K$4,0),FALSE),"") -> Váci Juhász Gyula Általános Iskola | H68: =H67+$H$56 -> 0.50416667 | J68: =IF(B68>0,1,0) -> 1
B69: 35 | C69: =IFERROR(VLOOKUP($B69,'Nevezési lista'!$C$4:$K$116,MATCH(C$4,'Nevezési lista'!$C$4:$K$4,0),FALSE),"") -> Csorba Milán | D69: =+D68 -> II. kcs. Fiú (2009-2010) - 1 km klasszikus | E69: =IFERROR(VLOOKUP($B69,'Nevezési lista'!$C$4:$K$116,MATCH(E$4,'Nevezési lista'!$C$4:$K$4,0),FALSE),"") -> 40153 | F69: =IFERROR(VLOOKUP($B69,'Nevezési lista'!$C$4:$K$116,MATCH(F$4,'Nevezési lista'!$C$4:$K$4,0),FALSE),"") -> Borsod-A-Z | G69: =IFERROR(VLOOKUP($B69,'Nevezési lista'!$C$4:$K$116,MATCH(G$4,'Nevezési lista'!$C$4:$K$4,0),FALSE),"") -> Bükki Szlovák Nemzetiségi Általános Iskola | H69: =H68+$H$56 -> 0.50451389 | J69: =IF(B69>0,1,0) -> 1
... B72: 38 | C72: =IFERROR(VLOOKUP($B72,'Nevezési lista'!$C$4:$K$116,MATCH(C$4,'Nevezési lista'!$C$4:$K$4,0),FALSE),"") -> Szabó Csanád | D72: =+D71 -> II. kcs. Fiú (2009-2010) - 1 km klasszikus | E72: =IFERROR(VLOOKUP($B72,'Nevezési lista'!$C$4:$K$116,MATCH(E$4,'Nevezési lista'!$C$4:$K$4,0),FALSE),"") -> 39838 | F72: =IFERROR(VLOOKUP($B72,'Nevezési lista'!$C$4:$K$116,MATCH(F$4,'Nevezési lista'!$C$4:$K$4,0),FALSE),"") -> Budapest | G72: =IFERROR(VLOOKUP($B72,'Nevezési lista'!$C$4:$K$116,MATCH(G$4,'Nevezési lista'!$C$4:$K$4,0),FALSE),"") -> Budai Ciszterci Szent Imre Gimnázium | H72: =H71+$H$56 -> 0.50555556 | J72: =IF(B72>0,1,0) -> 1
C73: =IFERROR(VLOOKUP($B73,'Nevezési lista'!$C$4:$K$116,MATCH(C$4,'Nevezési lista'!$C$4:$K$4,0),FALSE),"") | D73: =+D72 -> II. kcs. Fiú (2009-2010) - 1 km klasszikus | E73: =IFERROR(VLOOKUP($B73,'Nevezési lista'!$C$4:$K$116,MATCH(E$4,'Nevezési lista'!$C$4:$K$4,0),FALSE),"") | F73: =IFERROR(VLOOKUP($B73,'Nevezési lista'!$C$4:$K$116,MATCH(F$4,'Nevezési lista'!$C$4:$K$4,0),FALSE),"") | G73: =IFERROR(VLOOKUP($B73,'Nevezési lista'!$C$4:$K$116,MATCH(G$4,'Nevezési lista'!$C$4:$K$4,0),FALSE),"") | H73: =H72+$H$56 -> 0.50590278 | J73: =IF(B73>0,1,0) -> 0
C74: =IFERROR(VLOOKUP($B74,'Nevezési lista'!$C$4:$K$116,MATCH(C$4,'Nevezési lista'!$C$4:$K$4,0),FALSE),"") | D74: =+D70 -> II. kcs. Fiú (2009-2010) - 1 km klasszikus | E74: =IFERROR(VLOOKUP($B74,'Nevezési lista'!$C$4:$K$116,MATCH(E$4,'Nevezési lista'!$C$4:$K$4,0),FALSE),"") | F74: =IFERROR(VLOOKUP($B74,'Nevezési lista'!$C$4:$K$116,MATCH(F$4,'Nevezési lista'!$C$4:$K$4,0),FALSE),"") | G74: =IFERROR(VLOOKUP($B74,'Nevezési lista'!$C$4:$K$116,MATCH(G$4,'Nevezési lista'!$C$4:$K$4,0),FALSE),"") | H74: =H73+$H$56 -> 0.50625 | J74: =IF(B74>0,1,0) -> 0
B75: 0 | J75: =IF(B75>0,1,0) -> 0
B76: =+Kategóriák!$E$10 -> III. kcs. Leány (2007-2008) - 1,5 km klasszikus | H76: 0.00034722222
B77: 39 | C77: =IFERROR(VLOOKUP($B77,'Nevezési lista'!$C$4:$K$116,MATCH(C$4,'Nevezési lista'!$C$4:$K$4,0),FALSE),"") -> Benyovszky Lili | D77: =+B76 -> III. kcs. Leány (2007-2008) - 1,5 km klasszikus | E77: =IFERROR(VLOOKUP($B77,'Nevezési lista'!$C$4:$K$116,MATCH(E$4,'Nevezési lista'!$C$4:$K$4,0),FALSE),"") -> 39659 | F77: =IFERROR(VLOOKUP($B77,'Nevezési lista'!$C$4:$K$116,MATCH(F$4,'Nevezési lista'!$C$4:$K$4,0),FALSE),"") -> Heves | G77: =IFERROR(VLOOKUP($B77,'Nevezési lista'!$C$4:$K$116,MATCH(G$4,'Nevezési lista'!$C$4:$K$4,0),FALSE),"") -> Gyöngyössolymosi Nagy Gyula Katolikus Általános Iskola és Alapfokú Művészeti Iskola | H77: =+Versenyprogram!C19+H76 -> 0.53854167 | J77: =IF(B77>0,1,0) -> 1
B78: 40 | C78: =IFERROR(VLOOKUP($B78,'Nevezési lista'!$C$4:$K$116,MATCH(C$4,'Nevezési lista'!$C$4:$K$4,0),FALSE),"") -> Pap Fruzsina | D78: =+D77 -> III. kcs. Leány (2007-2008) - 1,5 km klasszikus | E78: =IFERROR(VLOOKUP($B78,'Nevezési lista'!$C$4:$K$116,MATCH(E$4,'Nevezési lista'!$C$4:$K$4,0),FALSE),"") -> 39647 | F78: =IFERROR(VLOOKUP($B78,'Nevezési lista'!$C$4:$K$116,MATCH(F$4,'Nevezési lista'!$C$4:$K$4,0),FALSE),"") -> Pest | G78: =IFERROR(VLOOKUP($B78,'Nevezési lista'!$C$4:$K$116,MATCH(G$4,'Nevezési lista'!$C$4:$K$4,0),FALSE),"") -> Váci Árpád Fejedelem Általános Iskola | H78: =H77+$H$76 -> 0.53888889 | J78: =IF(B78>0,1,0) -> 1
B79: 41 | C79: =IFERROR(VLOOKUP($B79,'Nevezési lista'!$C$4:$K$116,MATCH(C$4,'Nevezési lista'!$C$4:$K$4,0),FALSE),"") -> Cseke Kincső Lelle | D79: =+D78 -> III. kcs. Leány (2007-2008) - 1,5 km klasszikus | E79: =IFERROR(VLOOKUP($B79,'Nevezési lista'!$C$4:$K$116,MATCH(E$4,'Nevezési lista'!$C$4:$K$4,0),FALSE),"") -> 39359 | F79: =IFERROR(VLOOKUP($B79,'Nevezési lista'!$C$4:$K$116,MATCH(F$4,'Nevezési lista'!$C$4:$K$4,0),FALSE),"") -> Budapest | G79: =IFERROR(VLOOKUP($B79,'Nevezési lista'!$C$4:$K$116,MATCH(G$4,'Nevezési lista'!$C$4:$K$4,0),FALSE),"") -> Budapest I. Kerületi Szilágyi Erzsébet Gimnázium | H79: =H78+$H$76 -> 0.53923611 | J79: =IF(B79>0,1,0) -> 1
B80: 42 | C80: =IFERROR(VLOOKUP($B80,'Nevezési lista'!$C$4:$K$116,MATCH(C$4,'Nevezési lista'!$C$4:$K$4,0),FALSE),"") -> Dedinszky Nóra | D80: =+D79 -> III. kcs. Leány (2007-2008) - 1,5 km klasszikus | E80: =IFERROR(VLOOKUP($B80,'Nevezési lista'!$C$4:$K$116,MATCH(E$4,'Nevezési lista'!$C$4:$K$4,0),FALSE),"") -> 39712 | F80: =IFERROR(VLOOKUP($B80,'Nevezési lista'!$C$4:$K$116,MATCH(F$4,'Nevezési lista'!$C$4:$K$4,0),FALSE),"") -> Budapest | G80: =IFERROR(VLOOKUP($B80,'Nevezési lista'!$C$4:$K$116,MATCH(G$4,'Nevezési lista'!$C$4:$K$4,0),FALSE),"") -> ELTE Gyertyánffy István Gyakorló Általános Iskola | H80: =H79+$H$76 -> 0.53958333 | J80: =IF(B80>0,1,0) -> 1
B81: 43 | C81: =IFERROR(VLOOKUP($B81,'Nevezési lista'!$C$4:$K$116,MATCH(C$4,'Nevezési lista'!$C$4:$K$4,0),FALSE),"") -> Cseke Lilla Sarolta | D81: =+D80 -> III. kcs. Leány (2007-2008) - 1,5 km klasszikus | E81: =IFERROR(VLOOKUP($B81,'Nevezési lista'!$C$4:$K$116,MATCH(E$4,'Nevezési lista'!$C$4:$K$4,0),FALSE),"") -> 39193 | F81: =IFERROR(VLOOKUP($B81,'Nevezési lista'!$C$4:$K$116,MATCH(F$4,'Nevezési lista'!$C$4:$K$4,0),FALSE),"") -> Budapest | G81: =IFERROR(VLOOKUP($B81,'Nevezési lista'!$C$4:$K$116,MATCH(G$4,'Nevezési lista'!$C$4:$K$4,0),FALSE),"") -> Budai Ciszterci Szent Imre Gimnázium | H81: =H80+$H$76 -> 0.53993056 | J81: =IF(B81>0,1,0) -> 1
B82: 44 | C82: =IFERROR(VLOOKUP($B82,'Nevezési lista'!$C$4:$K$116,MATCH(C$4,'Nevezési lista'!$C$4:$K$4,0),FALSE),"") -> Csikász Panni | D82: =+D81 -> III. kcs. Leány (2007-2008) - 1,5 km klasszikus | E82: =IFERROR(VLOOKUP($B82,'Nevezési lista'!$C$4:$K$116,MATCH(E$4,'Nevezési lista'!$C$4:$K$4,0),FALSE),"") -> 39452 | F82: =IFERROR(VLOOKUP($B82,'Nevezési lista'!$C$4:$K$116,MATCH(F$4,'Nevezési lista'!$C$4:$K$4,0),FALSE),"") -> Borsod-A-Z | G82: =IFERROR(VLOOKUP($B82,'Nevezési lista'!$C$4:$K$116,MATCH(G$4,'Nevezési lista'!$C$4:$K$4,0),FALSE),"") -> Kazincbarcikai Pollack Mihály Általános Iskola | H82: =H81+$H$76 -> 0.54027778 | J82: =IF(B82>0,1,0) -> 1
B83: 45 | C83: =IFERROR(VLOOKUP($B83,'Nevezési lista'!$C$4:$K$116,MATCH(C$4,'Nevezési lista'!$C$4:$K$4,0),FALSE),"") -> Tóth Emese | D83: =+D82 -> III. kcs. Leány (2007-2008) - 1,5 km klasszikus | E83: =IFERROR(VLOOKUP($B83,'Nevezési lista'!$C$4:$K$116,MATCH(E$4,'Nevezési lista'!$C$4:$K$4,0),FALSE),"") -> 39629 | F83: =IFERROR(VLOOKUP($B83,'Nevezési lista'!$C$4:$K$116,MATCH(F$4,'Nevezési lista'!$C$4:$K$4,0),FALSE),"") -> Borsod-A-Z | G83: =IFERROR(VLOOKUP($B83,'Nevezési lista'!$C$4:$K$116,MATCH(G$4,'Nevezési lista'!$C$4:$K$4,0),FALSE),"") -> Bükki Szlovák Nemzetiségi Általános Iskola | H83: =H82+$H$76 -> 0.540625 | J83: =IF(B83>0,1,0) -> 1
B84: 46 | C84: =IFERROR(VLOOKUP($B84,'Nevezési lista'!$C$4:$K$116,MATCH(C$4,'Nevezési lista'!$C$4:$K$4,0),FALSE),"") -> Gaál Dóra | D84: =+D83 -> III. kcs. Leány (2007-2008) - 1,5 km klasszikus | E84: =IFERROR(VLOOKUP($B84,'Nevezési lista'!$C$4:$K$116,MATCH(E$4,'Nevezési lista'!$C$4:$K$4,0),FALSE),"") -> 39430 | F84: =IFERROR(VLOOKUP($B84,'Nevezési lista'!$C$4:$K$116,MATCH(F$4,'Nevezési lista'!$C$4:$K$4,0),FALSE),"") -> Heves | G84: =IFERROR(VLOOKUP($B84,'Nevezési lista'!$C$4:$K$116,MATCH(G$4,'Nevezési lista'!$C$4:$K$4,0),FALSE),"") -> Gyöngyösi Berze Nagy János Gimnázium | H84: =H83+$H$76 -> 0.54097222 | J84: =IF(B84>0,1,0) -> 1
B85: 47 | C85: =IFERROR(VLOOKUP($B85,'Nevezési lista'!$C$4:$K$116,MATCH(C$4,'Nevezési lista'!$C$4:$K$4,0),FALSE),"") -> Kovács Andrea | D85: =+D84 -> III. kcs. Leány (2007-2008) - 1,5 km klasszikus | E85: =IFERROR(VLOOKUP($B85,'Nevezési lista'!$C$4:$K$116,MATCH(E$4,'Nevezési lista'!$C$4:$K$4,0),FALSE),"") -> 39351 | F85: =IFERROR(VLOOKUP($B85,'Nevezési lista'!$C$4:$K$116,MATCH(F$4,'Nevezési lista'!$C$4:$K$4,0),FALSE),"") -> Budapest | G85: =IFERROR(VLOOKUP($B85,'Nevezési lista'!$C$4:$K$116,MATCH(G$4,'Nevezési lista'!$C$4:$K$4,0),FALSE),"") -> Újbudai Ádám Jenő Általános Iskola | H85: =H84+$H$76 -> 0.54131944 | J85: =IF(B85>0,1,0) -> 1
C86: =IFERROR(VLOOKUP($B86,'Nevezési lista'!$C$4:$K$116,MATCH(C$4,'Nevezési lista'!$C$4:$K$4,0),FALSE),"") | D86: =+D85 -> III. kcs. Leány (2007-2008) - 1,5 km klasszikus | E86: =IFERROR(VLOOKUP($B86,'Nevezési lista'!$C$4:$K$116,MATCH(E$4,'Nevezési lista'!$C$4:$K$4,0),FALSE),"") | F86: =IFERROR(VLOOKUP($B86,'Nevezési lista'!$C$4:$K$116,MATCH(F$4,'Nevezési lista'!$C$4:$K$4,0),FALSE),"") | G86: =IFERROR(VLOOKUP($B86,'Nevezési lista'!$C$4:$K$116,MATCH(G$4,'Nevezési lista'!$C$4:$K$4,0),FALSE),"") | H86: =H85+$H$76 -> 0.54166667 | J86: =IF(B86>0,1,0) -> 0
C87: =IFERROR(VLOOKUP($B87,'Nevezési lista'!$C$4:$K$116,MATCH(C$4,'Nevezési lista'!$C$4:$K$4,0),FALSE),"") | D87: =+D86 -> III. kcs. Leány (2007-2008) - 1,5 km klasszikus | E87: =IFERROR(VLOOKUP($B87,'Nevezési lista'!$C$4:$K$116,MATCH(E$4,'Nevezési lista'!$C$4:$K$4,0),FALSE),"") | F87: =IFERROR(VLOOKUP($B87,'Nevezési lista'!$C$4:$K$116,MATCH(F$4,'Nevezési lista'!$C$4:$K$4,0),FALSE),"") | G87: =IFERROR(VLOOKUP($B87,'Nevezési lista'!$C$4:$K$116,MATCH(G$4,'Nevezési lista'!$C$4:$K$4,0),FALSE),"") | H87: =H86+$H$76 -> 0.54201389 | J87: =IF(B87>0,1,0) -> 0
C88: =IFERROR(VLOOKUP($B88,'Nevezési lista'!$C$4:$K$116,MATCH(C$4,'Nevezési lista'!$C$4:$K$4,0),FALSE),"") | D88: =+D87 -> III. kcs. Leány (2007-2008) - 1,5 km klasszikus | E88: =IFERROR(VLOOKUP($B88,'Nevezési lista'!$C$4:$K$116,MATCH(E$4,'Nevezési lista'!$C$4:$K$4,0),FALSE),"") | F88: =IFERROR(VLOOKUP($B88,'Nevezési lista'!$C$4:$K$116,MATCH(F$4,'Nevezési lista'!$C$4:$K$4,0),FALSE),"") | G88: =IFERROR(VLOOKUP($B88,'Nevezési lista'!$C$4:$K$116,MATCH(G$4,'Nevezési lista'!$C$4:$K$4,0),FALSE),"") | H88: =H87+$H$76 -> 0.54236111 | J88: =IF(B88>0,1,0) -> 0
C89: =IFERROR(VLOOKUP($B89,'Nevezési lista'!$C$4:$K$116,MATCH(C$4,'Nevezési lista'!$C$4:$K$4,0),FALSE),"") | D89: =+D88 -> III. kcs. Leány (2007-2008) - 1,5 km klasszikus | E89: =IFERROR(VLOOKUP($B89,'Nevezési lista'!$C$4:$K$116,MATCH(E$4,'Nevezési lista'!$C$4:$K$4,0),FALSE),"") | F89: =IFERROR(VLOOKUP($B89,'Nevezési lista'!$C$4:$K$116,MATCH(F$4,'Nevezési lista'!$C$4:$K$4,0),FALSE),"") | G89: =IFERROR(VLOOKUP($B89,'Nevezési lista'!$C$4:$K$116,MATCH(G$4,'Nevezési lista'!$C$4:$K$4,0),FALSE),"") | H89: =H88+$H$76 -> 0.54270833 | J89: =IF(B89>0,1,0) -> 0
C90: =IFERROR(VLOOKUP($B90,'Nevezési lista'!$C$4:$K$116,MATCH(C$4,'Nevezési lista'!$C$4:$K$4,0),FALSE),"") | D90: =+D89 -> III. kcs. Leány (2007-2008) - 1,5 km klasszikus | E90: =IFERROR(VLOOKUP($B90,'Nevezési lista'!$C$4:$K$116,MATCH(E$4,'Nevezési lista'!$C$4:$K$4,0),FALSE),"") | F90: =IFERROR(VLOOKUP($B90,'Nevezési lista'!$C$4:$K$116,MATCH(F$4,'Nevezési lista'!$C$4:$K$4,0),FALSE),"") | G90: =IFERROR(VLOOKUP($B90,'Nevezési lista'!$C$4:$K$116,MATCH(G$4,'Nevezési lista'!$C$4:$K$4,0),FALSE),"") | H90: =H89+$H$76 -> 0.54305556 | J90: =IF(B90>0,1,0) -> 0
C91: =IFERROR(VLOOKUP($B91,'Nevezési lista'!$C$4:$K$116,MATCH(C$4,'Nevezési lista'!$C$4:$K$4,0),FALSE),"") | D91: =+D90 -> III. kcs. Leány (2007-2008) - 1,5 km klasszikus | E91: =IFERROR(VLOOKUP($B91,'Nevezési lista'!$C$4:$K$116,MATCH(E$4,'Nevezési lista'!$C$4:$K$4,0),FALSE),"") | F91: =IFERROR(VLOOKUP($B91,'Nevezési lista'!$C$4:$K$116,MATCH(F$4,'Nevezési lista'!$C$4:$K$4,0),FALSE),"") | G91: =IFERROR(VLOOKUP($B91,'Nevezési lista'!$C$4:$K$116,MATCH(G$4,'Nevezési lista'!$C$4:$K$4,0),FALSE),"") | H91: =H90+$H$76 -> 0.54340278 | J91: =IF(B91>0,1,0) -> 0
B92: 0 | J92: =IF(B92>0,1,0) -> 0
B93: =+Kategóriák!$E$11 -> III. kcs. Fiú (2007-2008) - 1,5 km klasszikus | H93: 0.00034722222
B94: 48 | C94: =IFERROR(VLOOKUP($B94,'Nevezési lista'!$C$4:$K$116,MATCH(C$4,'Nevezési lista'!$C$4:$K$4,0),FALSE),"") -> Besze Dániel Zalán | D94: =+B93 -> III. kcs. Fiú (2007-2008) - 1,5 km klasszikus | E94: =IFERROR(VLOOKUP($B94,'Nevezési lista'!$C$4:$K$116,MATCH(E$4,'Nevezési lista'!$C$4:$K$4,0),FALSE),"") -> 39493 | F94: =IFERROR(VLOOKUP($B94,'Nevezési lista'!$C$4:$K$116,MATCH(F$4,'Nevezési lista'!$C$4:$K$4,0),FALSE),"") -> Heves | G94: =IFERROR(VLOOKUP($B94,'Nevezési lista'!$C$4:$K$116,MATCH(G$4,'Nevezési lista'!$C$4:$K$4,0),FALSE),"") -> Gyöngyössolymosi Nagy Gyula Katolikus Általános Iskola és Alapfokú Művészeti Iskola | H94: =+Versenyprogram!C21+H93 -> 0.56631944 | J94: =IF(B94>0,1,0) -> 1
B95: 49 | C95: =IFERROR(VLOOKUP($B95,'Nevezési lista'!$C$4:$K$116,MATCH(C$4,'Nevezési lista'!$C$4:$K$4,0),FALSE),"") -> Csorba Zalán | D95: =+D94 -> III. kcs. Fiú (2007-2008) - 1,5 km klasszikus | E95: =IFERROR(VLOOKUP($B95,'Nevezési lista'!$C$4:$K$116,MATCH(E$4,'Nevezési lista'!$C$4:$K$4,0),FALSE),"") -> 39485 | F95: =IFERROR(VLOOKUP($B95,'Nevezési lista'!$C$4:$K$116,MATCH(F$4,'Nevezési lista'!$C$4:$K$4,0),FALSE),"") -> Borsod-A-Z | G95: =IFERROR(VLOOKUP($B95,'Nevezési lista'!$C$4:$K$116,MATCH(G$4,'Nevezési lista'!$C$4:$K$4,0),FALSE),"") -> Bükki Szlovák Nemzetiségi Általános Iskola | H95: =H94+$H$93 -> 0.56666667 | J95: =IF(B95>0,1,0) -> 1
B96: 50 | C96: =IFERROR(VLOOKUP($B96,'Nevezési lista'!$C$4:$K$116,MATCH(C$4,'Nevezési lista'!$C$4:$K$4,0),FALSE),"") -> Korenika Szabolcs | D96: =+D95 -> III. kcs. Fiú (2007-2008) - 1,5 km klasszikus | E96: =IFERROR(VLOOKUP($B96,'Nevezési lista'!$C$4:$K$116,MATCH(E$4,'Nevezési lista'!$C$4:$K$4,0),FALSE),"") -> 39184 | F96: =IFERROR(VLOOKUP($B96,'Nevezési lista'!$C$4:$K$116,MATCH(F$4,'Nevezési lista'!$C$4:$K$4,0),FALSE),"") -> Bács-Kiskun | G96: =IFERROR(VLOOKUP($B96,'Nevezési lista'!$C$4:$K$116,MATCH(G$4,'Nevezési lista'!$C$4:$K$4,0),FALSE),"") -> Kecskeméti Református Gimnázium | H96: =H95+$H$93 -> 0.56701389 | J96: =IF(B96>0,1,0) -> 1
B97: 51 | C97: =IFERROR(VLOOKUP($B97,'Nevezési lista'!$C$4:$K$116,MATCH(C$4,'Nevezési lista'!$C$4:$K$4,0),FALSE),"") -> Magyar Botond | D97: =+D96 -> III. kcs. Fiú (2007-2008) - 1,5 km klasszikus | E97: =IFERROR(VLOOKUP($B97,'Nevezési lista'!$C$4:$K$116,MATCH(E$4,'Nevezési lista'!$C$4:$K$4,0),FALSE),"") -> 39490 | F97: =IFERROR(VLOOKUP($B97,'Nevezési lista'!$C$4:$K$116,MATCH(F$4,'Nevezési lista'!$C$4:$K$4,0),FALSE),"") -> Borsod-A-Z | G97: =IFERROR(VLOOKUP($B97,'Nevezési lista'!$C$4:$K$116,MATCH(G$4,'Nevezési lista'!$C$4:$K$4,0),FALSE),"") -> Bükki Szlovák Nemzetiségi Általános Iskola | H97: =H96+$H$93 -> 0.56736111 | J97: =IF(B97>0,1,0) -> 1
B98: 52 | C98: =IFERROR(VLOOKUP($B98,'Nevezési lista'!$C$4:$K$116,MATCH(C$4,'Nevezési lista'!$C$4:$K$4,0),FALSE),"") -> Birner Iván András | D98: =+D97 -> III. kcs. Fiú (2007-2008) - 1,5 km klasszikus | E98: =IFERROR(VLOOKUP($B98,'Nevezési lista'!$C$4:$K$116,MATCH(E$4,'Nevezési lista'!$C$4:$K$4,0),FALSE),"") -> 39805 | F98: =IFERROR(VLOOKUP($B98,'Nevezési lista'!$C$4:$K$116,MATCH(F$4,'Nevezési lista'!$C$4:$K$4,0),FALSE),"") -> Heves | G98: =IFERROR(VLOOKUP($B98,'Nevezési lista'!$C$4:$K$116,MATCH(G$4,'Nevezési lista'!$C$4:$K$4,0),FALSE),"") -> Gyöngyösi Arany János Általános Iskola | H98: =H97+$H$93 -> 0.56770833 | J98: =IF(B98>0,1,0) -> 1
B99: 53 | C99: =IFERROR(VLOOKUP($B99,'Nevezési lista'!$C$4:$K$116,MATCH(C$4,'Nevezési lista'!$C$4:$K$4,0),FALSE),"") -> Ujj László Krisztián | D99: =+D98 -> III. kcs. Fiú (2007-2008) - 1,5 km klasszikus | E99: =IFERROR(VLOOKUP($B99,'Nevezési lista'!$C$4:$K$116,MATCH(E$4,'Nevezési lista'!$C$4:$K$4,0),FALSE),"") -> 39415 | F99: =IFERROR(VLOOKUP($B99,'Nevezési lista'!$C$4:$K$116,MATCH(F$4,'Nevezési lista'!$C$4:$K$4,0),FALSE),"") -> Heves | G99: =IFERROR(VLOOKUP($B99,'Nevezési lista'!$C$4:$K$116,MATCH(G$4,'Nevezési lista'!$C$4:$K$4,0),FALSE),"") -> Felső-Mátrai Zakupszky László Általános Iskola és Óvoda | H99: =H98+$H$93 -> 0.56805556 | J99: =IF(B99>0,1,0) -> 1
B100: 54 | C100: =IFERROR(VLOOKUP($B100,'Nevezési lista'!$C$4:$K$116,MATCH(C$4,'Nevezési lista'!$C$4:$K$4,0),FALSE),"") -> Ficsor Áron | D100: =+D99 -> III. kcs. Fiú (2007-2008) - 1,5 km klasszikus | E100: =IFERROR(VLOOKUP($B100,'Nevezési lista'!$C$4:$K$116,MATCH(E$4,'Nevezési lista'!$C$4:$K$4,0),FALSE),"") -> 39404 | F100: =IFERROR(VLOOKUP($B100,'Nevezési lista'!$C$4:$K$116,MATCH(F$4,'Nevezési lista'!$C$4:$K$4,0),FALSE),"") -> Heves | G100: =IFERROR(VLOOKUP($B100,'Nevezési lista'!$C$4:$K$116,MATCH(G$4,'Nevezési lista'!$C$4:$K$4,0),FALSE),"") -> Eszterházy Károly Egyetem Gyakorló Általános, Közép-, Alapfokú Művészeti Iskola és Pedagógiai Intézet | H100: =H99+$H$93 -> 0.56840278 | J100: =IF(B100>0,1,0) -> 1
B101: 55 | C101: =IFERROR(VLOOKUP($B101,'Nevezési lista'!$C$4:$K$116,MATCH(C$4,'Nevezési lista'!$C$4:$K$4,0),FALSE),"") -> Kunos László Sámuel | D101: =+D100 -> III. kcs. Fiú (2007-2008) - 1,5 km klasszikus | E101: =IFERROR(VLOOKUP($B101,'Nevezési lista'!$C$4:$K$116,MATCH(E$4,'Nevezési lista'!$C$4:$K$4,0),FALSE),"") -> 39380 | F101: =IFERROR(VLOOKUP($B101,'Nevezési lista'!$C$4:$K$116,MATCH(F$4,'Nevezési lista'!$C$4:$K$4,0),FALSE),"") -> Budapest | G101: =IFERROR(VLOOKUP($B101,'Nevezési lista'!$C$4:$K$116,MATCH(G$4,'Nevezési lista'!$C$4:$K$4,0),FALSE),"") -> Lauder Javne Zsidó Közösségi Óvoda, Általános Iskola, Középiskola és Zenei Alapfokú Művészeti Iskola | H101: =H100+$H$93 -> 0.56875 | J101: =IF(B101>0,1,0) -> 1
B102: 56 | C102: =IFERROR(VLOOKUP($B102,'Nevezési lista'!$C$4:$K$116,MATCH(C$4,'Nevezési lista'!$C$4:$K$4,0),FALSE),"") -> Előházi János | D102: =+D101 -> III. kcs. Fiú (2007-2008) - 1,5 km klasszikus | E102: =IFERROR(VLOOKUP($B102,'Nevezési lista'!$C$4:$K$116,MATCH(E$4,'Nevezési lista'!$C$4:$K$4,0),FALSE),"") -> 39385 | F102: =IFERROR(VLOOKUP($B102,'Nevezési lista'!$C$4:$K$116,MATCH(F$4,'Nevezési lista'!$C$4:$K$4,0),FALSE),"") -> Heves | G102: =IFERROR(VLOOKUP($B102,'Nevezési lista'!$C$4:$K$116,MATCH(G$4,'Nevezési lista'!$C$4:$K$4,0),FALSE),"") -> Gyöngyössolymosi Nagy Gyula Katolikus Általános Iskola és Alapfokú Művészeti Iskola | H102: =H101+$H$93 -> 0.56909722 | J102: =IF(B102>0,1,0) -> 1
...

Sheet reader
A2: Adatfájl: | B2: c:/reader/cardList.txt
A5: Rajtszám | B5: Kártyaadat | C5: Dátum | D5: Idő

Sheet Idő
A1: rsz | B1: rsz javított | C1: dátum | D1: idő | E1: Megjegyzés | F1: reader | G1: eltérés | I1: Megjegyzés | J1: Hibaüzenet | K1: Név javított | L1: Egyesület | M1: Kategória | N1: Futóidő
A2: 2 | B2: =A2 -> 2 | C2: 43701 | D2: 0.43075231 | F2: =IFERROR(VLOOKUP(B2,reader!A:D,4,FALSE),"") | G2: =IF(F2="","",IF(D2>F2,"-",IF(D2<F2,"+",""))) | H2: =IF(F2="","",ABS(F2-D2)) | J2: =IF(B2="-","",IF(COUNTIFS($B$1:B1,B2)>0,"MÁR BEFUTOTT!",IF(COUNTIFS(Rajtlista!B:B,B2)=1,"","Nincs ilyen rsz!"))) | K2: =IFERROR(VLOOKUP(B2,Rajtlista!B:I,2,FALSE),"") -> Birner Léna Petra | L2: =IFERROR(VLOOKUP(B2,Rajtlista!B:J,6,FALSE),"") -> Gyöngyösi Arany János Általános Iskola | M2: =IFERROR(VLOOKUP(B2,Rajtlista!B:I,3,FALSE),"") -> I. kcs. Leány (2011-) - 0,5 km klasszikus | N2: =IFERROR(D2-VLOOKUP(B2,Rajtlista!B:J,7,FALSE),"") -> 0.013391204
A3: 3 | B3: =A3 -> 3 | C3: 43701 | D3: 0.43208333 | E3: 0.42246528 | F3: =IFERROR(VLOOKUP(B3,reader!A:D,4,FALSE),"") | G3: =IF(F3="","",IF(D3>F3,"-",IF(D3<F3,"+",""))) | H3: =IF(F3="","",ABS(F3-D3)) | J3: =IF(B3="-","",IF(COUNTIFS($B$1:B2,B3)>0,"MÁR BEFUTOTT!",IF(COUNTIFS(Rajtlista!B:B,B3)=1,"","Nincs ilyen rsz!"))) | K3: =IFERROR(VLOOKUP(B3,Rajtlista!B:I,2,FALSE),"") -> Gergely Lujza Piroska | L3: =IFERROR(VLOOKUP(B3,Rajtlista!B:J,6,FALSE),"") -> Budenz József Általános Iskola és Gimnázium | M3: =IFERROR(VLOOKUP(B3,Rajtlista!B:I,3,FALSE),"") -> I. kcs. Leány (2011-) - 0,5 km klasszikus | N3: =IFERROR(D3-VLOOKUP(B3,Rajtlista!B:J,7,FALSE),"") -> 0.014375
A4: 5 | B4: =A4 -> 5 | C4: 43701 | D4: 0.43392361 | E4: 0.42256944 | F4: =IFERROR(VLOOKUP(B4,reader!A:D,4,FALSE),"") | G4: =IF(F4="","",IF(D4>F4,"-",IF(D4<F4,"+",""))) | H4: =IF(F4="","",ABS(F4-D4)) | J4: =IF(B4="-","",IF(COUNTIFS($B$1:B3,B4)>0,"MÁR BEFUTOTT!",IF(COUNTIFS(Rajtlista!B:B,B4)=1,"","Nincs ilyen rsz!"))) | K4: =IFERROR(VLOOKUP(B4,Rajtlista!B:I,2,FALSE),"") -> Maus Virág | L4: =IFERROR(VLOOKUP(B4,Rajtlista!B:J,6,FALSE),"") -> Budenz József Általános Iskola és Gimnázium | M4: =IFERROR(VLOOKUP(B4,Rajtlista!B:I,3,FALSE),"") -> I. kcs. Leány (2011-) - 0,5 km klasszikus | N4: =IFERROR(D4-VLOOKUP(B4,Rajtlista!B:J,7,FALSE),"") -> 0.015520833
A5: 1 | B5: =A5 -> 1 | C5: 43701 | D5: 0.43527778 | E5: 0.42256944 | F5: =IFERROR(VLOOKUP(B5,reader!A:D,4,FALSE),"") | G5: =IF(F5="","",IF(D5>F5,"-",IF(D5<F5,"+",""))) | H5: =IF(F5="","",ABS(F5-D5)) | J5: =IF(B5="-","",IF(COUNTIFS($B$1:B4,B5)>0,"MÁR BEFUTOTT!",IF(COUNTIFS(Rajtlista!B:B,B5)=1,"","Nincs ilyen rsz!"))) | K5: =IFERROR(VLOOKUP(B5,Rajtlista!B:I,2,FALSE),"") -> Nagy Sarolta | L5: =IFERROR(VLOOKUP(B5,Rajtlista!B:J,6,FALSE),"") -> József Nádor Általános Iskola és Alapfokú Művészeti Iskola (ÖKO Iskola) | M5: =IFERROR(VLOOKUP(B5,Rajtlista!B:I,3,FALSE),"") -> I. kcs. Leány (2011-) - 0,5 km klasszikus | N5: =IFERROR(D5-VLOOKUP(B5,Rajtlista!B:J,7,FALSE),"") -> 0.018263889
A6: 4 | B6: =A6 -> 4 | C6: 43701 | D6: 0.43737269 | E6: 0.42256944 | F6: =IFERROR(VLOOKUP(B6,reader!A:D,4,FALSE),"") | G6: =IF(F6="","",IF(D6>F6,"-",IF(D6<F6,"+",""))) | H6: =IF(F6="","",ABS(F6-D6)) | J6: =IF(B6="-","",IF(COUNTIFS($B$1:B5,B6)>0,"MÁR BEFUTOTT!",IF(COUNTIFS(Rajtlista!B:B,B6)=1,"","Nincs ilyen rsz!"))) | K6: =IFERROR(VLOOKUP(B6,Rajtlista!B:I,2,FALSE),"") -> Sári Laura | L6: =IFERROR(VLOOKUP(B6,Rajtlista!B:J,6,FALSE),"") -> Prohászka Ottokár Orsolyita Gimnázium, Általános Iskola és Óvoda | M6: =IFERROR(VLOOKUP(B6,Rajtlista!B:I,3,FALSE),"") -> I. kcs. Leány (2011-) - 0,5 km klasszikus | N6: =IFERROR(D6-VLOOKUP(B6,Rajtlista!B:J,7,FALSE),"") -> 0.01931713
A7: 6 | B7: =A7 -> 6 | C7: 43701 | D7: 0.47447917 | E7: 0.42256944 | F7: =IFERROR(VLOOKUP(B7,reader!A:D,4,FALSE),"") | G7: =IF(F7="","",IF(D7>F7,"-",IF(D7<F7,"+",""))) | H7: =IF(F7="","",ABS(F7-D7)) | J7: =IF(B7="-","",IF(COUNTIFS($B$1:B6,B7)>0,"MÁR BEFUTOTT!",IF(COUNTIFS(Rajtlista!B:B,B7)=1,"","Nincs ilyen rsz!"))) | K7: =IFERROR(VLOOKUP(B7,Rajtlista!B:I,2,FALSE),"") -> Rosivall Emma Nóra | L7: =IFERROR(VLOOKUP(B7,Rajtlista!B:J,6,FALSE),"") -> Budenz József Általános Iskola és Gimnázium | M7: =IFERROR(VLOOKUP(B7,Rajtlista!B:I,3,FALSE),"") -> I. kcs. Leány (2011-) - 0,5 km klasszikus | N7: =IFERROR(D7-VLOOKUP(B7,Rajtlista!B:J,7,FALSE),"") -> 0.055729167
A8: 10 | B8: =A8 -> 10 | C8: 43701 | D8: 0.475 | E8: 0.42256944 | F8: =IFERROR(VLOOKUP(B8,reader!A:D,4,FALSE),"") | G8: =IF(F8="","",IF(D8>F8,"-",IF(D8<F8,"+",""))) | H8: =IF(F8="","",ABS(F8-D8)) | J8: =IF(B8="-","",IF(COUNTIFS($B$1:B7,B8)>0,"MÁR BEFUTOTT!",IF(COUNTIFS(Rajtlista!B:B,B8)=1,"","Nincs ilyen rsz!"))) | K8: =IFERROR(VLOOKUP(B8,Rajtlista!B:I,2,FALSE),"") -> Szabolcs Márton | L8: =IFERROR(VLOOKUP(B8,Rajtlista!B:J,6,FALSE),"") -> Gödi Németh László Általános Iskola és Alapfokú Művészeti Iskola | M8: =IFERROR(VLOOKUP(B8,Rajtlista!B:I,3,FALSE),"") -> I. kcs. Fiú (2011-) - 0,5 km klasszikus | N8: =IFERROR(D8-VLOOKUP(B8,Rajtlista!B:J,7,FALSE),"") -> 0.055902778
A9: 8 | B9: 11 | C9: 43701 | D9: 0.47707176 | E9: 0.42256944 | F9: =IFERROR(VLOOKUP(B9,reader!A:D,4,FALSE),"") | G9: =IF(F9="","",IF(D9>F9,"-",IF(D9<F9,"+",""))) | H9: =IF(F9="","",ABS(F9-D9)) | J9: =IF(B9="-","",IF(COUNTIFS($B$1:B8,B9)>0,"MÁR BEFUTOTT!",IF(COUNTIFS(Rajtlista!B:B,B9)=1,"","Nincs ilyen rsz!"))) | K9: =IFERROR(VLOOKUP(B9,Rajtlista!B:I,2,FALSE),"") -> Gergely Márton | L9: =IFERROR(VLOOKUP(B9,Rajtlista!B:J,6,FALSE),"") -> Budenz József Általános Iskola és Gimnázium | M9: =IFERROR(VLOOKUP(B9,Rajtlista!B:I,3,FALSE),"") -> I. kcs. Fiú (2011-) - 0,5 km klasszikus | N9: =IFERROR(D9-VLOOKUP(B9,Rajtlista!B:J,7,FALSE),"") -> 0.057627315
A10: 8 | B10: =A10 -> 8 | C10: 43701 | D10: 0.47871528 | E10: 0.42256944 | F10: =IFERROR(VLOOKUP(B10,reader!A:D,4,FALSE),"") | G10: =IF(F10="","",IF(D10>F10,"-",IF(D10<F10,"+",""))) | H10: =IF(F10="","",ABS(F10-D10)) | J10: =IF(B10="-","",IF(COUNTIFS($B$1:B9,B10)>0,"MÁR BEFUTOTT!",IF(COUNTIFS(Rajtlista!B:B,B10)=1,"","Nincs ilyen rsz!"))) | K10: =IFERROR(VLOOKUP(B10,Rajtlista!B:I,2,FALSE),"") -> Szabó Botond | L10: =IFERROR(VLOOKUP(B10,Rajtlista!B:J,6,FALSE),"") -> Gyöngyöshalászi Széchenyi István Általános Iskola | M10: =IFERROR(VLOOKUP(B10,Rajtlista!B:I,3,FALSE),"") -> I. kcs. Fiú (2011-) - 0,5 km klasszikus | N10: =IFERROR(D10-VLOOKUP(B10,Rajtlista!B:J,7,FALSE),"") -> 0.0603125
A11: 7 | B11: =A11 -> 7 | C11: 43701 | D11: 0.48547454 | E11: 0.42256944 | F11: =IFERROR(VLOOKUP(B11,reader!A:D,4,FALSE),"") | G11: =IF(F11="","",IF(D11>F11,"-",IF(D11<F11,"+",""))) | H11: =IF(F11="","",ABS(F11-D11)) | J11: =IF(B11="-","",IF(COUNTIFS($B$1:B10,B11)>0,"MÁR BEFUTOTT!",IF(COUNTIFS(Rajtlista!B:B,B11)=1,"","Nincs ilyen rsz!"))) | K11: =IFERROR(VLOOKUP(B11,Rajtlista!B:I,2,FALSE),"") -> Bozóki Barbara | L11: =IFERROR(VLOOKUP(B11,Rajtlista!B:J,6,FALSE),"") -> Péceli Integrált Oktatási Központ Általános Iskola és Gimnázium | M11: =IFERROR(VLOOKUP(B11,Rajtlista!B:I,3,FALSE),"") -> I. kcs. Leány (2011-) - 0,5 km klasszikus | N11: =IFERROR(D11-VLOOKUP(B11,Rajtlista!B:J,7,FALSE),"") -> 0.066377315
A12: 12 | B12: =A12 -> 12 | C12: 43701 | D12: 0.51269676 | E12: 0.42256944 | F12: =IFERROR(VLOOKUP(B12,reader!A:D,4,FALSE),"") | G12: =IF(F12="","",IF(D12>F12,"-",IF(D12<F12,"+",""))) | H12: =IF(F12="","",ABS(F12-D12)) | J12: =IF(B12="-","",IF(COUNTIFS($B$1:B11,B12)>0,"MÁR BEFUTOTT!",IF(COUNTIFS(Rajtlista!B:B,B12)=1,"","Nincs ilyen rsz!"))) | K12: =IFERROR(VLOOKUP(B12,Rajtlista!B:I,2,FALSE),"") -> Besze Regina Kira | L12: =IFERROR(VLOOKUP(B12,Rajtlista!B:J,6,FALSE),"") -> Gyöngyössolymosi Nagy Gyula Katolikus Általános Iskola és Alapfokú Művészeti Iskola | M12: =IFERROR(VLOOKUP(B12,Rajtlista!B:I,3,FALSE),"") -> II. kcs. Leány (2009-2010) - 1 km klasszikus | N12: =IFERROR(D12-VLOOKUP(B12,Rajtlista!B:J,7,FALSE),"") -> 0.050543981
A13: 14 | B13: =A13 -> 14 | C13: 43701 | D13: 0.5127662 | E13: 0.42256944 | F13: =IFERROR(VLOOKUP(B13,reader!A:D,4,FALSE),"") | G13: =IF(F13="","",IF(D13>F13,"-",IF(D13<F13,"+",""))) | H13: =IF(F13="","",ABS(F13-D13)) | J13: =IF(B13="-","",IF(COUNTIFS($B$1:B12,B13)>0,"MÁR BEFUTOTT!",IF(COUNTIFS(Rajtlista!B:B,B13)=1,"","Nincs ilyen rsz!"))) | K13: =IFERROR(VLOOKUP(B13,Rajtlista!B:I,2,FALSE),"") -> Jankó Boglárka Dóra | L13: =IFERROR(VLOOKUP(B13,Rajtlista!B:J,6,FALSE),"") -> Kesjár Csaba Általános Iskola | M13: =IFERROR(VLOOKUP(B13,Rajtlista!B:I,3,FALSE),"") -> II. kcs. Leány (2009-2010) - 1 km klasszikus | N13: =IFERROR(D13-VLOOKUP(B13,Rajtlista!B:J,7,FALSE),"") -> 0.049918981
A14: 16 | B14: =A14 -> 16 | C14: 43701 | D14: 0.51361111 | E14: 0.42256944 | F14: =IFERROR(VLOOKUP(B14,reader!A:D,4,FALSE),"") | G14: =IF(F14="","",IF(D14>F14,"-",IF(D14<F14,"+",""))) | H14: =IF(F14="","",ABS(F14-D14)) | J14: =IF(B14="-","",IF(COUNTIFS($B$1:B13,B14)>0,"MÁR BEFUTOTT!",IF(COUNTIFS(Rajtlista!B:B,B14)=1,"","Nincs ilyen rsz!"))) | K14: =IFERROR(VLOOKUP(B14,Rajtlista!B:I,2,FALSE),"") -> Zámbó Hanna | L14: =IFERROR(VLOOKUP(B14,Rajtlista!B:J,6,FALSE),"") -> Testnevelési Egyetem Gyakorló Sportiskolai Általános Iskola és Gimnázium | M14: =IFERROR(VLOOKUP(B14,Rajtlista!B:I,3,FALSE),"") -> II. kcs. Leány (2009-2010) - 1 km klasszikus | N14: =IFERROR(D14-VLOOKUP(B14,Rajtlista!B:J,7,FALSE),"") -> 0.050069444
A15: 13 | B15: =A15 -> 13 | C15: 43701 | D15: 0.51387731 | E15: 0.42256944 | F15: =IFERROR(VLOOKUP(B15,reader!A:D,4,FALSE),"") | G15: =IF(F15="","",IF(D15>F15,"-",IF(D15<F15,"+",""))) | H15: =IF(F15="","",ABS(F15-D15)) | J15: =IF(B15="-","",IF(COUNTIFS($B$1:B14,B15)>0,"MÁR BEFUTOTT!",IF(COUNTIFS(Rajtlista!B:B,B15)=1,"","Nincs ilyen rsz!"))) | K15: =IFERROR(VLOOKUP(B15,Rajtlista!B:I,2,FALSE),"") -> Katona Korinna | L15: =IFERROR(VLOOKUP(B15,Rajtlista!B:J,6,FALSE),"") -> Eszterházy Károly Egyetem Gyakorló Általános, Közép-, Alapfokú Művészeti Iskola és Pedagógiai Intézet | M15: =IFERROR(VLOOKUP(B15,Rajtlista!B:I,3,FALSE),"") -> II. kcs. Leány (2009-2010) - 1 km klasszikus | N15: =IFERROR(D15-VLOOKUP(B15,Rajtlista!B:J,7,FALSE),"") -> 0.051377315
A16: 17 | B16: =A16 -> 17 | C16: 43701 | D16: 0.51454861 | E16: 0.42256944 | F16: =IFERROR(VLOOKUP(B16,reader!A:D,4,FALSE),"") | G16: =IF(F16="","",IF(D16>F16,"-",IF(D16<F16,"+",""))) | H16: =IF(F16="","",ABS(F16-D16)) | J16: =IF(B16="-","",IF(COUNTIFS($B$1:B15,B16)>0,"MÁR BEFUTOTT!",IF(COUNTIFS(Rajtlista!B:B,B16)=1,"","Nincs ilyen rsz!"))) | K16: =IFERROR(VLOOKUP(B16,Rajtlista!B:I,2,FALSE),"") -> Varga Léna | L16: =IFERROR(VLOOKUP(B16,Rajtlista!B:J,6,FALSE),"") -> ELTE Gyertyánffy István Gyakorló Általános Iskola | M16: =IFERROR(VLOOKUP(B16,Rajtlista!B:I,3,FALSE),"") -> II. kcs. Leány (2009-2010) - 1 km klasszikus | N16: =IFERROR(D16-VLOOKUP(B16,Rajtlista!B:J,7,FALSE),"") -> 0.050659722
A17: 18 | B17: =A17 -> 18 | C17: 43701 | D17: 0.51540509 | E17: 0.42256944 | F17: =IFERROR(VLOOKUP(B17,reader!A:D,4,FALSE),"") | G17: =IF(F17="","",IF(D17>F17,"-",IF(D17<F17,"+",""))) | H17: =IF(F17="","",ABS(F17-D17)) | J17: =IF(B17="-","",IF(COUNTIFS($B$1:B16,B17)>0,"MÁR BEFUTOTT!",IF(COUNTIFS(Rajtlista!B:B,B17)=1,"","Nincs ilyen rsz!"))) | K17: =IFERROR(VLOOKUP(B17,Rajtlista!B:I,2,FALSE),"") -> Ágoston Dalma | L17: =IFERROR(VLOOKUP(B17,Rajtlista!B:J,6,FALSE),"") -> Nivegy-völgyi Német Nemzetiségi Nyelvoktató Általános Iskola és Alapfokú Művészeti Iskola | M17: =IFERROR(VLOOKUP(B17,Rajtlista!B:I,3,FALSE),"") -> II. kcs. Leány (2009-2010) - 1 km klasszikus | N17: =IFERROR(D17-VLOOKUP(B17,Rajtlista!B:J,7,FALSE),"") -> 0.051168981
A18: 15 | B18: =A18 -> 15 | C18: 43701 | D18: 0.51578704 | E18: 0.42256944 | F18: =IFERROR(VLOOKUP(B18,reader!A:D,4,FALSE),"") | G18: =IF(F18="","",IF(D18>F18,"-",IF(D18<F18,"+",""))) | H18: =IF(F18="","",ABS(F18-D18)) | J18: =IF(B18="-","",IF(COUNTIFS($B$1:B17,B18)>0,"MÁR BEFUTOTT!",IF(COUNTIFS(Rajtlista!B:B,B18)=1,"","Nincs ilyen rsz!"))) | K18: =IFERROR(VLOOKUP(B18,Rajtlista!B:I,2,FALSE),"") -> Kovács Nóra | L18: =IFERROR(VLOOKUP(B18,Rajtlista!B:J,6,FALSE),"") -> Újbudai Ádám Jenő Általános Iskola | M18: =IFERROR(VLOOKUP(B18,Rajtlista!B:I,3,FALSE),"") -> II. kcs. Leány (2009-2010) - 1 km klasszikus | N18: =IFERROR(D18-VLOOKUP(B18,Rajtlista!B:J,7,FALSE),"") -> 0.052592593
A19: 19 | B19: =A19 -> 19 | C19: 43701 | D19: 0.54554398 | E19: 0.42256944 | F19: =IFERROR(VLOOKUP(B19,reader!A:D,4,FALSE),"") | G19: =IF(F19="","",IF(D19>F19,"-",IF(D19<F19,"+",""))) | H19: =IF(F19="","",ABS(F19-D19)) | J19: =IF(B19="-","",IF(COUNTIFS($B$1:B18,B19)>0,"MÁR BEFUTOTT!",IF(COUNTIFS(Rajtlista!B:B,B19)=1,"","Nincs ilyen rsz!"))) | K19: =IFERROR(VLOOKUP(B19,Rajtlista!B:I,2,FALSE),"") -> Előházi Johanna | L19: =IFERROR(VLOOKUP(B19,Rajtlista!B:J,6,FALSE),"") -> Gyöngyössolymosi Nagy Gyula Katolikus Általános Iskola és Alapfokú Művészeti Iskola | M19: =IFERROR(VLOOKUP(B19,Rajtlista!B:I,3,FALSE),"") -> II. kcs. Leány (2009-2010) - 1 km klasszikus | N19: =IFERROR(D19-VLOOKUP(B19,Rajtlista!B:J,7,FALSE),"") -> 0.080960648
A20: 21 | B20: =A20 -> 21 | C20: 43701 | D20: 0.54707176 | E20: 0.42256944 | F20: =IFERROR(VLOOKUP(B20,reader!A:D,4,FALSE),"") | G20: =IF(F20="","",IF(D20>F20,"-",IF(D20<F20,"+",""))) | H20: =IF(F20="","",ABS(F20-D20)) | J20: =IF(B20="-","",IF(COUNTIFS($B$1:B19,B20)>0,"MÁR BEFUTOTT!",IF(COUNTIFS(Rajtlista!B:B,B20)=1,"","Nincs ilyen rsz!"))) | K20: =IFERROR(VLOOKUP(B20,Rajtlista!B:I,2,FALSE),"") -> Cseke Zille Boglárka | L20: =IFERROR(VLOOKUP(B20,Rajtlista!B:J,6,FALSE),"") -> Albertfalvi Don Bosco Katolikus Általános Iskola és Óvoda | M20: =IFERROR(VLOOKUP(B20,Rajtlista!B:I,3,FALSE),"") -> II. kcs. Leány (2009-2010) - 1 km klasszikus | N20: =IFERROR(D20-VLOOKUP(B20,Rajtlista!B:J,7,FALSE),"") -> 0.081793981
A21: 13 | B21: 23 | C21: 43701 | D21: 0.54710648 | E21: 0.42256944 | F21: =IFERROR(VLOOKUP(B21,reader!A:D,4,FALSE),"") | G21: =IF(F21="","",IF(D21>F21,"-",IF(D21<F21,"+",""))) | H21: =IF(F21="","",ABS(F21-D21)) | J21: =IF(B21="-","",IF(COUNTIFS($B$1:B20,B21)>0,"MÁR BEFUTOTT!",IF(COUNTIFS(Rajtlista!B:B,B21)=1,"","Nincs ilyen rsz!"))) | K21: =IFERROR(VLOOKUP(B21,Rajtlista!B:I,2,FALSE),"") -> Mikola Márk | L21: =IFERROR(VLOOKUP(B21,Rajtlista!B:J,6,FALSE),"") -> Gyöngyössolymosi Nagy Gyula Katolikus Általános Iskola és Alapfokú Művészeti Iskola | M21: =IFERROR(VLOOKUP(B21,Rajtlista!B:I,3,FALSE),"") -> II. kcs. Fiú (2009-2010) - 1 km klasszikus | N21: =IFERROR(D21-VLOOKUP(B21,Rajtlista!B:J,7,FALSE),"") -> 0.046759259
A22: 22 | B22: =A22 -> 22 | C22: 43701 | D22: 0.54747685 | E22: 0.42256944 | F22: =IFERROR(VLOOKUP(B22,reader!A:D,4,FALSE),"") | G22: =IF(F22="","",IF(D22>F22,"-",IF(D22<F22,"+",""))) | H22: =IF(F22="","",ABS(F22-D22)) | J22: =IF(B22="-","",IF(COUNTIFS($B$1:B21,B22)>0,"MÁR BEFUTOTT!",IF(COUNTIFS(Rajtlista!B:B,B22)=1,"","Nincs ilyen rsz!"))) | K22: =IFERROR(VLOOKUP(B22,Rajtlista!B:I,2,FALSE),"") -> Bozóki Tamara | L22: =IFERROR(VLOOKUP(B22,Rajtlista!B:J,6,FALSE),"") -> Péceli Integrált Oktatási Központ Általános Iskola és Gimnázium | M22: =IFERROR(VLOOKUP(B22,Rajtlista!B:I,3,FALSE),"") -> II. kcs. Leány (2009-2010) - 1 km klasszikus | N22: =IFERROR(D22-VLOOKUP(B22,Rajtlista!B:J,7,FALSE),"") -> 0.081851852
A23: 25 | B23: =A23 -> 25 | C23: 43701 | D23: 0.54840278 | E23: 0.42256944 | F23: =IFERROR(VLOOKUP(B23,reader!A:D,4,FALSE),"") | G23: =IF(F23="","",IF(D23>F23,"-",IF(D23<F23,"+",""))) | H23: =IF(F23="","",ABS(F23-D23)) | J23: =IF(B23="-","",IF(COUNTIFS($B$1:B22,B23)>0,"MÁR BEFUTOTT!",IF(COUNTIFS(Rajtlista!B:B,B23)=1,"","Nincs ilyen rsz!"))) | K23: =IFERROR(VLOOKUP(B23,Rajtlista!B:I,2,FALSE),"") -> Telek Dominik | L23: =IFERROR(VLOOKUP(B23,Rajtlista!B:J,6,FALSE),"") -> Gyöngyössolymosi Nagy Gyula Katolikus Általános Iskola és Alapfokú Művészeti Iskola | M23: =IFERROR(VLOOKUP(B23,Rajtlista!B:I,3,FALSE),"") -> II. kcs. Fiú (2009-2010) - 1 km klasszikus | N23: =IFERROR(D23-VLOOKUP(B23,Rajtlista!B:J,7,FALSE),"") -> 0.047361111
A24: 20 | B24: =A24 -> 20 | C24: 43701 | D24: 0.55078704 | E24: 0.42256944 | F24: =IFERROR(VLOOKUP(B24,reader!A:D,4,FALSE),"") | G24: =IF(F24="","",IF(D24>F24,"-",IF(D24<F24,"+",""))) | H24: =IF(F24="","",ABS(F24-D24)) | J24: =IF(B24="-","",IF(COUNTIFS($B$1:B23,B24)>0,"MÁR BEFUTOTT!",IF(COUNTIFS(Rajtlista!B:B,B24)=1,"","Nincs ilyen rsz!"))) | K24: =IFERROR(VLOOKUP(B24,Rajtlista!B:I,2,FALSE),"") -> Cseke Villő Emese | L24: =IFERROR(VLOOKUP(B24,Rajtlista!B:J,6,FALSE),"") -> Albertfalvi Don Bosco Katolikus Általános Iskola és Óvoda | M24: =IFERROR(VLOOKUP(B24,Rajtlista!B:I,3,FALSE),"") -> II. kcs. Leány (2009-2010) - 1 km klasszikus | N24: =IFERROR(D24-VLOOKUP(B24,Rajtlista!B:J,7,FALSE),"") -> 0.085856481
A25: 27 | B25: =A25 -> 27 | C25: 43701 | D25: 0.57475694 | E25: 0.42256944 | F25: =IFERROR(VLOOKUP(B25,reader!A:D,4,FALSE),"") | G25: =IF(F25="","",IF(D25>F25,"-",IF(D25<F25,"+",""))) | H25: =IF(F25="","",ABS(F25-D25)) | J25: =IF(B25="-","",IF(COUNTIFS($B$1:B24,B25)>0,"MÁR BEFUTOTT!",IF(COUNTIFS(Rajtlista!B:B,B25)=1,"","Nincs ilyen rsz!"))) | K25: =IFERROR(VLOOKUP(B25,Rajtlista!B:I,2,FALSE),"") -> Szabolcs Balázs | L25: =IFERROR(VLOOKUP(B25,Rajtlista!B:J,6,FALSE),"") -> Gödi Németh László Általános Iskola és Alapfokú Művészeti Iskola | M25: =IFERROR(VLOOKUP(B25,Rajtlista!B:I,3,FALSE),"") -> II. kcs. Fiú (2009-2010) - 1 km klasszikus | N25: =IFERROR(D25-VLOOKUP(B25,Rajtlista!B:J,7,FALSE),"") -> 0.073020833
A26: 28 | B26: =A26 -> 28 | C26: 43701 | D26: 0.57502315 | E26: 0.42256944 | F26: =IFERROR(VLOOKUP(B26,reader!A:D,4,FALSE),"") | G26: =IF(F26="","",IF(D26>F26,"-",IF(D26<F26,"+",""))) | H26: =IF(F26="","",ABS(F26-D26)) | J26: =IF(B26="-","",IF(COUNTIFS($B$1:B25,B26)>0,"MÁR BEFUTOTT!",IF(COUNTIFS(Rajtlista!B:B,B26)=1,"","Nincs ilyen rsz!"))) | K26: =IFERROR(VLOOKUP(B26,Rajtlista!B:I,2,FALSE),"") -> Harangozó Gyergely | L26: =IFERROR(VLOOKUP(B26,Rajtlista!B:J,6,FALSE),"") -> Zugligeti Általános Iskola | M26: =IFERROR(VLOOKUP(B26,Rajtlista!B:I,3,FALSE),"") -> II. kcs. Fiú (2009-2010) - 1 km klasszikus | N26: =IFERROR(D26-VLOOKUP(B26,Rajtlista!B:J,7,FALSE),"") -> 0.072939815
A27: 26 | B27: =A27 -> 26 | C27: 43701 | D27: 0.57642361 | E27: 0.42256944 | F27: =IFERROR(VLOOKUP(B27,reader!A:D,4,FALSE),"") | G27: =IF(F27="","",IF(D27>F27,"-",IF(D27<F27,"+",""))) | H27: =IF(F27="","",ABS(F27-D27)) | J27: =IF(B27="-","",IF(COUNTIFS($B$1:B26,B27)>0,"MÁR BEFUTOTT!",IF(COUNTIFS(Rajtlista!B:B,B27)=1,"","Nincs ilyen rsz!"))) | K27: =IFERROR(VLOOKUP(B27,Rajtlista!B:I,2,FALSE),"") -> Maus Márton | L27: =IFERROR(VLOOKUP(B27,Rajtlista!B:J,6,FALSE),"") -> Budenz József Általános Iskola és Gimnázium | M27: =IFERROR(VLOOKUP(B27,Rajtlista!B:I,3,FALSE),"") -> II. kcs. Fiú (2009-2010) - 1 km klasszikus | N27: =IFERROR(D27-VLOOKUP(B27,Rajtlista!B:J,7,FALSE),"") -> 0.075034722
A28: 29 | B28: =A28 -> 29 | C28: 43701 | D28: 0.5765162 | E28: 0.42256944 | F28: =IFERROR(VLOOKUP(B28,reader!A:D,4,FALSE),"") | G28: =IF(F28="","",IF(D28>F28,"-",IF(D28<F28,"+",""))) | H28: =IF(F28="","",ABS(F28-D28)) | J28: =IF(B28="-","",IF(COUNTIFS($B$1:B27,B28)>0,"MÁR BEFUTOTT!",IF(COUNTIFS(Rajtlista!B:B,B28)=1,"","Nincs ilyen rsz!"))) | K28: =IFERROR(VLOOKUP(B28,Rajtlista!B:I,2,FALSE),"") -> Boldogh Tamás Oszkár | L28: =IFERROR(VLOOKUP(B28,Rajtlista!B:J,6,FALSE),"") -> Sashegyi Arany János Általános Iskola és Gimnázium | M28: =IFERROR(VLOOKUP(B28,Rajtlista!B:I,3,FALSE),"") -> II. kcs. Fiú (2009-2010) - 1 km klasszikus | N28: =IFERROR(D28-VLOOKUP(B28,Rajtlista!B:J,7,FALSE),"") -> 0.074085648
A29: 30 | B29: =A29 -> 30 | C29: 43701 | D29: 0.59799769 | E29: 0.42256944 | F29: =IFERROR(VLOOKUP(B29,reader!A:D,4,FALSE),"") | G29: =IF(F29="","",IF(D29>F29,"-",IF(D29<F29,"+",""))) | H29: =IF(F29="","",ABS(F29-D29)) | J29: =IF(B29="-","",IF(COUNTIFS($B$1:B28,B29)>0,"MÁR BEFUTOTT!",IF(COUNTIFS(Rajtlista!B:B,B29)=1,"","Nincs ilyen rsz!"))) | K29: =IFERROR(VLOOKUP(B29,Rajtlista!B:I,2,FALSE),"") -> Nagy Vilmos | L29: =IFERROR(VLOOKUP(B29,Rajtlista!B:J,6,FALSE),"") -> József Nádor Általános Iskola és Alapfokú Művészeti Iskola (ÖKO Iskola) | M29: =IFERROR(VLOOKUP(B29,Rajtlista!B:I,3,FALSE),"") -> II. kcs. Fiú (2009-2010) - 1 km klasszikus | N29: =IFERROR(D29-VLOOKUP(B29,Rajtlista!B:J,7,FALSE),"") -> 0.095219907
A30: 31 | B30: =A30 -> 31 | C30: 43701 | D30: 0.59877315 | E30: 0.42256944 | F30: =IFERROR(VLOOKUP(B30,reader!A:D,4,FALSE),"") | G30: =IF(F30="","",IF(D30>F30,"-",IF(D30<F30,"+",""))) | H30: =IF(F30="","",ABS(F30-D30)) | J30: =IF(B30="-","",IF(COUNTIFS($B$1:B29,B30)>0,"MÁR BEFUTOTT!",IF(COUNTIFS(Rajtlista!B:B,B30)=1,"","Nincs ilyen rsz!"))) | K30: =IFERROR(VLOOKUP(B30,Rajtlista!B:I,2,FALSE),"") -> Fekete Boldizsár László | L30: =IFERROR(VLOOKUP(B30,Rajtlista!B:J,6,FALSE),"") -> Budenz József Általános Iskola és Gimnázium | M30: =IFERROR(VLOOKUP(B30,Rajtlista!B:I,3,FALSE),"") -> II. kcs. Fiú (2009-2010) - 1 km klasszikus | N30: =IFERROR(D30-VLOOKUP(B30,Rajtlista!B:J,7,FALSE),"") -> 0.095648148
A31: 34 | B31: =A31 -> 34 | C31: 43701 | D31: 0.60010417 | E31: 0.42256944 | F31: =IFERROR(VLOOKUP(B31,reader!A:D,4,FALSE),"") | G31: =IF(F31="","",IF(D31>F31,"-",IF(D31<F31,"+",""))) | H31: =IF(F31="","",ABS(F31-D31)) | J31: =IF(B31="-","",IF(COUNTIFS($B$1:B30,B31)>0,"MÁR BEFUTOTT!",IF(COUNTIFS(Rajtlista!B:B,B31)=1,"","Nincs ilyen rsz!"))) | K31: =IFERROR(VLOOKUP(B31,Rajtlista!B:I,2,FALSE),"") -> Pap Móric István | L31: =IFERROR(VLOOKUP(B31,Rajtlista!B:J,6,FALSE),"") -> Váci Juhász Gyula Általános Iskola | M31: =IFERROR(VLOOKUP(B31,Rajtlista!B:I,3,FALSE),"") -> II. kcs. Fiú (2009-2010) - 1 km klasszikus | N31: =IFERROR(D31-VLOOKUP(B31,Rajtlista!B:J,7,FALSE),"") -> 0.0959375
A32: 32 | B32: =A32 -> 32 | C32: 43701 | D32: 0.60054398 | E32: 0.42256944 | F32: =IFERROR(VLOOKUP(B32,reader!A:D,4,FALSE),"") | G32: =IF(F32="","",IF(D32>F32,"-",IF(D32<F32,"+",""))) | H32: =IF(F32="","",ABS(F32-D32)) | J32: =IF(B32="-","",IF(COUNTIFS($B$1:B31,B32)>0,"MÁR BEFUTOTT!",IF(COUNTIFS(Rajtlista!B:B,B32)=1,"","Nincs ilyen rsz!"))) | K32: =IFERROR(VLOOKUP(B32,Rajtlista!B:I,2,FALSE),"") -> Móczár Ádám | L32: =IFERROR(VLOOKUP(B32,Rajtlista!B:J,6,FALSE),"") -> Felső-Mátrai Zakupszky László Általános Iskola és Óvoda | M32: =IFERROR(VLOOKUP(B32,Rajtlista!B:I,3,FALSE),"") -> II. kcs. Fiú (2009-2010) - 1 km klasszikus | N32: =IFERROR(D32-VLOOKUP(B32,Rajtlista!B:J,7,FALSE),"") -> 0.097071759
A33: 35 | B33: =A33 -> 35 | C33: 43701 | D33: 0.62267361 | E33: 0.42256944 | F33: =IFERROR(VLOOKUP(B33,reader!A:D,4,FALSE),"") | G33: =IF(F33="","",IF(D33>F33,"-",IF(D33<F33,"+",""))) | H33: =IF(F33="","",ABS(F33-D33)) | J33: =IF(B33="-","",IF(COUNTIFS($B$1:B32,B33)>0,"MÁR BEFUTOTT!",IF(COUNTIFS(Rajtlista!B:B,B33)=1,"","Nincs ilyen rsz!"))) | K33: =IFERROR(VLOOKUP(B33,Rajtlista!B:I,2,FALSE),"") -> Csorba Milán | L33: =IFERROR(VLOOKUP(B33,Rajtlista!B:J,6,FALSE),"") -> Bükki Szlovák Nemzetiségi Általános Iskola | M33: =IFERROR(VLOOKUP(B33,Rajtlista!B:I,3,FALSE),"") -> II. kcs. Fiú (2009-2010) - 1 km klasszikus | N33: =IFERROR(D33-VLOOKUP(B33,Rajtlista!B:J,7,FALSE),"") -> 0.11815972
... A37: 40 | B37: =A37 -> 40 | C37: 43701 | D37: 0.62434028 | E37: 0.42256944 | F37: =IFERROR(VLOOKUP(B37,reader!A:D,4,FALSE),"") | G37: =IF(F37="","",IF(D37>F37,"-",IF(D37<F37,"+",""))) | H37: =IF(F37="","",ABS(F37-D37)) | J37: =IF(B37="-","",IF(COUNTIFS($B$1:B36,B37)>0,"MÁR BEFUTOTT!",IF(COUNTIFS(Rajtlista!B:B,B37)=1,"","Nincs ilyen rsz!"))) | K37: =IFERROR(VLOOKUP(B37,Rajtlista!B:I,2,FALSE),"") -> Pap Fruzsina | L37: =IFERROR(VLOOKUP(B37,Rajtlista!B:J,6,FALSE),"") -> Váci Árpád Fejedelem Általános Iskola | M37: =IFERROR(VLOOKUP(B37,Rajtlista!B:I,3,FALSE),"") -> III. kcs. Leány (2007-2008) - 1,5 km klasszikus | N37: =IFERROR(D37-VLOOKUP(B37,Rajtlista!B:J,7,FALSE),"") -> 0.085451389
A38: 41 | B38: =A38 -> 41 | C38: 43701 | D38: 0.62440972 | E38: 0.42256944 | F38: =IFERROR(VLOOKUP(9,reader!A:D,4,FALSE),"") | G38: =IF(F38="","",IF(D38>F38,"-",IF(D38<F38,"+",""))) | H38: =IF(F38="","",ABS(F38-D38)) | J38: =IF(B38="-","",IF(COUNTIFS($B$1:B37,B38)>0,"MÁR BEFUTOTT!",IF(COUNTIFS(Rajtlista!B:B,B38)=1,"","Nincs ilyen rsz!"))) | K38: =IFERROR(VLOOKUP(B38,Rajtlista!B:I,2,FALSE),"") -> Cseke Kincső Lelle | L38: =IFERROR(VLOOKUP(B38,Rajtlista!B:J,6,FALSE),"") -> Budapest I. Kerületi Szilágyi Erzsébet Gimnázium | M38: =IFERROR(VLOOKUP(B38,Rajtlista!B:I,3,FALSE),"") -> III. kcs. Leány (2007-2008) - 1,5 km klasszikus | N38: =IFERROR(D38-VLOOKUP(B38,Rajtlista!B:J,7,FALSE),"") -> 0.085173611
A39: 39 | B39: =A39 -> 39 | C39: 43701 | D39: 0.62584491 | E39: 0.42256944 | F39: =IFERROR(VLOOKUP(B39,reader!A:D,4,FALSE),"") | G39: =IF(F39="","",IF(D39>F39,"-",IF(D39<F39,"+",""))) | H39: =IF(F39="","",ABS(F39-D39)) | J39: =IF(B39="-","",IF(COUNTIFS($B$1:B38,B39)>0,"MÁR BEFUTOTT!",IF(COUNTIFS(Rajtlista!B:B,B39)=1,"","Nincs ilyen rsz!"))) | K39: =IFERROR(VLOOKUP(B39,Rajtlista!B:I,2,FALSE),"") -> Benyovszky Lili | L39: =IFERROR(VLOOKUP(B39,Rajtlista!B:J,6,FALSE),"") -> Gyöngyössolymosi Nagy Gyula Katolikus Általános Iskola és Alapfokú Művészeti Iskola | M39: =IFERROR(VLOOKUP(B39,Rajtlista!B:I,3,FALSE),"") -> III. kcs. Leány (2007-2008) - 1,5 km klasszikus | N39: =IFERROR(D39-VLOOKUP(B39,Rajtlista!B:J,7,FALSE),"") -> 0.087303241
A40: - | B40: =A40 -> - | C40: 43701 | D40: 0.42256944 | E40: 0.42256944 | F40: =IFERROR(VLOOKUP(B40,reader!A:D,4,FALSE),"") | G40: =IF(F40="","",IF(D40>F40,"-",IF(D40<F40,"+",""))) | H40: =IF(F40="","",ABS(F40-D40)) | J40: =IF(B40="-","",IF(COUNTIFS($B$1:B39,B40)>0,"MÁR BEFUTOTT!",IF(COUNTIFS(Rajtlista!B:B,B40)=1,"","Nincs ilyen rsz!"))) | K40: =IFERROR(VLOOKUP(B40,Rajtlista!B:I,2,FALSE),"") | L40: =IFERROR(VLOOKUP(B40,Rajtlista!B:J,6,FALSE),"") | M40: =IFERROR(VLOOKUP(B40,Rajtlista!B:I,3,FALSE),"") | N40: =IFERROR(D40-VLOOKUP(B40,Rajtlista!B:J,7,FALSE),"")
A41: - | B41: =A41 -> - | C41: 43701 | D41: 0.42256944 | E41: 0.42256944 | F41: =IFERROR(VLOOKUP(B41,reader!A:D,4,FALSE),"") | G41: =IF(F41="","",IF(D41>F41,"-",IF(D41<F41,"+",""))) | H41: =IF(F41="","",ABS(F41-D41)) | J41: =IF(B41="-","",IF(COUNTIFS($B$1:B40,B41)>0,"MÁR BEFUTOTT!",IF(COUNTIFS(Rajtlista!B:B,B41)=1,"","Nincs ilyen rsz!"))) | K41: =IFERROR(VLOOKUP(B41,Rajtlista!B:I,2,FALSE),"") | L41: =IFERROR(VLOOKUP(B41,Rajtlista!B:J,6,FALSE),"") | M41: =IFERROR(VLOOKUP(B41,Rajtlista!B:I,3,FALSE),"") | N41: =IFERROR(D41-VLOOKUP(B41,Rajtlista!B:J,7,FALSE),"")
A42: - | B42: =A42 -> - | C42: 43701 | D42: 0.42256944 | E42: 0.42256944 | F42: =IFERROR(VLOOKUP(B42,reader!A:D,4,FALSE),"") | G42: =IF(F42="","",IF(D42>F42,"-",IF(D42<F42,"+",""))) | H42: =IF(F42="","",ABS(F42-D42)) | J42: =IF(B42="-","",IF(COUNTIFS($B$1:B41,B42)>0,"MÁR BEFUTOTT!",IF(COUNTIFS(Rajtlista!B:B,B42)=1,"","Nincs ilyen rsz!"))) | K42: =IFERROR(VLOOKUP(B42,Rajtlista!B:I,2,FALSE),"") | L42: =IFERROR(VLOOKUP(B42,Rajtlista!B:J,6,FALSE),"") | M42: =IFERROR(VLOOKUP(B42,Rajtlista!B:I,3,FALSE),"") | N42: =IFERROR(D42-VLOOKUP(B42,Rajtlista!B:J,7,FALSE),"")
A43: - | B43: =A43 -> - | C43: 43701 | D43: 0.42256944 | E43: 0.42256944 | F43: =IFERROR(VLOOKUP(B43,reader!A:D,4,FALSE),"") | G43: =IF(F43="","",IF(D43>F43,"-",IF(D43<F43,"+",""))) | H43: =IF(F43="","",ABS(F43-D43)) | J43: =IF(B43="-","",IF(COUNTIFS($B$1:B42,B43)>0,"MÁR BEFUTOTT!",IF(COUNTIFS(Rajtlista!B:B,B43)=1,"","Nincs ilyen rsz!"))) | K43: =IFERROR(VLOOKUP(B43,Rajtlista!B:I,2,FALSE),"") | L43: =IFERROR(VLOOKUP(B43,Rajtlista!B:J,6,FALSE),"") | M43: =IFERROR(VLOOKUP(B43,Rajtlista!B:I,3,FALSE),"") | N43: =IFERROR(D43-VLOOKUP(B43,Rajtlista!B:J,7,FALSE),"")
A44: - | B44: =A44 -> - | C44: 43701 | D44: 0.42256944 | E44: 0.42256944 | F44: =IFERROR(VLOOKUP(B44,reader!A:D,4,FALSE),"") | G44: =IF(F44="","",IF(D44>F44,"-",IF(D44<F44,"+",""))) | H44: =IF(F44="","",ABS(F44-D44)) | J44: =IF(B44="-","",IF(COUNTIFS($B$1:B43,B44)>0,"MÁR BEFUTOTT!",IF(COUNTIFS(Rajtlista!B:B,B44)=1,"","Nincs ilyen rsz!"))) | K44: =IFERROR(VLOOKUP(B44,Rajtlista!B:I,2,FALSE),"") | L44: =IFERROR(VLOOKUP(B44,Rajtlista!B:J,6,FALSE),"") | M44: =IFERROR(VLOOKUP(B44,Rajtlista!B:I,3,FALSE),"") | N44: =IFERROR(D44-VLOOKUP(B44,Rajtlista!B:J,7,FALSE),"")
A45: - | B45: =A45 -> - | C45: 43701 | D45: 0.42256944 | E45: 0.42256944 | F45: =IFERROR(VLOOKUP(B45,reader!A:D,4,FALSE),"") | G45: =IF(F45="","",IF(D45>F45,"-",IF(D45<F45,"+",""))) | H45: =IF(F45="","",ABS(F45-D45)) | J45: =IF(B45="-","",IF(COUNTIFS($B$1:B44,B45)>0,"MÁR BEFUTOTT!",IF(COUNTIFS(Rajtlista!B:B,B45)=1,"","Nincs ilyen rsz!"))) | K45: =IFERROR(VLOOKUP(B45,Rajtlista!B:I,2,FALSE),"") | L45: =IFERROR(VLOOKUP(B45,Rajtlista!B:J,6,FALSE),"") | M45: =IFERROR(VLOOKUP(B45,Rajtlista!B:I,3,FALSE),"") | N45: =IFERROR(D45-VLOOKUP(B45,Rajtlista!B:J,7,FALSE),"")
A46: - | B46: =A46 -> - | C46: 43701 | D46: 0.42256944 | E46: 0.42256944 | F46: =IFERROR(VLOOKUP(B46,reader!A:D,4,FALSE),"") | G46: =IF(F46="","",IF(D46>F46,"-",IF(D46<F46,"+",""))) | H46: =IF(F46="","",ABS(F46-D46)) | J46: =IF(B46="-","",IF(COUNTIFS($B$1:B45,B46)>0,"MÁR BEFUTOTT!",IF(COUNTIFS(Rajtlista!B:B,B46)=1,"","Nincs ilyen rsz!"))) | K46: =IFERROR(VLOOKUP(B46,Rajtlista!B:I,2,FALSE),"") | L46: =IFERROR(VLOOKUP(B46,Rajtlista!B:J,6,FALSE),"") | M46: =IFERROR(VLOOKUP(B46,Rajtlista!B:I,3,FALSE),"") | N46: =IFERROR(D46-VLOOKUP(B46,Rajtlista!B:J,7,FALSE),"")
A47: - | B47: =A47 -> - | C47: 43701 | D47: 0.42256944 | E47: 0.42256944 | F47: =IFERROR(VLOOKUP(B47,reader!A:D,4,FALSE),"") | G47: =IF(F47="","",IF(D47>F47,"-",IF(D47<F47,"+",""))) | H47: =IF(F47="","",ABS(F47-D47)) | J47: =IF(B47="-","",IF(COUNTIFS($B$1:B46,B47)>0,"MÁR BEFUTOTT!",IF(COUNTIFS(Rajtlista!B:B,B47)=1,"","Nincs ilyen rsz!"))) | K47: =IFERROR(VLOOKUP(B47,Rajtlista!B:I,2,FALSE),"") | L47: =IFERROR(VLOOKUP(B47,Rajtlista!B:J,6,FALSE),"") | M47: =IFERROR(VLOOKUP(B47,Rajtlista!B:I,3,FALSE),"") | N47: =IFERROR(D47-VLOOKUP(B47,Rajtlista!B:J,7,FALSE),"")
A48: - | B48: =A48 -> - | C48: 43701 | D48: 0.42256944 | E48: 0.42256944 | F48: =IFERROR(VLOOKUP(B48,reader!A:D,4,FALSE),"") | G48: =IF(F48="","",IF(D48>F48,"-",IF(D48<F48,"+",""))) | H48: =IF(F48="","",ABS(F48-D48)) | J48: =IF(B48="-","",IF(COUNTIFS($B$1:B47,B48)>0,"MÁR BEFUTOTT!",IF(COUNTIFS(Rajtlista!B:B,B48)=1,"","Nincs ilyen rsz!"))) | K48: =IFERROR(VLOOKUP(B48,Rajtlista!B:I,2,FALSE),"") | L48: =IFERROR(VLOOKUP(B48,Rajtlista!B:J,6,FALSE),"") | M48: =IFERROR(VLOOKUP(B48,Rajtlista!B:I,3,FALSE),"") | N48: =IFERROR(D48-VLOOKUP(B48,Rajtlista!B:J,7,FALSE),"")
A49: - | B49: =A49 -> - | C49: 43701 | D49: 0.42256944 | E49: 0.42256944 | F49: =IFERROR(VLOOKUP(B49,reader!A:D,4,FALSE),"") | G49: =IF(F49="","",IF(D49>F49,"-",IF(D49<F49,"+",""))) | H49: =IF(F49="","",ABS(F49-D49)) | J49: =IF(B49="-","",IF(COUNTIFS($B$1:B48,B49)>0,"MÁR BEFUTOTT!",IF(COUNTIFS(Rajtlista!B:B,B49)=1,"","Nincs ilyen rsz!"))) | K49: =IFERROR(VLOOKUP(B49,Rajtlista!B:I,2,FALSE),"") | L49: =IFERROR(VLOOKUP(B49,Rajtlista!B:J,6,FALSE),"") | M49: =IFERROR(VLOOKUP(B49,Rajtlista!B:I,3,FALSE),"") | N49: =IFERROR(D49-VLOOKUP(B49,Rajtlista!B:J,7,FALSE),"")
A50: - | B50: =A50 -> - | C50: 43701 | D50: 0.42256944 | E50: 0.42256944 | F50: =IFERROR(VLOOKUP(B50,reader!A:D,4,FALSE),"") | G50: =IF(F50="","",IF(D50>F50,"-",IF(D50<F50,"+",""))) | H50: =IF(F50="","",ABS(F50-D50)) | J50: =IF(B50="-","",IF(COUNTIFS($B$1:B49,B50)>0,"MÁR BEFUTOTT!",IF(COUNTIFS(Rajtlista!B:B,B50)=1,"","Nincs ilyen rsz!"))) | K50: =IFERROR(VLOOKUP(B50,Rajtlista!B:I,2,FALSE),"") | L50: =IFERROR(VLOOKUP(B50,Rajtlista!B:J,6,FALSE),"") | M50: =IFERROR(VLOOKUP(B50,Rajtlista!B:I,3,FALSE),"") | N50: =IFERROR(D50-VLOOKUP(B50,Rajtlista!B:J,7,FALSE),"")
A51: - | B51: =A51 -> - | C51: 43701 | D51: 0.42256944 | E51: 0.42256944 | F51: =IFERROR(VLOOKUP(B51,reader!A:D,4,FALSE),"") | G51: =IF(F51="","",IF(D51>F51,"-",IF(D51<F51,"+",""))) | H51: =IF(F51="","",ABS(F51-D51)) | J51: =IF(B51="-","",IF(COUNTIFS($B$1:B50,B51)>0,"MÁR BEFUTOTT!",IF(COUNTIFS(Rajtlista!B:B,B51)=1,"","Nincs ilyen rsz!"))) | K51: =IFERROR(VLOOKUP(B51,Rajtlista!B:I,2,FALSE),"") | L51: =IFERROR(VLOOKUP(B51,Rajtlista!B:J,6,FALSE),"") | M51: =IFERROR(VLOOKUP(B51,Rajtlista!B:I,3,FALSE),"") | N51: =IFERROR(D51-VLOOKUP(B51,Rajtlista!B:J,7,FALSE),"")
... A69: - | B69: =A69 -> - | C69: 43701 | D69: 0.42256944 | E69: 0.42256944 | F69: =IFERROR(VLOOKUP(B69,reader!A:D,4,FALSE),"") | G69: =IF(F69="","",IF(D69>F69,"-",IF(D69<F69,"+",""))) | H69: =IF(F69="","",ABS(F69-D69)) | J69: =IF(B69="-","",IF(COUNTIFS($B$1:B68,B69)>0,"MÁR BEFUTOTT!",IF(COUNTIFS(Rajtlista!B:B,B69)=1,"","Nincs ilyen rsz!"))) | K69: =IFERROR(VLOOKUP(B69,Rajtlista!B:I,2,FALSE),"") | L69: =IFERROR(VLOOKUP(B69,Rajtlista!B:J,6,FALSE),"") | M69: =IFERROR(VLOOKUP(B69,Rajtlista!B:I,3,FALSE),"") | N69: =IFERROR(D69-VLOOKUP(B69,Rajtlista!B:J,7,FALSE),"")
A70: - | B70: =A70 -> - | C70: 43337 | D70: 0.41606481 | F70: =IFERROR(VLOOKUP(B70,reader!A:D,4,FALSE),"") | G70: =IF(F70="","",IF(D70>F70,"-",IF(D70<F70,"+",""))) | H70: =IF(F70="","",ABS(F70-D70)) | J70: =IF(B70="-","",IF(COUNTIFS($B$1:B69,B70)>0,"MÁR BEFUTOTT!",IF(COUNTIFS(Rajtlista!B:B,B70)=1,"","Nincs ilyen rsz!"))) | K70: =IFERROR(VLOOKUP(B70,Rajtlista!B:I,2,FALSE),"") | L70: =IFERROR(VLOOKUP(B70,Rajtlista!B:J,6,FALSE),"") | M70: =IFERROR(VLOOKUP(B70,Rajtlista!B:I,3,FALSE),"") | N70: =IFERROR(D70-VLOOKUP(B70,Rajtlista!B:J,7,FALSE),"")
A71: - | B71: =A71 -> - | C71: 43337 | D71: 0.41606481 | F71: =IFERROR(VLOOKUP(B71,reader!A:D,4,FALSE),"") | G71: =IF(F71="","",IF(D71>F71,"-",IF(D71<F71,"+",""))) | H71: =IF(F71="","",ABS(F71-D71)) | J71: =IF(B71="-","",IF(COUNTIFS($B$1:B70,B71)>0,"MÁR BEFUTOTT!",IF(COUNTIFS(Rajtlista!B:B,B71)=1,"","Nincs ilyen rsz!"))) | K71: =IFERROR(VLOOKUP(B71,Rajtlista!B:I,2,FALSE),"") | L71: =IFERROR(VLOOKUP(B71,Rajtlista!B:J,6,FALSE),"") | M71: =IFERROR(VLOOKUP(B71,Rajtlista!B:I,3,FALSE),"") | N71: =IFERROR(D71-VLOOKUP(B71,Rajtlista!B:J,7,FALSE),"")
A72: - | B72: =A72 -> - | C72: 43337 | D72: 0.41606481 | F72: =IFERROR(VLOOKUP(B72,reader!A:D,4,FALSE),"") | G72: =IF(F72="","",IF(D72>F72,"-",IF(D72<F72,"+",""))) | H72: =IF(F72="","",ABS(F72-D72)) | J72: =IF(B72="-","",IF(COUNTIFS($B$1:B71,B72)>0,"MÁR BEFUTOTT!",IF(COUNTIFS(Rajtlista!B:B,B72)=1,"","Nincs ilyen rsz!"))) | K72: =IFERROR(VLOOKUP(B72,Rajtlista!B:I,2,FALSE),"") | L72: =IFERROR(VLOOKUP(B72,Rajtlista!B:J,6,FALSE),"") | M72: =IFERROR(VLOOKUP(B72,Rajtlista!B:I,3,FALSE),"") | N72: =IFERROR(D72-VLOOKUP(B72,Rajtlista!B:J,7,FALSE),"")
A73: - | B73: =A73 -> - | C73: 43337 | D73: 0.41606481 | F73: =IFERROR(VLOOKUP(B73,reader!A:D,4,FALSE),"") | G73: =IF(F73="","",IF(D73>F73,"-",IF(D73<F73,"+",""))) | H73: =IF(F73="","",ABS(F73-D73)) | J73: =IF(B73="-","",IF(COUNTIFS($B$1:B72,B73)>0,"MÁR BEFUTOTT!",IF(COUNTIFS(Rajtlista!B:B,B73)=1,"","Nincs ilyen rsz!"))) | K73: =IFERROR(VLOOKUP(B73,Rajtlista!B:I,2,FALSE),"") | L73: =IFERROR(VLOOKUP(B73,Rajtlista!B:J,6,FALSE),"") | M73: =IFERROR(VLOOKUP(B73,Rajtlista!B:I,3,FALSE),"") | N73: =IFERROR(D73-VLOOKUP(B73,Rajtlista!B:J,7,FALSE),"")
A74: - | B74: =A74 -> - | C74: 43337 | D74: 0.41606481 | F74: =IFERROR(VLOOKUP(B74,reader!A:D,4,FALSE),"") | G74: =IF(F74="","",IF(D74>F74,"-",IF(D74<F74,"+",""))) | H74: =IF(F74="","",ABS(F74-D74)) | J74: =IF(B74="-","",IF(COUNTIFS($B$1:B73,B74)>0,"MÁR BEFUTOTT!",IF(COUNTIFS(Rajtlista!B:B,B74)=1,"","Nincs ilyen rsz!"))) | K74: =IFERROR(VLOOKUP(B74,Rajtlista!B:I,2,FALSE),"") | L74: =IFERROR(VLOOKUP(B74,Rajtlista!B:J,6,FALSE),"") | M74: =IFERROR(VLOOKUP(B74,Rajtlista!B:I,3,FALSE),"") | N74: =IFERROR(D74-VLOOKUP(B74,Rajtlista!B:J,7,FALSE),"")
A75: - | B75: =A75 -> - | C75: 43337 | D75: 0.41606481 | F75: =IFERROR(VLOOKUP(B75,reader!A:D,4,FALSE),"") | G75: =IF(F75="","",IF(D75>F75,"-",IF(D75<F75,"+",""))) | H75: =IF(F75="","",ABS(F75-D75)) | J75: =IF(B75="-","",IF(COUNTIFS($B$1:B74,B75)>0,"MÁR BEFUTOTT!",IF(COUNTIFS(Rajtlista!B:B,B75)=1,"","Nincs ilyen rsz!"))) | K75: =IFERROR(VLOOKUP(B75,Rajtlista!B:I,2,FALSE),"") | L75: =IFERROR(VLOOKUP(B75,Rajtlista!B:J,6,FALSE),"") | M75: =IFERROR(VLOOKUP(B75,Rajtlista!B:I,3,FALSE),"") | N75: =IFERROR(D75-VLOOKUP(B75,Rajtlista!B:J,7,FALSE),"")
A76: - | B76: =A76 -> - | C76: 43337 | D76: 0.41606481 | F76: =IFERROR(VLOOKUP(B76,reader!A:D,4,FALSE),"") | G76: =IF(F76="","",IF(D76>F76,"-",IF(D76<F76,"+",""))) | H76: =IF(F76="","",ABS(F76-D76)) | J76: =IF(B76="-","",IF(COUNTIFS($B$1:B75,B76)>0,"MÁR BEFUTOTT!",IF(COUNTIFS(Rajtlista!B:B,B76)=1,"","Nincs ilyen rsz!"))) | K76: =IFERROR(VLOOKUP(B76,Rajtlista!B:I,2,FALSE),"") | L76: =IFERROR(VLOOKUP(B76,Rajtlista!B:J,6,FALSE),"") | M76: =IFERROR(VLOOKUP(B76,Rajtlista!B:I,3,FALSE),"") | N76: =IFERROR(D76-VLOOKUP(B76,Rajtlista!B:J,7,FALSE),"")
A77: - | B77: =A77 -> - | C77: 43337 | D77: 0.41606481 | F77: =IFERROR(VLOOKUP(B77,reader!A:D,4,FALSE),"") | G77: =IF(F77="","",IF(D77>F77,"-",IF(D77<F77,"+",""))) | H77: =IF(F77="","",ABS(F77-D77)) | J77: =IF(B77="-","",IF(COUNTIFS($B$1:B76,B77)>0,"MÁR BEFUTOTT!",IF(COUNTIFS(Rajtlista!B:B,B77)=1,"","Nincs ilyen rsz!"))) | K77: =IFERROR(VLOOKUP(B77,Rajtlista!B:I,2,FALSE),"") | L77: =IFERROR(VLOOKUP(B77,Rajtlista!B:J,6,FALSE),"") | M77: =IFERROR(VLOOKUP(B77,Rajtlista!B:I,3,FALSE),"") | N77: =IFERROR(D77-VLOOKUP(B77,Rajtlista!B:J,7,FALSE),"")
A78: - | B78: =A78 -> - | C78: 43337 | D78: 0.41606481 | F78: =IFERROR(VLOOKUP(B78,reader!A:D,4,FALSE),"") | G78: =IF(F78="","",IF(D78>F78,"-",IF(D78<F78,"+",""))) | H78: =IF(F78="","",ABS(F78-D78)) | J78: =IF(B78="-","",IF(COUNTIFS($B$1:B77,B78)>0,"MÁR BEFUTOTT!",IF(COUNTIFS(Rajtlista!B:B,B78)=1,"","Nincs ilyen rsz!"))) | K78: =IFERROR(VLOOKUP(B78,Rajtlista!B:I,2,FALSE),"") | L78: =IFERROR(VLOOKUP(B78,Rajtlista!B:J,6,FALSE),"") | M78: =IFERROR(VLOOKUP(B78,Rajtlista!B:I,3,FALSE),"") | N78: =IFERROR(D78-VLOOKUP(B78,Rajtlista!B:J,7,FALSE),"")
A79: - | B79: =A79 -> - | C79: 43337 | D79: 0.41606481 | F79: =IFERROR(VLOOKUP(B79,reader!A:D,4,FALSE),"") | G79: =IF(F79="","",IF(D79>F79,"-",IF(D79<F79,"+",""))) | H79: =IF(F79="","",ABS(F79-D79)) | J79: =IF(B79="-","",IF(COUNTIFS($B$1:B78,B79)>0,"MÁR BEFUTOTT!",IF(COUNTIFS(Rajtlista!B:B,B79)=1,"","Nincs ilyen rsz!"))) | K79: =IFERROR(VLOOKUP(B79,Rajtlista!B:I,2,FALSE),"") | L79: =IFERROR(VLOOKUP(B79,Rajtlista!B:J,6,FALSE),"") | M79: =IFERROR(VLOOKUP(B79,Rajtlista!B:I,3,FALSE),"") | N79: =IFERROR(D79-VLOOKUP(B79,Rajtlista!B:J,7,FALSE),"")
A80: - | B80: =A80 -> - | C80: 43337 | D80: 0.41606481 | F80: =IFERROR(VLOOKUP(B80,reader!A:D,4,FALSE),"") | G80: =IF(F80="","",IF(D80>F80,"-",IF(D80<F80,"+",""))) | H80: =IF(F80="","",ABS(F80-D80)) | J80: =IF(B80="-","",IF(COUNTIFS($B$1:B79,B80)>0,"MÁR BEFUTOTT!",IF(COUNTIFS(Rajtlista!B:B,B80)=1,"","Nincs ilyen rsz!"))) | K80: =IFERROR(VLOOKUP(B80,Rajtlista!B:I,2,FALSE),"") | L80: =IFERROR(VLOOKUP(B80,Rajtlista!B:J,6,FALSE),"") | M80: =IFERROR(VLOOKUP(B80,Rajtlista!B:I,3,FALSE),"") | N80: =IFERROR(D80-VLOOKUP(B80,Rajtlista!B:J,7,FALSE),"")
A81: - | B81: =A81 -> - | C81: 43337 | D81: 0.41606481 | F81: =IFERROR(VLOOKUP(B81,reader!A:D,4,FALSE),"") | G81: =IF(F81="","",IF(D81>F81,"-",IF(D81<F81,"+",""))) | H81: =IF(F81="","",ABS(F81-D81)) | J81: =IF(B81="-","",IF(COUNTIFS($B$1:B80,B81)>0,"MÁR BEFUTOTT!",IF(COUNTIFS(Rajtlista!B:B,B81)=1,"","Nincs ilyen rsz!"))) | K81: =IFERROR(VLOOKUP(B81,Rajtlista!B:I,2,FALSE),"") | L81: =IFERROR(VLOOKUP(B81,Rajtlista!B:J,6,FALSE),"") | M81: =IFERROR(VLOOKUP(B81,Rajtlista!B:I,3,FALSE),"") | N81: =IFERROR(D81-VLOOKUP(B81,Rajtlista!B:J,7,FALSE),"")
... A108: - | B108: =A108 -> - | C108: 43337 | D108: 0.41606481 | F108: =IFERROR(VLOOKUP(B108,reader!A:D,4,FALSE),"") | G108: =IF(F108="","",IF(D108>F108,"-",IF(D108<F108,"+",""))) | H108: =IF(F108="","",ABS(F108-D108)) | J108: =IF(B108="-","",IF(COUNTIFS($B$1:B107,B108)>0,"MÁR BEFUTOTT!",IF(COUNTIFS(Rajtlista!B:B,B108)=1,"","Nincs ilyen rsz!"))) | K108: =IFERROR(VLOOKUP(B108,Rajtlista!B:I,2,FALSE),"") | L108: =IFERROR(VLOOKUP(B108,Rajtlista!B:J,6,FALSE),"") | M108: =IFERROR(VLOOKUP(B108,Rajtlista!B:I,3,FALSE),"") | N108: =IFERROR(D108-VLOOKUP(B108,Rajtlista!B:J,7,FALSE),"")

Sheet Lövészet beíró
B1: =Rajtlista!B1:I1 -> SÍFUTÓ DIÁKOLIMPIA - 2020.02.12. - Mátraszentistván
B2: =Rajtlista!B2:I2 -> Egyéni futam / Individual Race
B3: L Ö V É S Z E T I B E Í R Ó
B4: Rsz. | C4: Név | D4: Szül. | E4: Orsz. | F4: Egyesület | G4: Lövészet/Bünti | K4: Megj
B5: =+Rajtlista!B5 -> I. kcs. Leány (2011-) - 0,5 km klasszikus | G5: =IF(VLOOKUP($B5,Kategóriák!$C$5:$L$25,6,FALSE)=0,"-",VLOOKUP($B5,Kategóriák!$C$5:$L$25,6,FALSE)) -> #N/A | H5: =IF(VLOOKUP($B5,Kategóriák!$C$5:$L$25,7,FALSE)=0,"-",VLOOKUP($B5,Kategóriák!$C$5:$L$25,7,FALSE)) -> #N/A | I5: =IF(VLOOKUP($B5,Kategóriák!$C$5:$L$25,8,FALSE)=0,"-",VLOOKUP($B5,Kategóriák!$C$5:$L$25,8,FALSE)) -> #N/A | J5: =IF(VLOOKUP($B5,Kategóriák!$C$5:$L$25,9,FALSE)=0,"-",VLOOKUP($B5,Kategóriák!$C$5:$L$25,9,FALSE)) -> #N/A | K5: =IF(VLOOKUP($B5,Kategóriák!$C$5:$L$25,10,FALSE)=0,"-",VLOOKUP($B5,Kategóriák!$C$5:$L$25,10,FALSE)) -> #N/A
B6: =Rajtlista!B6 -> 1 | C6: =Rajtlista!C6 -> Nagy Sarolta | D6: =Rajtlista!E6 -> 40881 | E6: =Rajtlista!F6 -> Pest | F6: =Rajtlista!G6 -> József Nádor Általános Iskola és Alapfokú Művészeti Iskola (ÖKO Iskola)
B7: =Rajtlista!B7 -> 2 | C7: =Rajtlista!C7 -> Birner Léna Petra | D7: =Rajtlista!E7 -> 40808 | E7: =Rajtlista!F7 -> Heves | F7: =Rajtlista!G7 -> Gyöngyösi Arany János Általános Iskola
B8: =Rajtlista!B8 -> 3 | C8: =Rajtlista!C8 -> Gergely Lujza Piroska | D8: =Rajtlista!E8 -> 41163 | E8: =Rajtlista!F8 -> Budapest | F8: =Rajtlista!G8 -> Budenz József Általános Iskola és Gimnázium
B9: =Rajtlista!B9 -> 4 | C9: =Rajtlista!C9 -> Sári Laura | D9: =Rajtlista!E9 -> 41383 | E9: =Rajtlista!F9 -> Győr-M-S | F9: =Rajtlista!G9 -> Prohászka Ottokár Orsolyita Gimnázium, Általános Iskola és Óvoda
B10: =Rajtlista!B10 -> 5 | C10: =Rajtlista!C10 -> Maus Virág | D10: =Rajtlista!E10 -> 40976 | E10: =Rajtlista!F10 -> Budapest | F10: =Rajtlista!G10 -> Budenz József Általános Iskola és Gimnázium
B11: =Rajtlista!B11 -> 6 | C11: =Rajtlista!C11 -> Rosivall Emma Nóra | D11: =Rajtlista!E11 -> 40806 | E11: =Rajtlista!F11 -> Budapest | F11: =Rajtlista!G11 -> Budenz József Általános Iskola és Gimnázium
B12: =Rajtlista!B12 -> 7 | C12: =Rajtlista!C12 -> Bozóki Barbara | D12: =Rajtlista!E12 -> 41388 | E12: =Rajtlista!F12 -> Pest | F12: =Rajtlista!G12 -> Péceli Integrált Oktatási Központ Általános Iskola és Gimnázium
B13: =Rajtlista!B13 -> 0 | C13: =Rajtlista!C13 | D13: =Rajtlista!E13 | E13: =Rajtlista!F13 | F13: =Rajtlista!G13
B14: =Rajtlista!B14 -> 0 | C14: =Rajtlista!C14 | D14: =Rajtlista!E14 | E14: =Rajtlista!F14 | F14: =Rajtlista!G14
B15: =Rajtlista!B15 -> 0 | C15: =Rajtlista!C15 | D15: =Rajtlista!E15 | E15: =Rajtlista!F15 | F15: =Rajtlista!G15
B16: =Rajtlista!B16 -> 0 | C16: =Rajtlista!C16 | D16: =Rajtlista!E16 | E16: =Rajtlista!F16 | F16: =Rajtlista!G16
B17: =Rajtlista!B17 -> 0 | C17: =Rajtlista!C17 | D17: =Rajtlista!E17 | E17: =Rajtlista!F17 | F17: =Rajtlista!G17
... B20: =Rajtlista!B20 -> 0 | C20: =Rajtlista!C20 | D20: =Rajtlista!E20 | E20: =Rajtlista!F20 | F20: =Rajtlista!G20
B22: =+Rajtlista!B22 -> I. kcs. Fiú (2011-) - 0,5 km klasszikus | G22: =IF(VLOOKUP($B22,Kategóriák!$C$5:$L$25,6,FALSE)=0,"-",VLOOKUP($B22,Kategóriák!$C$5:$L$25,6,FALSE)) -> #N/A | H22: =IF(VLOOKUP($B22,Kategóriák!$C$5:$L$25,7,FALSE)=0,"-",VLOOKUP($B22,Kategóriák!$C$5:$L$25,7,FALSE)) -> #N/A | I22: =IF(VLOOKUP($B22,Kategóriák!$C$5:$L$25,8,FALSE)=0,"-",VLOOKUP($B22,Kategóriák!$C$5:$L$25,8,FALSE)) -> #N/A | J22: =IF(VLOOKUP($B22,Kategóriák!$C$5:$L$25,9,FALSE)=0,"-",VLOOKUP($B22,Kategóriák!$C$5:$L$25,9,FALSE)) -> #N/A | K22: =IF(VLOOKUP($B22,Kategóriák!$C$5:$L$25,10,FALSE)=0,"-",VLOOKUP($B22,Kategóriák!$C$5:$L$25,10,FALSE)) -> #N/A
B23: =Rajtlista!B23 -> 8 | C23: =Rajtlista!C23 -> Szabó Botond | D23: =Rajtlista!E23 -> 40819 | E23: =Rajtlista!F23 -> Heves | F23: =Rajtlista!G23 -> Gyöngyöshalászi Széchenyi István Általános Iskola
B24: =Rajtlista!B24 -> 9 | C24: =Rajtlista!C24 -> Lemberkovics Zalán Viktor | D24: =Rajtlista!E24 -> 40970 | E24: =Rajtlista!F24 -> Győr-M-S | F24: =Rajtlista!G24 -> Prohászka Ottokár Orsolyita Gimnázium, Általános Iskola és Óvoda
B25: =Rajtlista!B25 -> 10 | C25: =Rajtlista!C25 -> Szabolcs Márton | D25: =Rajtlista!E25 -> 41056 | E25: =Rajtlista!F25 -> Pest | F25: =Rajtlista!G25 -> Gödi Németh László Általános Iskola és Alapfokú Művészeti Iskola
B26: =Rajtlista!B26 -> 11 | C26: =Rajtlista!C26 -> Gergely Márton | D26: =Rajtlista!E26 -> 40597 | E26: =Rajtlista!F26 -> Budapest | F26: =Rajtlista!G26 -> Budenz József Általános Iskola és Gimnázium
B27: =Rajtlista!B27 -> 0 | C27: =Rajtlista!C27 | D27: =Rajtlista!E27 | E27: =Rajtlista!F27 | F27: =Rajtlista!G27
B28: =Rajtlista!B28 -> 0 | C28: =Rajtlista!C28 | D28: =Rajtlista!E28 | E28: =Rajtlista!F28 | F28: =Rajtlista!G28
B29: =Rajtlista!B29 -> 0 | C29: =Rajtlista!C29 | D29: =Rajtlista!E29 | E29: =Rajtlista!F29 | F29: =Rajtlista!G29
B30: =Rajtlista!B30 -> 0 | C30: =Rajtlista!C30 | D30: =Rajtlista!E30 | E30: =Rajtlista!F30 | F30: =Rajtlista!G30
B31: =Rajtlista!B31 -> 0 | C31: =Rajtlista!C31 | D31: =Rajtlista!E31 | E31: =Rajtlista!F31 | F31: =Rajtlista!G31
B32: =Rajtlista!B32 -> 0 | C32: =Rajtlista!C32 | D32: =Rajtlista!E32 | E32: =Rajtlista!F32 | F32: =Rajtlista!G32
B33: =Rajtlista!B33 -> 0 | C33: =Rajtlista!C33 | D33: =Rajtlista!E33 | E33: =Rajtlista!F33 | F33: =Rajtlista!G33
B34: =Rajtlista!B34 -> 0 | C34: =Rajtlista!C34 | D34: =Rajtlista!E34 | E34: =Rajtlista!F34 | F34: =Rajtlista!G34
... B37: =Rajtlista!B37 -> 0 | C37: =Rajtlista!C37 | D37: =Rajtlista!E37 | E37: =Rajtlista!F37 | F37: =Rajtlista!G37
B39: =Rajtlista!B39:G39 -> II. kcs. Leány (2009-2010) - 1 km klasszikus | G39: =IF(VLOOKUP($B39,Kategóriák!$C$5:$L$25,6,FALSE)=0,"-",VLOOKUP($B39,Kategóriák!$C$5:$L$25,6,FALSE)) -> #N/A | H39: =IF(VLOOKUP($B39,Kategóriák!$C$5:$L$25,7,FALSE)=0,"-",VLOOKUP($B39,Kategóriák!$C$5:$L$25,7,FALSE)) -> #N/A | I39: =IF(VLOOKUP($B39,Kategóriák!$C$5:$L$25,8,FALSE)=0,"-",VLOOKUP($B39,Kategóriák!$C$5:$L$25,8,FALSE)) -> #N/A | J39: =IF(VLOOKUP($B39,Kategóriák!$C$5:$L$25,9,FALSE)=0,"-",VLOOKUP($B39,Kategóriák!$C$5:$L$25,9,FALSE)) -> #N/A | K39: =IF(VLOOKUP($B39,Kategóriák!$C$5:$L$25,10,FALSE)=0,"-",VLOOKUP($B39,Kategóriák!$C$5:$L$25,10,FALSE)) -> #N/A
B40: =Rajtlista!B40 -> 12 | C40: =Rajtlista!C40 -> Besze Regina Kira | D40: =Rajtlista!E40 -> 40084 | E40: =Rajtlista!F40 -> Heves | F40: =Rajtlista!G40 -> Gyöngyössolymosi Nagy Gyula Katolikus Általános Iskola és Alapfokú Művészeti Iskola
B41: =Rajtlista!B41 -> 13 | C41: =Rajtlista!C41 -> Katona Korinna | D41: =Rajtlista!E41 -> 40079 | E41: =Rajtlista!F41 -> Heves | F41: =Rajtlista!G41 -> Eszterházy Károly Egyetem Gyakorló Általános, Közép-, Alapfokú Művészeti Iskola és Pedagógiai Intézet
B42: =Rajtlista!B42 -> 14 | C42: =Rajtlista!C42 -> Jankó Boglárka Dóra | D42: =Rajtlista!E42 -> 40253 | E42: =Rajtlista!F42 -> Pest | F42: =Rajtlista!G42 -> Kesjár Csaba Általános Iskola
B43: =Rajtlista!B43 -> 15 | C43: =Rajtlista!C43 -> Kovács Nóra | D43: =Rajtlista!E43 -> 40442 | E43: =Rajtlista!F43 -> Budapest | F43: =Rajtlista!G43 -> Újbudai Ádám Jenő Általános Iskola
B44: =Rajtlista!B44 -> 16 | C44: =Rajtlista!C44 -> Zámbó Hanna | D44: =Rajtlista!E44 -> 39862 | E44: =Rajtlista!F44 -> Budapest | F44: =Rajtlista!G44 -> Testnevelési Egyetem Gyakorló Sportiskolai Általános Iskola és Gimnázium
B45: =Rajtlista!B45 -> 17 | C45: =Rajtlista!C45 -> Varga Léna | D45: =Rajtlista!E45 -> 40394 | E45: =Rajtlista!F45 -> Budapest | F45: =Rajtlista!G45 -> ELTE Gyertyánffy István Gyakorló Általános Iskola
B46: =Rajtlista!B46 -> 18 | C46: =Rajtlista!C46 -> Ágoston Dalma | D46: =Rajtlista!E46 -> 40308 | E46: =Rajtlista!F46 -> Veszprém | F46: =Rajtlista!G46 -> Nivegy-völgyi Német Nemzetiségi Nyelvoktató Általános Iskola és Alapfokú Művészeti Iskola
B47: =Rajtlista!B47 -> 19 | C47: =Rajtlista!C47 -> Előházi Johanna | D47: =Rajtlista!E47 -> 40494 | E47: =Rajtlista!F47 -> Heves | F47: =Rajtlista!G47 -> Gyöngyössolymosi Nagy Gyula Katolikus Általános Iskola és Alapfokú Művészeti Iskola
B48: =Rajtlista!B48 -> 20 | C48: =Rajtlista!C48 -> Cseke Villő Emese | D48: =Rajtlista!E48 -> 40217 | E48: =Rajtlista!F48 -> Budapest | F48: =Rajtlista!G48 -> Albertfalvi Don Bosco Katolikus Általános Iskola és Óvoda
B49: =Rajtlista!B49 -> 21 | C49: =Rajtlista!C49 -> Cseke Zille Boglárka | D49: =Rajtlista!E49 -> 40217 | E49: =Rajtlista!F49 -> Budapest | F49: =Rajtlista!G49 -> Albertfalvi Don Bosco Katolikus Általános Iskola és Óvoda
B50: =Rajtlista!B50 -> 22 | C50: =Rajtlista!C50 -> Bozóki Tamara | D50: =Rajtlista!E50 -> 39839 | E50: =Rajtlista!F50 -> Pest | F50: =Rajtlista!G50 -> Péceli Integrált Oktatási Központ Általános Iskola és Gimnázium
B51: =Rajtlista!B51 -> 0 | C51: =Rajtlista!C51 | D51: =Rajtlista!E51 | E51: =Rajtlista!F51 | F51: =Rajtlista!G51
... B54: =Rajtlista!B54 -> 0 | C54: =Rajtlista!C54 | D54: =Rajtlista!E54 | E54: =Rajtlista!F54 | F54: =Rajtlista!G54
B56: =Rajtlista!B56:G56 -> II. kcs. Fiú (2009-2010) - 1 km klasszikus | G56: =IF(VLOOKUP($B56,Kategóriák!$C$5:$L$25,6,FALSE)=0,"-",VLOOKUP($B56,Kategóriák!$C$5:$L$25,6,FALSE)) -> #N/A | H56: =IF(VLOOKUP($B56,Kategóriák!$C$5:$L$25,7,FALSE)=0,"-",VLOOKUP($B56,Kategóriák!$C$5:$L$25,7,FALSE)) -> #N/A | I56: =IF(VLOOKUP($B56,Kategóriák!$C$5:$L$25,8,FALSE)=0,"-",VLOOKUP($B56,Kategóriák!$C$5:$L$25,8,FALSE)) -> #N/A | J56: =IF(VLOOKUP($B56,Kategóriák!$C$5:$L$25,9,FALSE)=0,"-",VLOOKUP($B56,Kategóriák!$C$5:$L$25,9,FALSE)) -> #N/A | K56: =IF(VLOOKUP($B56,Kategóriák!$C$5:$L$25,10,FALSE)=0,"-",VLOOKUP($B56,Kategóriák!$C$5:$L$25,10,FALSE)) -> #N/A
B57: =Rajtlista!B57 -> 23 | C57: =Rajtlista!C57 -> Mikola Márk | D57: =Rajtlista!E57 -> 40443 | E57: =Rajtlista!F57 -> Heves | F57: =Rajtlista!G57 -> Gyöngyössolymosi Nagy Gyula Katolikus Általános Iskola és Alapfokú Művészeti Iskola
B58: =Rajtlista!B58 -> 24 | C58: =Rajtlista!C58 -> Feledy Bence | D58: =Rajtlista!E58 -> 39876 | E58: =Rajtlista!F58 -> Borsod-A-Z | F58: =Rajtlista!G58 -> Bükki Szlovák Nemzetiségi Általános Iskola
B59: =Rajtlista!B59 -> 25 | C59: =Rajtlista!C59 -> Telek Dominik | D59: =Rajtlista!E59 -> 39867 | E59: =Rajtlista!F59 -> Heves | F59: =Rajtlista!G59 -> Gyöngyössolymosi Nagy Gyula Katolikus Általános Iskola és Alapfokú Művészeti Iskola
B60: =Rajtlista!B60 -> 26 | C60: =Rajtlista!C60 -> Maus Márton | D60: =Rajtlista!E60 -> 40318 | E60: =Rajtlista!F60 -> Budapest | F60: =Rajtlista!G60 -> Budenz József Általános Iskola és Gimnázium
B61: =Rajtlista!B61 -> 27 | C61: =Rajtlista!C61 -> Szabolcs Balázs | D61: =Rajtlista!E61 -> 40479 | E61: =Rajtlista!F61 -> Pest | F61: =Rajtlista!G61 -> Gödi Németh László Általános Iskola és Alapfokú Művészeti Iskola
B62: =Rajtlista!B62 -> 28 | C62: =Rajtlista!C62 -> Harangozó Gyergely | D62: =Rajtlista!E62 -> 40029 | E62: =Rajtlista!F62 -> Budapest | F62: =Rajtlista!G62 -> Zugligeti Általános Iskola
B63: =Rajtlista!B63 -> 29 | C63: =Rajtlista!C63 -> Boldogh Tamás Oszkár | D63: =Rajtlista!E63 -> 40143 | E63: =Rajtlista!F63 -> Budapest | F63: =Rajtlista!G63 -> Sashegyi Arany János Általános Iskola és Gimnázium
B64: =Rajtlista!B64 -> 30 | C64: =Rajtlista!C64 -> Nagy Vilmos | D64: =Rajtlista!E64 -> 39873 | E64: =Rajtlista!F64 -> Pest | F64: =Rajtlista!G64 -> József Nádor Általános Iskola és Alapfokú Művészeti Iskola (ÖKO Iskola)
B65: =Rajtlista!B65 -> 31 | C65: =Rajtlista!C65 -> Fekete Boldizsár László | D65: =Rajtlista!E65 -> 40506 | E65: =Rajtlista!F65 -> Budapest | F65: =Rajtlista!G65 -> Budenz József Általános Iskola és Gimnázium
B66: =Rajtlista!B66 -> 32 | C66: =Rajtlista!C66 -> Móczár Ádám | D66: =Rajtlista!E66 -> 39933 | E66: =Rajtlista!F66 -> Heves | F66: =Rajtlista!G66 -> Felső-Mátrai Zakupszky László Általános Iskola és Óvoda
B67: =Rajtlista!B67 -> 33 | C67: =Rajtlista!C67 -> Lehőcz Zétény | D67: =Rajtlista!E67 -> 40229 | E67: =Rajtlista!F67 -> Tolna | F67: =Rajtlista!G67 -> Szent Orsolya Rendi Gárdonyi Géza Katolikus Általános Iskola, Alapfokú Művészeti Iskola és Kollégium
B68: =Rajtlista!B68 -> 34 | C68: =Rajtlista!C68 -> Pap Móric István | D68: =Rajtlista!E68 -> 40228 | E68: =Rajtlista!F68 -> Pest | F68: =Rajtlista!G68 -> Váci Juhász Gyula Általános Iskola
... B70: =Rajtlista!B70 -> 36 | C70: =Rajtlista!C70 -> Fazekas Márk Bendegúz | D70: =Rajtlista!E70 -> 39857 | E70: =Rajtlista!F70 -> Pest | F70: =Rajtlista!G70 -> Diósdi Eötvös József Német Nemzetiségi Általános Iskola és Alapfokú Művészeti Iskola
B71: =Rajtlista!B74 -> 0 | C71: =Rajtlista!C74 | D71: =Rajtlista!E74 | E71: =Rajtlista!F74 | F71: =Rajtlista!G74
B73: =Rajtlista!B76:G76 -> III. kcs. Leány (2007-2008) - 1,5 km klasszikus | G73: =IF(VLOOKUP($B73,Kategóriák!$C$5:$L$25,6,FALSE)=0,"-",VLOOKUP($B73,Kategóriák!$C$5:$L$25,6,FALSE)) -> #N/A | H73: =IF(VLOOKUP($B73,Kategóriák!$C$5:$L$25,7,FALSE)=0,"-",VLOOKUP($B73,Kategóriák!$C$5:$L$25,7,FALSE)) -> #N/A | I73: =IF(VLOOKUP($B73,Kategóriák!$C$5:$L$25,8,FALSE)=0,"-",VLOOKUP($B73,Kategóriák!$C$5:$L$25,8,FALSE)) -> #N/A | J73: =IF(VLOOKUP($B73,Kategóriák!$C$5:$L$25,9,FALSE)=0,"-",VLOOKUP($B73,Kategóriák!$C$5:$L$25,9,FALSE)) -> #N/A | K73: =IF(VLOOKUP($B73,Kategóriák!$C$5:$L$25,10,FALSE)=0,"-",VLOOKUP($B73,Kategóriák!$C$5:$L$25,10,FALSE)) -> #N/A
B74: =Rajtlista!B77 -> 39 | C74: =Rajtlista!C77 -> Benyovszky Lili | D74: =Rajtlista!E77 -> 39659 | E74: =Rajtlista!F77 -> Heves | F74: =Rajtlista!G77 -> Gyöngyössolymosi Nagy Gyula Katolikus Általános Iskola és Alapfokú Művészeti Iskola
B75: =Rajtlista!B78 -> 40 | C75: =Rajtlista!C78 -> Pap Fruzsina | D75: =Rajtlista!E78 -> 39647 | E75: =Rajtlista!F78 -> Pest | F75: =Rajtlista!G78 -> Váci Árpád Fejedelem Általános Iskola
B76: =Rajtlista!B79 -> 41 | C76: =Rajtlista!C79 -> Cseke Kincső Lelle | D76: =Rajtlista!E79 -> 39359 | E76: =Rajtlista!F79 -> Budapest | F76: =Rajtlista!G79 -> Budapest I. Kerületi Szilágyi Erzsébet Gimnázium
B77: =Rajtlista!B80 -> 42 | C77: =Rajtlista!C80 -> Dedinszky Nóra | D77: =Rajtlista!E80 -> 39712 | E77: =Rajtlista!F80 -> Budapest | F77: =Rajtlista!G80 -> ELTE Gyertyánffy István Gyakorló Általános Iskola
B78: =Rajtlista!B81 -> 43 | C78: =Rajtlista!C81 -> Cseke Lilla Sarolta | D78: =Rajtlista!E81 -> 39193 | E78: =Rajtlista!F81 -> Budapest | F78: =Rajtlista!G81 -> Budai Ciszterci Szent Imre Gimnázium
B79: =Rajtlista!B82 -> 44 | C79: =Rajtlista!C82 -> Csikász Panni | D79: =Rajtlista!E82 -> 39452 | E79: =Rajtlista!F82 -> Borsod-A-Z | F79: =Rajtlista!G82 -> Kazincbarcikai Pollack Mihály Általános Iskola
B80: =Rajtlista!B83 -> 45 | C80: =Rajtlista!C83 -> Tóth Emese | D80: =Rajtlista!E83 -> 39629 | E80: =Rajtlista!F83 -> Borsod-A-Z | F80: =Rajtlista!G83 -> Bükki Szlovák Nemzetiségi Általános Iskola
B81: =Rajtlista!B84 -> 46 | C81: =Rajtlista!C84 -> Gaál Dóra | D81: =Rajtlista!E84 -> 39430 | E81: =Rajtlista!F84 -> Heves | F81: =Rajtlista!G84 -> Gyöngyösi Berze Nagy János Gimnázium
B82: =Rajtlista!B85 -> 47 | C82: =Rajtlista!C85 -> Kovács Andrea | D82: =Rajtlista!E85 -> 39351 | E82: =Rajtlista!F85 -> Budapest | F82: =Rajtlista!G85 -> Újbudai Ádám Jenő Általános Iskola
B83: =Rajtlista!B86 -> 0 | C83: =Rajtlista!C86 | D83: =Rajtlista!E86 | E83: =Rajtlista!F86 | F83: =Rajtlista!G86
B84: =Rajtlista!B87 -> 0 | C84: =Rajtlista!C87 | D84: =Rajtlista!E87 | E84: =Rajtlista!F87 | F84: =Rajtlista!G87
B85: =Rajtlista!B88 -> 0 | C85: =Rajtlista!C88 | D85: =Rajtlista!E88 | E85: =Rajtlista!F88 | F85: =Rajtlista!G88
... B88: =Rajtlista!B91 -> 0 | C88: =Rajtlista!C91 | D88: =Rajtlista!E91 | E88: =Rajtlista!F91 | F88: =Rajtlista!G91
B90: =Rajtlista!B93:G93 -> III. kcs. Fiú (2007-2008) - 1,5 km klasszikus | G90: =IF(VLOOKUP($B90,Kategóriák!$C$5:$L$25,6,FALSE)=0,"-",VLOOKUP($B90,Kategóriák!$C$5:$L$25,6,FALSE)) -> #N/A | H90: =IF(VLOOKUP($B90,Kategóriák!$C$5:$L$25,7,FALSE)=0,"-",VLOOKUP($B90,Kategóriák!$C$5:$L$25,7,FALSE)) -> #N/A | I90: =IF(VLOOKUP($B90,Kategóriák!$C$5:$L$25,8,FALSE)=0,"-",VLOOKUP($B90,Kategóriák!$C$5:$L$25,8,FALSE)) -> #N/A | J90: =IF(VLOOKUP($B90,Kategóriák!$C$5:$L$25,9,FALSE)=0,"-",VLOOKUP($B90,Kategóriák!$C$5:$L$25,9,FALSE)) -> #N/A | K90: =IF(VLOOKUP($B90,Kategóriák!$C$5:$L$25,10,FALSE)=0,"-",VLOOKUP($B90,Kategóriák!$C$5:$L$25,10,FALSE)) -> #N/A
B91: =Rajtlista!B94 -> 48 | C91: =Rajtlista!C94 -> Besze Dániel Zalán | D91: =Rajtlista!E94 -> 39493 | E91: =Rajtlista!F94 -> Heves | F91: =Rajtlista!G94 -> Gyöngyössolymosi Nagy Gyula Katolikus Általános Iskola és Alapfokú Művészeti Iskola
B92: =Rajtlista!B95 -> 49 | C92: =Rajtlista!C95 -> Csorba Zalán | D92: =Rajtlista!E95 -> 39485 | E92: =Rajtlista!F95 -> Borsod-A-Z | F92: =Rajtlista!G95 -> Bükki Szlovák Nemzetiségi Általános Iskola
B93: =Rajtlista!B96 -> 50 | C93: =Rajtlista!C96 -> Korenika Szabolcs | D93: =Rajtlista!E96 -> 39184 | E93: =Rajtlista!F96 -> Bács-Kiskun | F93: =Rajtlista!G96 -> Kecskeméti Református Gimnázium
B94: =Rajtlista!B97 -> 51 | C94: =Rajtlista!C97 -> Magyar Botond | D94: =Rajtlista!E97 -> 39490 | E94: =Rajtlista!F97 -> Borsod-A-Z | F94: =Rajtlista!G97 -> Bükki Szlovák Nemzetiségi Általános Iskola
B95: =Rajtlista!B98 -> 52 | C95: =Rajtlista!C98 -> Birner Iván András | D95: =Rajtlista!E98 -> 39805 | E95: =Rajtlista!F98 -> Heves | F95: =Rajtlista!G98 -> Gyöngyösi Arany János Általános Iskola
B96: =Rajtlista!B99 -> 53 | C96: =Rajtlista!C99 -> Ujj László Krisztián | D96: =Rajtlista!E99 -> 39415 | E96: =Rajtlista!F99 -> Heves | F96: =Rajtlista!G99 -> Felső-Mátrai Zakupszky László Általános Iskola és Óvoda
B97: =Rajtlista!B100 -> 54 | C97: =Rajtlista!C100 -> Ficsor Áron | D97: =Rajtlista!E100 -> 39404 | E97: =Rajtlista!F100 -> Heves | F97: =Rajtlista!G100 -> Eszterházy Károly Egyetem Gyakorló Általános, Közép-, Alapfokú Művészeti Iskola és Pedagógiai Intézet
B98: =Rajtlista!B101 -> 55 | C98: =Rajtlista!C101 -> Kunos László Sámuel | D98: =Rajtlista!E101 -> 39380 | E98: =Rajtlista!F101 -> Budapest | F98: =Rajtlista!G101 -> Lauder Javne Zsidó Közösségi Óvoda, Általános Iskola, Középiskola és Zenei Alapfokú Művészeti Iskola
B99: =Rajtlista!B102 -> 56 | C99: =Rajtlista!C102 -> Előházi János | D99: =Rajtlista!E102 -> 39385 | E99: =Rajtlista!F102 -> Heves | F99: =Rajtlista!G102 -> Gyöngyössolymosi Nagy Gyula Katolikus Általános Iskola és Alapfokú Művészeti Iskola
B100: =Rajtlista!B103 -> 57 | C100: =Rajtlista!C103 -> Holló Martin | D100: =Rajtlista!E103 -> 39147 | E100: =Rajtlista!F103 -> Pest | F100: =Rajtlista!G103 -> Budakeszi Széchenyi István Általános Iskola
B101: =Rajtlista!B104 -> 58 | C101: =Rajtlista!C104 -> Liktor Tamás Bence | D101: =Rajtlista!E104 -> 39288 | E101: =Rajtlista!F104 -> Heves | F101: =Rajtlista!G104 -> Gyöngyössolymosi Nagy Gyula Katolikus Általános Iskola és Alapfokú Művészeti Iskola
B102: =Rajtlista!B105 -> 59 | C102: =Rajtlista!C105 -> Cseke Zalán Nemere | D102: =Rajtlista!E105 -> 39193 | E102: =Rajtlista!F105 -> Budapest | F102: =Rajtlista!G105 -> Budai Ciszterci Szent Imre Gimnázium
B103: =Rajtlista!B106 -> 60 | C103: =Rajtlista!C106 -> Szőllős Kristóf | D103: =Rajtlista!E106 -> 39736 | E103: =Rajtlista!F106 -> Heves | F103: =Rajtlista!G106 -> Gyöngyössolymosi Nagy Gyula Katolikus Általános Iskola és Alapfokú Művészeti Iskola
B104: =Rajtlista!B110 -> 0 | C104: =Rajtlista!C110 | D104: =Rajtlista!E110 | E104: =Rajtlista!F110 | F104: =Rajtlista!G110
B105: =Rajtlista!B111 -> 0 | C105: =Rajtlista!C111 | D105: =Rajtlista!E111 | E105: =Rajtlista!F111 | F105: =Rajtlista!G111
B107: =Rajtlista!B113:G113 -> IV. kcs. Leány (2005-2006) - 1 km szabadstílus | G107: =IF(VLOOKUP($B107,Kategóriák!$C$5:$L$25,6,FALSE)=0,"-",VLOOKUP($B107,Kategóriák!$C$5:$L$25,6,FALSE)) -> #N/A | H107: =IF(VLOOKUP($B107,Kategóriák!$C$5:$L$25,7,FALSE)=0,"-",VLOOKUP($B107,Kategóriák!$C$5:$L$25,7,FALSE)) -> #N/A | I107: =IF(VLOOKUP($B107,Kategóriák!$C$5:$L$25,8,FALSE)=0,"-",VLOOKUP($B107,Kategóriák!$C$5:$L$25,8,FALSE)) -> #N/A | J107: =IF(VLOOKUP($B107,Kategóriák!$C$5:$L$25,9,FALSE)=0,"-",VLOOKUP($B107,Kategóriák!$C$5:$L$25,9,FALSE)) -> #N/A | K107: =IF(VLOOKUP($B107,Kategóriák!$C$5:$L$25,10,FALSE)=0,"-",VLOOKUP($B107,Kategóriák!$C$5:$L$25,10,FALSE)) -> #N/A
B108: =Rajtlista!B114 -> 64 | C108: =Rajtlista!C114 -> Tóth Réka | D108: =Rajtlista!E114 -> 39040 | E108: =Rajtlista!F114 -> Borsod-A-Z | F108: =Rajtlista!G114 -> Bükki Szlovák Nemzetiségi Általános Iskola
B109: =Rajtlista!B115 -> 65 | C109: =Rajtlista!C115 -> Máramarosi Rita | D109: =Rajtlista!E115 -> 38392 | E109: =Rajtlista!F115 -> Budapest | F109: =Rajtlista!G115 -> Karinthy Frigyes Gimnázium
B110: =Rajtlista!B116 -> 66 | C110: =Rajtlista!C116 -> Birner Anna Lili | D110: =Rajtlista!E116 -> 38955 | E110: =Rajtlista!F116 -> Heves | F110: =Rajtlista!G116 -> Gyöngyösi Arany János Általános Iskola
B111: =Rajtlista!B117 -> 67 | C111: =Rajtlista!C117 -> Máramarosi Anna | D111: =Rajtlista!E117 -> 38974 | E111: =Rajtlista!F117 -> Budapest | F111: =Rajtlista!G117 -> Brassó Utcai Általános Iskola
B112: =Rajtlista!B118 -> 68 | C112: =Rajtlista!C118 -> Bozóki Laura | D112: =Rajtlista!E118 -> 38826 | E112: =Rajtlista!F118 -> Pest | F112: =Rajtlista!G118 -> Péceli Integrált Oktatási Központ Általános Iskola és Gimnázium
B113: =Rajtlista!B119 -> 69 | C113: =Rajtlista!C119 -> Terry Lilla Edit | D113: =Rajtlista!E119 -> 38398 | E113: =Rajtlista!F119 -> Budapest | F113: =Rajtlista!G119 -> Városligeti Magyar-Angol Két Tanítási Nyelvű Általános Iskola
B114: =Rajtlista!B120 -> 70 | C114: =Rajtlista!C120 -> Máramarosi Dóra | D114: =Rajtlista!E120 -> 38392 | E114: =Rajtlista!F120 -> Budapest | F114: =Rajtlista!G120 -> Karinthy Frigyes Gimnázium
B115: =Rajtlista!B121 -> 71 | C115: =Rajtlista!C121 -> Benyovszky Luca | D115: =Rajtlista!E121 -> 38868 | E115: =Rajtlista!F121 -> Heves | F115: =Rajtlista!G121 -> Gyöngyössolymosi Nagy Gyula Katolikus Általános Iskola és Alapfokú Művészeti Iskola
...

Sheet Beíró
B1: =+Rajtlista!B1 -> SÍFUTÓ DIÁKOLIMPIA - 2020.02.12. - Mátraszentistván
B2: =+Rajtlista!B2 -> Egyéni futam / Individual Race
B3: Rsz. | C3: Név | D3: Kategória | E3: Szül. | F3: Orsz. | G3: Egyesület | H3: Rajtidő | I3: Célidő | J3: FutóIdő | K3: Lövészet | O3: Lőhiba idő | P3: Bünti idő | Q3: Idő-jóváírás | R3: Idő | S3: Megj | T3: Sorrend
B4: =+Rajtlista!B5:G5 -> I. kcs. Leány (2011-) - 0,5 km klasszikus | K4: =IF(ISBLANK('Lövészet beíró'!G5)=TRUE,"",('Lövészet beíró'!G5)) -> #N/A | L4: =IF(ISBLANK('Lövészet beíró'!H5)=TRUE,"",('Lövészet beíró'!H5)) -> #N/A | M4: =IF(ISBLANK('Lövészet beíró'!I5)=TRUE,"",('Lövészet beíró'!I5)) -> #N/A | N4: =IF(ISBLANK('Lövészet beíró'!J5)=TRUE,"",('Lövészet beíró'!J5)) -> #N/A | O4: =VLOOKUP(B4,Kategóriák!$C:$N,11,FALSE)/24/60/60 -> #N/A
B5: =Rajtlista!B6 -> 1 | C5: =Rajtlista!C6 -> Nagy Sarolta | D5: =+B4 -> I. kcs. Leány (2011-) - 0,5 km klasszikus | E5: =Rajtlista!E6 -> 40881 | F5: =Rajtlista!F6 -> Pest | G5: =Rajtlista!G6 -> József Nádor Általános Iskola és Alapfokú Művészeti Iskola (ÖKO Iskola) | H5: =Rajtlista!H6 -> 0.41701389 | I5: =IFERROR(VLOOKUP(B5,Idő!B:D,3,FALSE),"-") -> 0.43527778 | J5: =IFERROR(I5-H5,"-") -> 0.018263889 | K5: =IF(ISBLANK('Lövészet beíró'!G6)=TRUE,"",('Lövészet beíró'!G6)) | L5: =IF(ISBLANK('Lövészet beíró'!H6)=TRUE,"",('Lövészet beíró'!H6)) | M5: =IF(ISBLANK('Lövészet beíró'!I6)=TRUE,"",('Lövészet beíró'!I6)) | N5: =IF(ISBLANK('Lövészet beíró'!J6)=TRUE,"",('Lövészet beíró'!J6)) | O5: =SUM('Lövészet beíró'!G6:J6)*Beíró!$O$4 -> #N/A | P5: 0 | Q5: 0 | R5: =IFERROR(J5+O5+P5-Q5,"-") -> - | T5: =IFERROR(RANK(R5,$R$5:$R$19,1),"")
B6: =Rajtlista!B7 -> 2 | C6: =Rajtlista!C7 -> Birner Léna Petra | D6: =+D5 -> I. kcs. Leány (2011-) - 0,5 km klasszikus | E6: =Rajtlista!E7 -> 40808 | F6: =Rajtlista!F7 -> Heves | G6: =Rajtlista!G7 -> Gyöngyösi Arany János Általános Iskola | H6: =Rajtlista!H7 -> 0.41736111 | I6: =IFERROR(VLOOKUP(B6,Idő!B:D,3,FALSE),"-") -> 0.43075231 | J6: =IFERROR(I6-H6,"-") -> 0.013391204 | K6: =IF(ISBLANK('Lövészet beíró'!G7)=TRUE,"",('Lövészet beíró'!G7)) | L6: =IF(ISBLANK('Lövészet beíró'!H7)=TRUE,"",('Lövészet beíró'!H7)) | M6: =IF(ISBLANK('Lövészet beíró'!I7)=TRUE,"",('Lövészet beíró'!I7)) | N6: =IF(ISBLANK('Lövészet beíró'!J7)=TRUE,"",('Lövészet beíró'!J7)) | O6: =SUM('Lövészet beíró'!G7:J7)*Beíró!$O$4 -> #N/A | R6: =IFERROR(J6+O6+P6-Q6,"-") -> - | T6: =IFERROR(RANK(R6,$R$5:$R$19,1),"")
B7: =Rajtlista!B8 -> 3 | C7: =Rajtlista!C8 -> Gergely Lujza Piroska | D7: =+D6 -> I. kcs. Leány (2011-) - 0,5 km klasszikus | E7: =Rajtlista!E8 -> 41163 | F7: =Rajtlista!F8 -> Budapest | G7: =Rajtlista!G8 -> Budenz József Általános Iskola és Gimnázium | H7: =Rajtlista!H8 -> 0.41770833 | I7: =IFERROR(VLOOKUP(B7,Idő!B:D,3,FALSE),"-") -> 0.43208333 | J7: =IFERROR(I7-H7,"-") -> 0.014375 | K7: =IF(ISBLANK('Lövészet beíró'!G8)=TRUE,"",('Lövészet beíró'!G8)) | L7: =IF(ISBLANK('Lövészet beíró'!H8)=TRUE,"",('Lövészet beíró'!H8)) | M7: =IF(ISBLANK('Lövészet beíró'!I8)=TRUE,"",('Lövészet beíró'!I8)) | N7: =IF(ISBLANK('Lövészet beíró'!J8)=TRUE,"",('Lövészet beíró'!J8)) | O7: =SUM('Lövészet beíró'!G8:J8)*Beíró!$O$4 -> #N/A | R7: =IFERROR(J7+O7+P7-Q7,"-") -> - | T7: =IFERROR(RANK(R7,$R$5:$R$19,1),"")
B8: =Rajtlista!B9 -> 4 | C8: =Rajtlista!C9 -> Sári Laura | D8: =+D7 -> I. kcs. Leány (2011-) - 0,5 km klasszikus | E8: =Rajtlista!E9 -> 41383 | F8: =Rajtlista!F9 -> Győr-M-S | G8: =Rajtlista!G9 -> Prohászka Ottokár Orsolyita Gimnázium, Általános Iskola és Óvoda | H8: =Rajtlista!H9 -> 0.41805556 | I8: =IFERROR(VLOOKUP(B8,Idő!B:D,3,FALSE),"-") -> 0.43737269 | J8: =IFERROR(I8-H8,"-") -> 0.01931713 | K8: =IF(ISBLANK('Lövészet beíró'!G9)=TRUE,"",('Lövészet beíró'!G9)) | L8: =IF(ISBLANK('Lövészet beíró'!H9)=TRUE,"",('Lövészet beíró'!H9)) | M8: =IF(ISBLANK('Lövészet beíró'!I9)=TRUE,"",('Lövészet beíró'!I9)) | N8: =IF(ISBLANK('Lövészet beíró'!J9)=TRUE,"",('Lövészet beíró'!J9)) | O8: =SUM('Lövészet beíró'!G9:J9)*Beíró!$O$4 -> #N/A | R8: =IFERROR(J8+O8+P8-Q8,"-") -> - | T8: =IFERROR(RANK(R8,$R$5:$R$19,1),"")
B9: =Rajtlista!B10 -> 5 | C9: =Rajtlista!C10 -> Maus Virág | D9: =+D8 -> I. kcs. Leány (2011-) - 0,5 km klasszikus | E9: =Rajtlista!E10 -> 40976 | F9: =Rajtlista!F10 -> Budapest | G9: =Rajtlista!G10 -> Budenz József Általános Iskola és Gimnázium | H9: =Rajtlista!H10 -> 0.41840278 | I9: =IFERROR(VLOOKUP(B9,Idő!B:D,3,FALSE),"-") -> 0.43392361 | J9: =IFERROR(I9-H9,"-") -> 0.015520833 | K9: =IF(ISBLANK('Lövészet beíró'!G10)=TRUE,"",('Lövészet beíró'!G10)) | L9: =IF(ISBLANK('Lövészet beíró'!H10)=TRUE,"",('Lövészet beíró'!H10)) | M9: =IF(ISBLANK('Lövészet beíró'!I10)=TRUE,"",('Lövészet beíró'!I10)) | N9: =IF(ISBLANK('Lövészet beíró'!J10)=TRUE,"",('Lövészet beíró'!J10)) | O9: =SUM('Lövészet beíró'!G10:J10)*Beíró!$O$4 -> #N/A | R9: =IFERROR(J9+O9+P9-Q9,"-") -> - | T9: =IFERROR(RANK(R9,$R$5:$R$19,1),"")
B10: =Rajtlista!B11 -> 6 | C10: =Rajtlista!C11 -> Rosivall Emma Nóra | D10: =+D9 -> I. kcs. Leány (2011-) - 0,5 km klasszikus | E10: =Rajtlista!E11 -> 40806 | F10: =Rajtlista!F11 -> Budapest | G10: =Rajtlista!G11 -> Budenz József Általános Iskola és Gimnázium | H10: =Rajtlista!H11 -> 0.41875 | I10: =IFERROR(VLOOKUP(B10,Idő!B:D,3,FALSE),"-") -> 0.47447917 | J10: =IFERROR(I10-H10,"-") -> 0.055729167 | K10: =IF(ISBLANK('Lövészet beíró'!G11)=TRUE,"",('Lövészet beíró'!G11)) | L10: =IF(ISBLANK('Lövészet beíró'!H11)=TRUE,"",('Lövészet beíró'!H11)) | M10: =IF(ISBLANK('Lövészet beíró'!I11)=TRUE,"",('Lövészet beíró'!I11)) | N10: =IF(ISBLANK('Lövészet beíró'!J11)=TRUE,"",('Lövészet beíró'!J11)) | O10: =SUM('Lövészet beíró'!G11:J11)*Beíró!$O$4 -> #N/A | R10: =IFERROR(J10+O10+P10-Q10,"-") -> - | T10: =IFERROR(RANK(R10,$R$5:$R$19,1),"")
B11: =Rajtlista!B12 -> 7 | C11: =Rajtlista!C12 -> Bozóki Barbara | D11: =+D10 -> I. kcs. Leány (2011-) - 0,5 km klasszikus | E11: =Rajtlista!E12 -> 41388 | F11: =Rajtlista!F12 -> Pest | G11: =Rajtlista!G12 -> Péceli Integrált Oktatási Központ Általános Iskola és Gimnázium | H11: =Rajtlista!H12 -> 0.41909722 | I11: =IFERROR(VLOOKUP(B11,Idő!B:D,3,FALSE),"-") -> 0.48547454 | J11: =IFERROR(I11-H11,"-") -> 0.066377315 | K11: =IF(ISBLANK('Lövészet beíró'!G12)=TRUE,"",('Lövészet beíró'!G12)) | L11: =IF(ISBLANK('Lövészet beíró'!H12)=TRUE,"",('Lövészet beíró'!H12)) | M11: =IF(ISBLANK('Lövészet beíró'!I12)=TRUE,"",('Lövészet beíró'!I12)) | N11: =IF(ISBLANK('Lövészet beíró'!J12)=TRUE,"",('Lövészet beíró'!J12)) | O11: =SUM('Lövészet beíró'!G12:J12)*Beíró!$O$4 -> #N/A | R11: =IFERROR(J11+O11+P11-Q11,"-") -> - | T11: =IFERROR(RANK(R11,$R$5:$R$19,1),"")
B12: =Rajtlista!B13 -> 0 | C12: =Rajtlista!C13 | D12: =+D11 -> I. kcs. Leány (2011-) - 0,5 km klasszikus | E12: =Rajtlista!E13 | F12: =Rajtlista!F13 | G12: =Rajtlista!G13 | H12: =Rajtlista!H13 -> 0.41944444 | I12: =IFERROR(VLOOKUP(B12,Idő!B:D,3,FALSE),"-") -> - | J12: =IFERROR(I12-H12,"-") -> - | K12: =IF(ISBLANK('Lövészet beíró'!G13)=TRUE,"",('Lövészet beíró'!G13)) | L12: =IF(ISBLANK('Lövészet beíró'!H13)=TRUE,"",('Lövészet beíró'!H13)) | M12: =IF(ISBLANK('Lövészet beíró'!I13)=TRUE,"",('Lövészet beíró'!I13)) | N12: =IF(ISBLANK('Lövészet beíró'!J13)=TRUE,"",('Lövészet beíró'!J13)) | O12: =SUM('Lövészet beíró'!G13:J13)*Beíró!$O$4 -> #N/A | R12: =IFERROR(J12+O12+P12-Q12,"-") -> - | T12: =IFERROR(RANK(R12,$R$5:$R$19,1),"")
B13: =Rajtlista!B14 -> 0 | C13: =Rajtlista!C14 | D13: =+D12 -> I. kcs. Leány (2011-) - 0,5 km klasszikus | E13: =Rajtlista!E14 | F13: =Rajtlista!F14 | G13: =Rajtlista!G14 | H13: =Rajtlista!H14 -> 0.41979167 | I13: =IFERROR(VLOOKUP(B13,Idő!B:D,3,FALSE),"-") -> - | J13: =IFERROR(I13-H13,"-") -> - | K13: =IF(ISBLANK('Lövészet beíró'!G14)=TRUE,"",('Lövészet beíró'!G14)) | L13: =IF(ISBLANK('Lövészet beíró'!H14)=TRUE,"",('Lövészet beíró'!H14)) | M13: =IF(ISBLANK('Lövészet beíró'!I14)=TRUE,"",('Lövészet beíró'!I14)) | N13: =IF(ISBLANK('Lövészet beíró'!J14)=TRUE,"",('Lövészet beíró'!J14)) | O13: =SUM('Lövészet beíró'!G14:J14)*Beíró!$O$4 -> #N/A | R13: =IFERROR(J13+O13+P13-Q13,"-") -> - | T13: =IFERROR(RANK(R13,$R$5:$R$19,1),"")
B14: =Rajtlista!B15 -> 0 | C14: =Rajtlista!C15 | D14: =+D13 -> I. kcs. Leány (2011-) - 0,5 km klasszikus | E14: =Rajtlista!E15 | F14: =Rajtlista!F15 | G14: =Rajtlista!G15 | H14: =Rajtlista!H15 -> 0.42013889 | I14: =IFERROR(VLOOKUP(B14,Idő!B:D,3,FALSE),"-") -> - | J14: =IFERROR(I14-H14,"-") -> - | K14: =IF(ISBLANK('Lövészet beíró'!G15)=TRUE,"",('Lövészet beíró'!G15)) | L14: =IF(ISBLANK('Lövészet beíró'!H15)=TRUE,"",('Lövészet beíró'!H15)) | M14: =IF(ISBLANK('Lövészet beíró'!I15)=TRUE,"",('Lövészet beíró'!I15)) | N14: =IF(ISBLANK('Lövészet beíró'!J15)=TRUE,"",('Lövészet beíró'!J15)) | O14: =SUM('Lövészet beíró'!G15:J15)*Beíró!$O$4 -> #N/A | R14: =IFERROR(J14+O14+P14-Q14,"-") -> - | T14: =IFERROR(RANK(R14,$R$5:$R$19,1),"")
B15: =Rajtlista!B16 -> 0 | C15: =Rajtlista!C16 | D15: =+D14 -> I. kcs. Leány (2011-) - 0,5 km klasszikus | E15: =Rajtlista!E16 | F15: =Rajtlista!F16 | G15: =Rajtlista!G16 | H15: =Rajtlista!H16 -> 0.42048611 | I15: =IFERROR(VLOOKUP(B15,Idő!B:D,3,FALSE),"-") -> - | J15: =IFERROR(I15-H15,"-") -> - | K15: =IF(ISBLANK('Lövészet beíró'!G16)=TRUE,"",('Lövészet beíró'!G16)) | L15: =IF(ISBLANK('Lövészet beíró'!H16)=TRUE,"",('Lövészet beíró'!H16)) | M15: =IF(ISBLANK('Lövészet beíró'!I16)=TRUE,"",('Lövészet beíró'!I16)) | N15: =IF(ISBLANK('Lövészet beíró'!J16)=TRUE,"",('Lövészet beíró'!J16)) | O15: =SUM('Lövészet beíró'!G16:J16)*Beíró!$O$4 -> #N/A | R15: =IFERROR(J15+O15+P15-Q15,"-") -> - | T15: =IFERROR(RANK(R15,$R$5:$R$19,1),"")
B16: =Rajtlista!B17 -> 0 | C16: =Rajtlista!C17 | D16: =+D15 -> I. kcs. Leány (2011-) - 0,5 km klasszikus | E16: =Rajtlista!E17 | F16: =Rajtlista!F17 | G16: =Rajtlista!G17 | H16: =Rajtlista!H17 -> 0.42083333 | I16: =IFERROR(VLOOKUP(B16,Idő!B:D,3,FALSE),"-") -> - | J16: =IFERROR(I16-H16,"-") -> - | K16: =IF(ISBLANK('Lövészet beíró'!G17)=TRUE,"",('Lövészet beíró'!G17)) | L16: =IF(ISBLANK('Lövészet beíró'!H17)=TRUE,"",('Lövészet beíró'!H17)) | M16: =IF(ISBLANK('Lövészet beíró'!I17)=TRUE,"",('Lövészet beíró'!I17)) | N16: =IF(ISBLANK('Lövészet beíró'!J17)=TRUE,"",('Lövészet beíró'!J17)) | O16: =SUM('Lövészet beíró'!G17:J17)*Beíró!$O$4 -> #N/A | R16: =IFERROR(J16+O16+P16-Q16,"-") -> - | T16: =IFERROR(RANK(R16,$R$5:$R$19,1),"")
B17: =Rajtlista!B18 -> 0 | C17: =Rajtlista!C18 | D17: =+D16 -> I. kcs. Leány (2011-) - 0,5 km klasszikus | E17: =Rajtlista!E18 | F17: =Rajtlista!F18 | G17: =Rajtlista!G18 | H17: =Rajtlista!H18 -> 0.42118056 | I17: =IFERROR(VLOOKUP(B17,Idő!B:D,3,FALSE),"-") -> - | J17: =IFERROR(I17-H17,"-") -> - | K17: =IF(ISBLANK('Lövészet beíró'!G18)=TRUE,"",('Lövészet beíró'!G18)) | L17: =IF(ISBLANK('Lövészet beíró'!H18)=TRUE,"",('Lövészet beíró'!H18)) | M17: =IF(ISBLANK('Lövészet beíró'!I18)=TRUE,"",('Lövészet beíró'!I18)) | N17: =IF(ISBLANK('Lövészet beíró'!J18)=TRUE,"",('Lövészet beíró'!J18)) | O17: =SUM('Lövészet beíró'!G18:J18)*Beíró!$O$4 -> #N/A | R17: =IFERROR(J17+O17+P17-Q17,"-") -> - | T17: =IFERROR(RANK(R17,$R$5:$R$19,1),"")
... B19: =Rajtlista!B20 -> 0 | C19: =Rajtlista!C20 | D19: =+D18 -> I. kcs. Leány (2011-) - 0,5 km klasszikus | E19: =Rajtlista!E20 | F19: =Rajtlista!F20 | G19: =Rajtlista!G20 | H19: =Rajtlista!H20 -> 0.421875 | I19: =IFERROR(VLOOKUP(B19,Idő!B:D,3,FALSE),"-") -> - | J19: =IFERROR(I19-H19,"-") -> - | K19: =IF(ISBLANK('Lövészet beíró'!G20)=TRUE,"",('Lövészet beíró'!G20)) | L19: =IF(ISBLANK('Lövészet beíró'!H20)=TRUE,"",('Lövészet beíró'!H20)) | M19: =IF(ISBLANK('Lövészet beíró'!I20)=TRUE,"",('Lövészet beíró'!I20)) | N19: =IF(ISBLANK('Lövészet beíró'!J20)=TRUE,"",('Lövészet beíró'!J20)) | O19: =SUM('Lövészet beíró'!G20:J20)*Beíró!$O$4 -> #N/A | R19: =IFERROR(J19+O19+P19-Q19,"-") -> - | T19: =IFERROR(RANK(R19,$R$5:$R$19,1),"")
B21: =+Rajtlista!B22:G22 -> I. kcs. Fiú (2011-) - 0,5 km klasszikus | K21: =IF(ISBLANK('Lövészet beíró'!G22)=TRUE,"",('Lövészet beíró'!G22)) -> #N/A | L21: =IF(ISBLANK('Lövészet beíró'!H22)=TRUE,"",('Lövészet beíró'!H22)) -> #N/A | M21: =IF(ISBLANK('Lövészet beíró'!I22)=TRUE,"",('Lövészet beíró'!I22)) -> #N/A | N21: =IF(ISBLANK('Lövészet beíró'!J22)=TRUE,"",('Lövészet beíró'!J22)) -> #N/A | O21: =VLOOKUP(B21,Kategóriák!$C:$N,11,FALSE)/24/60/60 -> #N/A
B22: =Rajtlista!B23 -> 8 | C22: =Rajtlista!C23 -> Szabó Botond | D22: =+B21 -> I. kcs. Fiú (2011-) - 0,5 km klasszikus | E22: =Rajtlista!E23 -> 40819 | F22: =Rajtlista!F23 -> Heves | G22: =Rajtlista!G23 -> Gyöngyöshalászi Széchenyi István Általános Iskola | H22: =Rajtlista!H23 -> 0.41840278 | I22: =IFERROR(VLOOKUP(B22,Idő!B:D,3,FALSE),"-") -> 0.47871528 | J22: =IFERROR(I22-H22,"-") -> 0.0603125 | K22: =IF(ISBLANK('Lövészet beíró'!G23)=TRUE,"",('Lövészet beíró'!G23)) | L22: =IF(ISBLANK('Lövészet beíró'!H23)=TRUE,"",('Lövészet beíró'!H23)) | M22: =IF(ISBLANK('Lövészet beíró'!I23)=TRUE,"",('Lövészet beíró'!I23)) | N22: =IF(ISBLANK('Lövészet beíró'!J23)=TRUE,"",('Lövészet beíró'!J23)) | O22: =SUM('Lövészet beíró'!G23:J23)*Beíró!$O$21 -> #N/A | P22: 0 | Q22: 0 | R22: =IFERROR(J22+O22+P22-Q22,"-") -> - | T22: =IFERROR(RANK(R22,$R$22:$R$36,1),"")
B23: =Rajtlista!B24 -> 9 | C23: =Rajtlista!C24 -> Lemberkovics Zalán Viktor | D23: =+D22 -> I. kcs. Fiú (2011-) - 0,5 km klasszikus | E23: =Rajtlista!E24 -> 40970 | F23: =Rajtlista!F24 -> Győr-M-S | G23: =Rajtlista!G24 -> Prohászka Ottokár Orsolyita Gimnázium, Általános Iskola és Óvoda | H23: =Rajtlista!H24 -> 0.41875 | I23: =IFERROR(VLOOKUP(B23,Idő!B:D,3,FALSE),"-") -> - | J23: =IFERROR(I23-H23,"-") -> - | K23: =IF(ISBLANK('Lövészet beíró'!G24)=TRUE,"",('Lövészet beíró'!G24)) | L23: =IF(ISBLANK('Lövészet beíró'!H24)=TRUE,"",('Lövészet beíró'!H24)) | M23: =IF(ISBLANK('Lövészet beíró'!I24)=TRUE,"",('Lövészet beíró'!I24)) | N23: =IF(ISBLANK('Lövészet beíró'!J24)=TRUE,"",('Lövészet beíró'!J24)) | O23: =SUM('Lövészet beíró'!G24:J24)*Beíró!$O$21 -> #N/A | R23: =IFERROR(J23+O23+P23-Q23,"-") -> - | T23: =IFERROR(RANK(R23,$R$22:$R$36,1),"")
B24: =Rajtlista!B25 -> 10 | C24: =Rajtlista!C25 -> Szabolcs Márton | D24: =+D23 -> I. kcs. Fiú (2011-) - 0,5 km klasszikus | E24: =Rajtlista!E25 -> 41056 | F24: =Rajtlista!F25 -> Pest | G24: =Rajtlista!G25 -> Gödi Németh László Általános Iskola és Alapfokú Művészeti Iskola | H24: =Rajtlista!H25 -> 0.41909722 | I24: =IFERROR(VLOOKUP(B24,Idő!B:D,3,FALSE),"-") -> 0.475 | J24: =IFERROR(I24-H24,"-") -> 0.055902778 | K24: =IF(ISBLANK('Lövészet beíró'!G25)=TRUE,"",('Lövészet beíró'!G25)) | L24: =IF(ISBLANK('Lövészet beíró'!H25)=TRUE,"",('Lövészet beíró'!H25)) | M24: =IF(ISBLANK('Lövészet beíró'!I25)=TRUE,"",('Lövészet beíró'!I25)) | N24: =IF(ISBLANK('Lövészet beíró'!J25)=TRUE,"",('Lövészet beíró'!J25)) | O24: =SUM('Lövészet beíró'!G25:J25)*Beíró!$O$21 -> #N/A | R24: =IFERROR(J24+O24+P24-Q24,"-") -> - | T24: =IFERROR(RANK(R24,$R$22:$R$36,1),"")
B25: =Rajtlista!B26 -> 11 | C25: =Rajtlista!C26 -> Gergely Márton | D25: =+D24 -> I. kcs. Fiú (2011-) - 0,5 km klasszikus | E25: =Rajtlista!E26 -> 40597 | F25: =Rajtlista!F26 -> Budapest | G25: =Rajtlista!G26 -> Budenz József Általános Iskola és Gimnázium | H25: =Rajtlista!H26 -> 0.41944444 | I25: =IFERROR(VLOOKUP(B25,Idő!B:D,3,FALSE),"-") -> 0.47707176 | J25: =IFERROR(I25-H25,"-") -> 0.057627315 | K25: =IF(ISBLANK('Lövészet beíró'!G26)=TRUE,"",('Lövészet beíró'!G26)) | L25: =IF(ISBLANK('Lövészet beíró'!H26)=TRUE,"",('Lövészet beíró'!H26)) | M25: =IF(ISBLANK('Lövészet beíró'!I26)=TRUE,"",('Lövészet beíró'!I26)) | N25: =IF(ISBLANK('Lövészet beíró'!J26)=TRUE,"",('Lövészet beíró'!J26)) | O25: =SUM('Lövészet beíró'!G26:J26)*Beíró!$O$21 -> #N/A | R25: =IFERROR(J25+O25+P25-Q25,"-") -> - | T25: =IFERROR(RANK(R25,$R$22:$R$36,1),"")
B26: =Rajtlista!B27 -> 0 | C26: =Rajtlista!C27 | D26: =+D25 -> I. kcs. Fiú (2011-) - 0,5 km klasszikus | E26: =Rajtlista!E27 | F26: =Rajtlista!F27 | G26: =Rajtlista!G27 | H26: =Rajtlista!H27 -> 0.41979167 | I26: =IFERROR(VLOOKUP(B26,Idő!B:D,3,FALSE),"-") -> - | J26: =IFERROR(I26-H26,"-") -> - | K26: =IF(ISBLANK('Lövészet beíró'!G27)=TRUE,"",('Lövészet beíró'!G27)) | L26: =IF(ISBLANK('Lövészet beíró'!H27)=TRUE,"",('Lövészet beíró'!H27)) | M26: =IF(ISBLANK('Lövészet beíró'!I27)=TRUE,"",('Lövészet beíró'!I27)) | N26: =IF(ISBLANK('Lövészet beíró'!J27)=TRUE,"",('Lövészet beíró'!J27)) | O26: =SUM('Lövészet beíró'!G27:J27)*Beíró!$O$21 -> #N/A | R26: =IFERROR(J26+O26+P26-Q26,"-") -> - | T26: =IFERROR(RANK(R26,$R$22:$R$36,1),"")
B27: =Rajtlista!B28 -> 0 | C27: =Rajtlista!C28 | D27: =+D26 -> I. kcs. Fiú (2011-) - 0,5 km klasszikus | E27: =Rajtlista!E28 | F27: =Rajtlista!F28 | G27: =Rajtlista!G28 | H27: =Rajtlista!H28 -> 0.42013889 | I27: =IFERROR(VLOOKUP(B27,Idő!B:D,3,FALSE),"-") -> - | J27: =IFERROR(I27-H27,"-") -> - | K27: =IF(ISBLANK('Lövészet beíró'!G28)=TRUE,"",('Lövészet beíró'!G28)) | L27: =IF(ISBLANK('Lövészet beíró'!H28)=TRUE,"",('Lövészet beíró'!H28)) | M27: =IF(ISBLANK('Lövészet beíró'!I28)=TRUE,"",('Lövészet beíró'!I28)) | N27: =IF(ISBLANK('Lövészet beíró'!J28)=TRUE,"",('Lövészet beíró'!J28)) | O27: =SUM('Lövészet beíró'!G28:J28)*Beíró!$O$21 -> #N/A | R27: =IFERROR(J27+O27+P27-Q27,"-") -> - | T27: =IFERROR(RANK(R27,$R$22:$R$36,1),"")
B28: =Rajtlista!B29 -> 0 | C28: =Rajtlista!C29 | D28: =+D27 -> I. kcs. Fiú (2011-) - 0,5 km klasszikus | E28: =Rajtlista!E29 | F28: =Rajtlista!F29 | G28: =Rajtlista!G29 | H28: =Rajtlista!H29 -> 0.42048611 | I28: =IFERROR(VLOOKUP(B28,Idő!B:D,3,FALSE),"-") -> - | J28: =IFERROR(I28-H28,"-") -> - | K28: =IF(ISBLANK('Lövészet beíró'!G29)=TRUE,"",('Lövészet beíró'!G29)) | L28: =IF(ISBLANK('Lövészet beíró'!H29)=TRUE,"",('Lövészet beíró'!H29)) | M28: =IF(ISBLANK('Lövészet beíró'!I29)=TRUE,"",('Lövészet beíró'!I29)) | N28: =IF(ISBLANK('Lövészet beíró'!J29)=TRUE,"",('Lövészet beíró'!J29)) | O28: =SUM('Lövészet beíró'!G29:J29)*Beíró!$O$21 -> #N/A | R28: =IFERROR(J28+O28+P28-Q28,"-") -> - | T28: =IFERROR(RANK(R28,$R$22:$R$36,1),"")
B29: =Rajtlista!B30 -> 0 | C29: =Rajtlista!C30 | D29: =+D28 -> I. kcs. Fiú (2011-) - 0,5 km klasszikus | E29: =Rajtlista!E30 | F29: =Rajtlista!F30 | G29: =Rajtlista!G30 | H29: =Rajtlista!H30 -> 0.42083333 | I29: =IFERROR(VLOOKUP(B29,Idő!B:D,3,FALSE),"-") -> - | J29: =IFERROR(I29-H29,"-") -> - | K29: =IF(ISBLANK('Lövészet beíró'!G30)=TRUE,"",('Lövészet beíró'!G30)) | L29: =IF(ISBLANK('Lövészet beíró'!H30)=TRUE,"",('Lövészet beíró'!H30)) | M29: =IF(ISBLANK('Lövészet beíró'!I30)=TRUE,"",('Lövészet beíró'!I30)) | N29: =IF(ISBLANK('Lövészet beíró'!J30)=TRUE,"",('Lövészet beíró'!J30)) | O29: =SUM('Lövészet beíró'!G30:J30)*Beíró!$O$21 -> #N/A | R29: =IFERROR(J29+O29+P29-Q29,"-") -> - | T29: =IFERROR(RANK(R29,$R$22:$R$36,1),"")
B30: =Rajtlista!B31 -> 0 | C30: =Rajtlista!C31 | D30: =+D29 -> I. kcs. Fiú (2011-) - 0,5 km klasszikus | E30: =Rajtlista!E31 | F30: =Rajtlista!F31 | G30: =Rajtlista!G31 | H30: =Rajtlista!H31 -> 0.42118056 | I30: =IFERROR(VLOOKUP(B30,Idő!B:D,3,FALSE),"-") -> - | J30: =IFERROR(I30-H30,"-") -> - | K30: =IF(ISBLANK('Lövészet beíró'!G31)=TRUE,"",('Lövészet beíró'!G31)) | L30: =IF(ISBLANK('Lövészet beíró'!H31)=TRUE,"",('Lövészet beíró'!H31)) | M30: =IF(ISBLANK('Lövészet beíró'!I31)=TRUE,"",('Lövészet beíró'!I31)) | N30: =IF(ISBLANK('Lövészet beíró'!J31)=TRUE,"",('Lövészet beíró'!J31)) | O30: =SUM('Lövészet beíró'!G31:J31)*Beíró!$O$21 -> #N/A | R30: =IFERROR(J30+O30+P30-Q30,"-") -> - | T30: =IFERROR(RANK(R30,$R$22:$R$36,1),"")
B31: =Rajtlista!B32 -> 0 | C31: =Rajtlista!C32 | D31: =+D30 -> I. kcs. Fiú (2011-) - 0,5 km klasszikus | E31: =Rajtlista!E32 | F31: =Rajtlista!F32 | G31: =Rajtlista!G32 | H31: =Rajtlista!H32 -> 0.42152778 | I31: =IFERROR(VLOOKUP(B31,Idő!B:D,3,FALSE),"-") -> - | J31: =IFERROR(I31-H31,"-") -> - | K31: =IF(ISBLANK('Lövészet beíró'!G32)=TRUE,"",('Lövészet beíró'!G32)) | L31: =IF(ISBLANK('Lövészet beíró'!H32)=TRUE,"",('Lövészet beíró'!H32)) | M31: =IF(ISBLANK('Lövészet beíró'!I32)=TRUE,"",('Lövészet beíró'!I32)) | N31: =IF(ISBLANK('Lövészet beíró'!J32)=TRUE,"",('Lövészet beíró'!J32)) | O31: =SUM('Lövészet beíró'!G32:J32)*Beíró!$O$21 -> #N/A | R31: =IFERROR(J31+O31+P31-Q31,"-") -> - | T31: =IFERROR(RANK(R31,$R$22:$R$36,1),"")
B32: =Rajtlista!B33 -> 0 | C32: =Rajtlista!C33 | D32: =+D31 -> I. kcs. Fiú (2011-) - 0,5 km klasszikus | E32: =Rajtlista!E33 | F32: =Rajtlista!F33 | G32: =Rajtlista!G33 | H32: =Rajtlista!H33 -> 0.421875 | I32: =IFERROR(VLOOKUP(B32,Idő!B:D,3,FALSE),"-") -> - | J32: =IFERROR(I32-H32,"-") -> - | K32: =IF(ISBLANK('Lövészet beíró'!G33)=TRUE,"",('Lövészet beíró'!G33)) | L32: =IF(ISBLANK('Lövészet beíró'!H33)=TRUE,"",('Lövészet beíró'!H33)) | M32: =IF(ISBLANK('Lövészet beíró'!I33)=TRUE,"",('Lövészet beíró'!I33)) | N32: =IF(ISBLANK('Lövészet beíró'!J33)=TRUE,"",('Lövészet beíró'!J33)) | O32: =SUM('Lövészet beíró'!G33:J33)*Beíró!$O$21 -> #N/A | R32: =IFERROR(J32+O32+P32-Q32,"-") -> - | T32: =IFERROR(RANK(R32,$R$22:$R$36,1),"")
B33: =Rajtlista!B34 -> 0 | C33: =Rajtlista!C34 | D33: =+D32 -> I. kcs. Fiú (2011-) - 0,5 km klasszikus | E33: =Rajtlista!E34 | F33: =Rajtlista!F34 | G33: =Rajtlista!G34 | H33: =Rajtlista!H34 -> 0.42222222 | I33: =IFERROR(VLOOKUP(B33,Idő!B:D,3,FALSE),"-") -> - | J33: =IFERROR(I33-H33,"-") -> - | K33: =IF(ISBLANK('Lövészet beíró'!G34)=TRUE,"",('Lövészet beíró'!G34)) | L33: =IF(ISBLANK('Lövészet beíró'!H34)=TRUE,"",('Lövészet beíró'!H34)) | M33: =IF(ISBLANK('Lövészet beíró'!I34)=TRUE,"",('Lövészet beíró'!I34)) | N33: =IF(ISBLANK('Lövészet beíró'!J34)=TRUE,"",('Lövészet beíró'!J34)) | O33: =SUM('Lövészet beíró'!G34:J34)*Beíró!$O$21 -> #N/A | R33: =IFERROR(J33+O33+P33-Q33,"-") -> - | T33: =IFERROR(RANK(R33,$R$22:$R$36,1),"")
B34: =Rajtlista!B35 -> 0 | C34: =Rajtlista!C35 | D34: =+D33 -> I. kcs. Fiú (2011-) - 0,5 km klasszikus | E34: =Rajtlista!E35 | F34: =Rajtlista!F35 | G34: =Rajtlista!G35 | H34: =Rajtlista!H35 -> 0.42256944 | I34: =IFERROR(VLOOKUP(B34,Idő!B:D,3,FALSE),"-") -> - | J34: =IFERROR(I34-H34,"-") -> - | K34: =IF(ISBLANK('Lövészet beíró'!G35)=TRUE,"",('Lövészet beíró'!G35)) | L34: =IF(ISBLANK('Lövészet beíró'!H35)=TRUE,"",('Lövészet beíró'!H35)) | M34: =IF(ISBLANK('Lövészet beíró'!I35)=TRUE,"",('Lövészet beíró'!I35)) | N34: =IF(ISBLANK('Lövészet beíró'!J35)=TRUE,"",('Lövészet beíró'!J35)) | O34: =SUM('Lövészet beíró'!G35:J35)*Beíró!$O$21 -> #N/A | R34: =IFERROR(J34+O34+P34-Q34,"-") -> - | T34: =IFERROR(RANK(R34,$R$22:$R$36,1),"")
... B36: =Rajtlista!B37 -> 0 | C36: =Rajtlista!C37 | D36: =+D35 -> I. kcs. Fiú (2011-) - 0,5 km klasszikus | E36: =Rajtlista!E37 | F36: =Rajtlista!F37 | G36: =Rajtlista!G37 | H36: =Rajtlista!H37 -> 0.42326389 | I36: =IFERROR(VLOOKUP(B36,Idő!B:D,3,FALSE),"-") -> - | J36: =IFERROR(I36-H36,"-") -> - | K36: =IF(ISBLANK('Lövészet beíró'!G37)=TRUE,"",('Lövészet beíró'!G37)) | L36: =IF(ISBLANK('Lövészet beíró'!H37)=TRUE,"",('Lövészet beíró'!H37)) | M36: =IF(ISBLANK('Lövészet beíró'!I37)=TRUE,"",('Lövészet beíró'!I37)) | N36: =IF(ISBLANK('Lövészet beíró'!J37)=TRUE,"",('Lövészet beíró'!J37)) | O36: =SUM('Lövészet beíró'!G37:J37)*Beíró!$O$21 -> #N/A | R36: =IFERROR(J36+O36+P36-Q36,"-") -> - | T36: =IFERROR(RANK(R36,$R$22:$R$36,1),"")
B38: =+Rajtlista!B39:G39 -> II. kcs. Leány (2009-2010) - 1 km klasszikus | K38: =IF(ISBLANK('Lövészet beíró'!G39)=TRUE,"",('Lövészet beíró'!G39)) -> #N/A | L38: =IF(ISBLANK('Lövészet beíró'!H39)=TRUE,"",('Lövészet beíró'!H39)) -> #N/A | M38: =IF(ISBLANK('Lövészet beíró'!I39)=TRUE,"",('Lövészet beíró'!I39)) -> #N/A | N38: =IF(ISBLANK('Lövészet beíró'!J39)=TRUE,"",('Lövészet beíró'!J39)) -> #N/A | O38: 0.00034722222
B39: =Rajtlista!B40 -> 12 | C39: =Rajtlista!C40 -> Besze Regina Kira | D39: =+B38 -> II. kcs. Leány (2009-2010) - 1 km klasszikus | E39: =Rajtlista!E40 -> 40084 | F39: =Rajtlista!F40 -> Heves | G39: =Rajtlista!G40 -> Gyöngyössolymosi Nagy Gyula Katolikus Általános Iskola és Alapfokú Művészeti Iskola | H39: =Rajtlista!H40 -> 0.46215278 | I39: =IFERROR(VLOOKUP(B39,Idő!B:D,3,FALSE),"-") -> 0.51269676 | J39: =IFERROR(I39-H39,"-") -> 0.050543981 | K39: =IF(ISBLANK('Lövészet beíró'!G40)=TRUE,"",('Lövészet beíró'!G40)) | L39: =IF(ISBLANK('Lövészet beíró'!H40)=TRUE,"",('Lövészet beíró'!H40)) | M39: =IF(ISBLANK('Lövészet beíró'!I40)=TRUE,"",('Lövészet beíró'!I40)) | N39: =IF(ISBLANK('Lövészet beíró'!J40)=TRUE,"",('Lövészet beíró'!J40)) | O39: =SUM('Lövészet beíró'!G40:J40)*Beíró!$O$38 -> 0 | P39: 0 | Q39: 0 | R39: =IFERROR(J39+O39+P39-Q39,"-") -> 0.050543981 | T39: =IFERROR(RANK(R39,$R$39:$R$53,1),"") -> 3
B40: =Rajtlista!B41 -> 13 | C40: =Rajtlista!C41 -> Katona Korinna | D40: =+D39 -> II. kcs. Leány (2009-2010) - 1 km klasszikus | E40: =Rajtlista!E41 -> 40079 | F40: =Rajtlista!F41 -> Heves | G40: =Rajtlista!G41 -> Eszterházy Károly Egyetem Gyakorló Általános, Közép-, Alapfokú Művészeti Iskola és Pedagógiai Intézet | H40: =Rajtlista!H41 -> 0.4625 | I40: =IFERROR(VLOOKUP(B40,Idő!B:D,3,FALSE),"-") -> 0.51387731 | J40: =IFERROR(I40-H40,"-") -> 0.051377315 | K40: =IF(ISBLANK('Lövészet beíró'!G41)=TRUE,"",('Lövészet beíró'!G41)) | L40: =IF(ISBLANK('Lövészet beíró'!H41)=TRUE,"",('Lövészet beíró'!H41)) | M40: =IF(ISBLANK('Lövészet beíró'!I41)=TRUE,"",('Lövészet beíró'!I41)) | N40: =IF(ISBLANK('Lövészet beíró'!J41)=TRUE,"",('Lövészet beíró'!J41)) | O40: =SUM('Lövészet beíró'!G41:J41)*Beíró!$O$38 -> 0 | R40: =IFERROR(J40+O40+P40-Q40,"-") -> 0.051377315 | T40: =IFERROR(RANK(R40,$R$39:$R$53,1),"") -> 6
B41: =Rajtlista!B42 -> 14 | C41: =Rajtlista!C42 -> Jankó Boglárka Dóra | D41: =+D40 -> II. kcs. Leány (2009-2010) - 1 km klasszikus | E41: =Rajtlista!E42 -> 40253 | F41: =Rajtlista!F42 -> Pest | G41: =Rajtlista!G42 -> Kesjár Csaba Általános Iskola | H41: =Rajtlista!H42 -> 0.46284722 | I41: =IFERROR(VLOOKUP(B41,Idő!B:D,3,FALSE),"-") -> 0.5127662 | J41: =IFERROR(I41-H41,"-") -> 0.049918981 | K41: =IF(ISBLANK('Lövészet beíró'!G42)=TRUE,"",('Lövészet beíró'!G42)) | L41: =IF(ISBLANK('Lövészet beíró'!H42)=TRUE,"",('Lövészet beíró'!H42)) | M41: =IF(ISBLANK('Lövészet beíró'!I42)=TRUE,"",('Lövészet beíró'!I42)) | N41: =IF(ISBLANK('Lövészet beíró'!J42)=TRUE,"",('Lövészet beíró'!J42)) | O41: =SUM('Lövészet beíró'!G42:J42)*Beíró!$O$38 -> 0 | R41: =IFERROR(J41+O41+P41-Q41,"-") -> 0.049918981 | T41: =IFERROR(RANK(R41,$R$39:$R$53,1),"") -> 1
B42: =Rajtlista!B43 -> 15 | C42: =Rajtlista!C43 -> Kovács Nóra | D42: =+D41 -> II. kcs. Leány (2009-2010) - 1 km klasszikus | E42: =Rajtlista!E43 -> 40442 | F42: =Rajtlista!F43 -> Budapest | G42: =Rajtlista!G43 -> Újbudai Ádám Jenő Általános Iskola | H42: =Rajtlista!H43 -> 0.46319444 | I42: =IFERROR(VLOOKUP(B42,Idő!B:D,3,FALSE),"-") -> 0.51578704 | J42: =IFERROR(I42-H42,"-") -> 0.052592593 | K42: =IF(ISBLANK('Lövészet beíró'!G43)=TRUE,"",('Lövészet beíró'!G43)) | L42: =IF(ISBLANK('Lövészet beíró'!H43)=TRUE,"",('Lövészet beíró'!H43)) | M42: =IF(ISBLANK('Lövészet beíró'!I43)=TRUE,"",('Lövészet beíró'!I43)) | N42: =IF(ISBLANK('Lövészet beíró'!J43)=TRUE,"",('Lövészet beíró'!J43)) | O42: =SUM('Lövészet beíró'!G43:J43)*Beíró!$O$38 -> 0 | R42: =IFERROR(J42+O42+P42-Q42,"-") -> 0.052592593 | T42: =IFERROR(RANK(R42,$R$39:$R$53,1),"") -> 7
B43: =Rajtlista!B44 -> 16 | C43: =Rajtlista!C44 -> Zámbó Hanna | D43: =+D42 -> II. kcs. Leány (2009-2010) - 1 km klasszikus | E43: =Rajtlista!E44 -> 39862 | F43: =Rajtlista!F44 -> Budapest | G43: =Rajtlista!G44 -> Testnevelési Egyetem Gyakorló Sportiskolai Általános Iskola és Gimnázium | H43: =Rajtlista!H44 -> 0.46354167 | I43: =IFERROR(VLOOKUP(B43,Idő!B:D,3,FALSE),"-") -> 0.51361111 | J43: =IFERROR(I43-H43,"-") -> 0.050069444 | K43: =IF(ISBLANK('Lövészet beíró'!G44)=TRUE,"",('Lövészet beíró'!G44)) | L43: =IF(ISBLANK('Lövészet beíró'!H44)=TRUE,"",('Lövészet beíró'!H44)) | M43: =IF(ISBLANK('Lövészet beíró'!I44)=TRUE,"",('Lövészet beíró'!I44)) | N43: =IF(ISBLANK('Lövészet beíró'!J44)=TRUE,"",('Lövészet beíró'!J44)) | O43: =SUM('Lövészet beíró'!G44:J44)*Beíró!$O$38 -> 0 | R43: =IFERROR(J43+O43+P43-Q43,"-") -> 0.050069444 | T43: =IFERROR(RANK(R43,$R$39:$R$53,1),"") -> 2
B44: =Rajtlista!B45 -> 17 | C44: =Rajtlista!C45 -> Varga Léna | D44: =+D43 -> II. kcs. Leány (2009-2010) - 1 km klasszikus | E44: =Rajtlista!E45 -> 40394 | F44: =Rajtlista!F45 -> Budapest | G44: =Rajtlista!G45 -> ELTE Gyertyánffy István Gyakorló Általános Iskola | H44: =Rajtlista!H45 -> 0.46388889 | I44: =IFERROR(VLOOKUP(B44,Idő!B:D,3,FALSE),"-") -> 0.51454861 | J44: =IFERROR(I44-H44,"-") -> 0.050659722 | K44: =IF(ISBLANK('Lövészet beíró'!G45)=TRUE,"",('Lövészet beíró'!G45)) | L44: =IF(ISBLANK('Lövészet beíró'!H45)=TRUE,"",('Lövészet beíró'!H45)) | M44: =IF(ISBLANK('Lövészet beíró'!I45)=TRUE,"",('Lövészet beíró'!I45)) | N44: =IF(ISBLANK('Lövészet beíró'!J45)=TRUE,"",('Lövészet beíró'!J45)) | O44: =SUM('Lövészet beíró'!G45:J45)*Beíró!$O$38 -> 0 | R44: =IFERROR(J44+O44+P44-Q44,"-") -> 0.050659722 | T44: =IFERROR(RANK(R44,$R$39:$R$53,1),"") -> 4
B45: =Rajtlista!B46 -> 18 | C45: =Rajtlista!C46 -> Ágoston Dalma | D45: =+D44 -> II. kcs. Leány (2009-2010) - 1 km klasszikus | E45: =Rajtlista!E46 -> 40308 | F45: =Rajtlista!F46 -> Veszprém | G45: =Rajtlista!G46 -> Nivegy-völgyi Német Nemzetiségi Nyelvoktató Általános Iskola és Alapfokú Művészeti Iskola | H45: =Rajtlista!H46 -> 0.46423611 | I45: =IFERROR(VLOOKUP(B45,Idő!B:D,3,FALSE),"-") -> 0.51540509 | J45: =IFERROR(I45-H45,"-") -> 0.051168981 | K45: =IF(ISBLANK('Lövészet beíró'!G46)=TRUE,"",('Lövészet beíró'!G46)) | L45: =IF(ISBLANK('Lövészet beíró'!H46)=TRUE,"",('Lövészet beíró'!H46)) | M45: =IF(ISBLANK('Lövészet beíró'!I46)=TRUE,"",('Lövészet beíró'!I46)) | N45: =IF(ISBLANK('Lövészet beíró'!J46)=TRUE,"",('Lövészet beíró'!J46)) | O45: =SUM('Lövészet beíró'!G46:J46)*Beíró!$O$38 -> 0 | R45: =IFERROR(J45+O45+P45-Q45,"-") -> 0.051168981 | T45: =IFERROR(RANK(R45,$R$39:$R$53,1),"") -> 5
B46: =Rajtlista!B47 -> 19 | C46: =Rajtlista!C47 -> Előházi Johanna | D46: =+D45 -> II. kcs. Leány (2009-2010) - 1 km klasszikus | E46: =Rajtlista!E47 -> 40494 | F46: =Rajtlista!F47 -> Heves | G46: =Rajtlista!G47 -> Gyöngyössolymosi Nagy Gyula Katolikus Általános Iskola és Alapfokú Művészeti Iskola | H46: =Rajtlista!H47 -> 0.46458333 | I46: =IFERROR(VLOOKUP(B46,Idő!B:D,3,FALSE),"-") -> 0.54554398 | J46: =IFERROR(I46-H46,"-") -> 0.080960648 | K46: =IF(ISBLANK('Lövészet beíró'!G47)=TRUE,"",('Lövészet beíró'!G47)) | L46: =IF(ISBLANK('Lövészet beíró'!H47)=TRUE,"",('Lövészet beíró'!H47)) | M46: =IF(ISBLANK('Lövészet beíró'!I47)=TRUE,"",('Lövészet beíró'!I47)) | N46: =IF(ISBLANK('Lövészet beíró'!J47)=TRUE,"",('Lövészet beíró'!J47)) | O46: =SUM('Lövészet beíró'!G47:J47)*Beíró!$O$38 -> 0 | R46: =IFERROR(J46+O46+P46-Q46,"-") -> 0.080960648 | T46: =IFERROR(RANK(R46,$R$39:$R$53,1),"") -> 8
B47: =Rajtlista!B48 -> 20 | C47: =Rajtlista!C48 -> Cseke Villő Emese | D47: =+D46 -> II. kcs. Leány (2009-2010) - 1 km klasszikus | E47: =Rajtlista!E48 -> 40217 | F47: =Rajtlista!F48 -> Budapest | G47: =Rajtlista!G48 -> Albertfalvi Don Bosco Katolikus Általános Iskola és Óvoda | H47: =Rajtlista!H48 -> 0.46493056 | I47: =IFERROR(VLOOKUP(B47,Idő!B:D,3,FALSE),"-") -> 0.55078704 | J47: =IFERROR(I47-H47,"-") -> 0.085856481 | K47: =IF(ISBLANK('Lövészet beíró'!G48)=TRUE,"",('Lövészet beíró'!G48)) | L47: =IF(ISBLANK('Lövészet beíró'!H48)=TRUE,"",('Lövészet beíró'!H48)) | M47: =IF(ISBLANK('Lövészet beíró'!I48)=TRUE,"",('Lövészet beíró'!I48)) | N47: =IF(ISBLANK('Lövészet beíró'!J48)=TRUE,"",('Lövészet beíró'!J48)) | O47: =SUM('Lövészet beíró'!G48:J48)*Beíró!$O$38 -> 0 | R47: =IFERROR(J47+O47+P47-Q47,"-") -> 0.085856481 | T47: =IFERROR(RANK(R47,$R$39:$R$53,1),"") -> 11
B48: =Rajtlista!B49 -> 21 | C48: =Rajtlista!C49 -> Cseke Zille Boglárka | D48: =+D47 -> II. kcs. Leány (2009-2010) - 1 km klasszikus | E48: =Rajtlista!E49 -> 40217 | F48: =Rajtlista!F49 -> Budapest | G48: =Rajtlista!G49 -> Albertfalvi Don Bosco Katolikus Általános Iskola és Óvoda | H48: =Rajtlista!H49 -> 0.46527778 | I48: =IFERROR(VLOOKUP(B48,Idő!B:D,3,FALSE),"-") -> 0.54707176 | J48: =IFERROR(I48-H48,"-") -> 0.081793981 | K48: =IF(ISBLANK('Lövészet beíró'!G49)=TRUE,"",('Lövészet beíró'!G49)) | L48: =IF(ISBLANK('Lövészet beíró'!H49)=TRUE,"",('Lövészet beíró'!H49)) | M48: =IF(ISBLANK('Lövészet beíró'!I49)=TRUE,"",('Lövészet beíró'!I49)) | N48: =IF(ISBLANK('Lövészet beíró'!J49)=TRUE,"",('Lövészet beíró'!J49)) | O48: =SUM('Lövészet beíró'!G49:J49)*Beíró!$O$38 -> 0 | R48: =IFERROR(J48+O48+P48-Q48,"-") -> 0.081793981 | T48: =IFERROR(RANK(R48,$R$39:$R$53,1),"") -> 9
B49: =Rajtlista!B50 -> 22 | C49: =Rajtlista!C50 -> Bozóki Tamara | D49: =+D48 -> II. kcs. Leány (2009-2010) - 1 km klasszikus | E49: =Rajtlista!E50 -> 39839 | F49: =Rajtlista!F50 -> Pest | G49: =Rajtlista!G50 -> Péceli Integrált Oktatási Központ Általános Iskola és Gimnázium | H49: =Rajtlista!H50 -> 0.465625 | I49: =IFERROR(VLOOKUP(B49,Idő!B:D,3,FALSE),"-") -> 0.54747685 | J49: =IFERROR(I49-H49,"-") -> 0.081851852 | K49: =IF(ISBLANK('Lövészet beíró'!G50)=TRUE,"",('Lövészet beíró'!G50)) | L49: =IF(ISBLANK('Lövészet beíró'!H50)=TRUE,"",('Lövészet beíró'!H50)) | M49: =IF(ISBLANK('Lövészet beíró'!I50)=TRUE,"",('Lövészet beíró'!I50)) | N49: =IF(ISBLANK('Lövészet beíró'!J50)=TRUE,"",('Lövészet beíró'!J50)) | O49: =SUM('Lövészet beíró'!G50:J50)*Beíró!$O$38 -> 0 | R49: =IFERROR(J49+O49+P49-Q49,"-") -> 0.081851852 | T49: =IFERROR(RANK(R49,$R$39:$R$53,1),"") -> 10
B50: =Rajtlista!B51 -> 0 | C50: =Rajtlista!C51 | D50: =+D49 -> II. kcs. Leány (2009-2010) - 1 km klasszikus | E50: =Rajtlista!E51 | F50: =Rajtlista!F51 | G50: =Rajtlista!G51 | H50: =Rajtlista!H51 -> 0.46597222 | I50: =IFERROR(VLOOKUP(B50,Idő!B:D,3,FALSE),"-") -> - | J50: =IFERROR(I50-H50,"-") -> - | K50: =IF(ISBLANK('Lövészet beíró'!G51)=TRUE,"",('Lövészet beíró'!G51)) | L50: =IF(ISBLANK('Lövészet beíró'!H51)=TRUE,"",('Lövészet beíró'!H51)) | M50: =IF(ISBLANK('Lövészet beíró'!I51)=TRUE,"",('Lövészet beíró'!I51)) | N50: =IF(ISBLANK('Lövészet beíró'!J51)=TRUE,"",('Lövészet beíró'!J51)) | O50: =SUM('Lövészet beíró'!G51:J51)*Beíró!$O$38 -> 0 | R50: =IFERROR(J50+O50+P50-Q50,"-") -> - | T50: =IFERROR(RANK(R50,$R$39:$R$53,1),"")
B51: =Rajtlista!B52 -> 0 | C51: =Rajtlista!C52 | D51: =+D50 -> II. kcs. Leány (2009-2010) - 1 km klasszikus | E51: =Rajtlista!E52 | F51: =Rajtlista!F52 | G51: =Rajtlista!G52 | H51: =Rajtlista!H52 -> 0.46631944 | I51: =IFERROR(VLOOKUP(B51,Idő!B:D,3,FALSE),"-") -> - | J51: =IFERROR(I51-H51,"-") -> - | K51: =IF(ISBLANK('Lövészet beíró'!G52)=TRUE,"",('Lövészet beíró'!G52)) | L51: =IF(ISBLANK('Lövészet beíró'!H52)=TRUE,"",('Lövészet beíró'!H52)) | M51: =IF(ISBLANK('Lövészet beíró'!I52)=TRUE,"",('Lövészet beíró'!I52)) | N51: =IF(ISBLANK('Lövészet beíró'!J52)=TRUE,"",('Lövészet beíró'!J52)) | O51: =SUM('Lövészet beíró'!G52:J52)*Beíró!$O$38 -> 0 | R51: =IFERROR(J51+O51+P51-Q51,"-") -> - | T51: =IFERROR(RANK(R51,$R$39:$R$53,1),"")
... B53: =Rajtlista!B54 -> 0 | C53: =Rajtlista!C54 | D53: =+D52 -> II. kcs. Leány (2009-2010) - 1 km klasszikus | E53: =Rajtlista!E54 | F53: =Rajtlista!F54 | G53: =Rajtlista!G54 | H53: =Rajtlista!H54 -> 0.46701389 | I53: =IFERROR(VLOOKUP(B53,Idő!B:D,3,FALSE),"-") -> - | J53: =IFERROR(I53-H53,"-") -> - | K53: =IF(ISBLANK('Lövészet beíró'!G54)=TRUE,"",('Lövészet beíró'!G54)) | L53: =IF(ISBLANK('Lövészet beíró'!H54)=TRUE,"",('Lövészet beíró'!H54)) | M53: =IF(ISBLANK('Lövészet beíró'!I54)=TRUE,"",('Lövészet beíró'!I54)) | N53: =IF(ISBLANK('Lövészet beíró'!J54)=TRUE,"",('Lövészet beíró'!J54)) | O53: =SUM('Lövészet beíró'!G54:J54)*Beíró!$O$38 -> 0 | R53: =IFERROR(J53+O53+P53-Q53,"-") -> - | T53: =IFERROR(RANK(R53,$R$39:$R$53,1),"")
B55: =+Rajtlista!B56:G56 -> II. kcs. Fiú (2009-2010) - 1 km klasszikus | K55: =IF(ISBLANK('Lövészet beíró'!G56)=TRUE,"",('Lövészet beíró'!G56)) -> #N/A | L55: =IF(ISBLANK('Lövészet beíró'!H56)=TRUE,"",('Lövészet beíró'!H56)) -> #N/A | M55: =IF(ISBLANK('Lövészet beíró'!I56)=TRUE,"",('Lövészet beíró'!I56)) -> #N/A | N55: =IF(ISBLANK('Lövészet beíró'!J56)=TRUE,"",('Lövészet beíró'!J56)) -> #N/A | O55: =VLOOKUP(B55,Kategóriák!$C:$N,11,FALSE)/24/60/60 -> #N/A
B56: =Rajtlista!B57 -> 23 | C56: =Rajtlista!C57 -> Mikola Márk | D56: =+B55 -> II. kcs. Fiú (2009-2010) - 1 km klasszikus | E56: =Rajtlista!E57 -> 40443 | F56: =Rajtlista!F57 -> Heves | G56: =Rajtlista!G57 -> Gyöngyössolymosi Nagy Gyula Katolikus Általános Iskola és Alapfokú Művészeti Iskola | H56: =Rajtlista!H57 -> 0.50034722 | I56: =IFERROR(VLOOKUP(B56,Idő!B:D,3,FALSE),"-") -> 0.54710648 | J56: =IFERROR(I56-H56,"-") -> 0.046759259 | K56: =IF(ISBLANK('Lövészet beíró'!G57)=TRUE,"",('Lövészet beíró'!G57)) | L56: =IF(ISBLANK('Lövészet beíró'!H57)=TRUE,"",('Lövészet beíró'!H57)) | M56: =IF(ISBLANK('Lövészet beíró'!I57)=TRUE,"",('Lövészet beíró'!I57)) | N56: =IF(ISBLANK('Lövészet beíró'!J57)=TRUE,"",('Lövészet beíró'!J57)) | O56: =SUM('Lövészet beíró'!G57:J57)*Beíró!$O$55 -> #N/A | P56: 0 | Q56: 0 | R56: =IFERROR(J56+O56+P56-Q56,"-") -> - | T56: =IFERROR(RANK(R56,$R$56:$R$70,1),"")
B57: =Rajtlista!B58 -> 24 | C57: =Rajtlista!C58 -> Feledy Bence | D57: =+D56 -> II. kcs. Fiú (2009-2010) - 1 km klasszikus | E57: =Rajtlista!E58 -> 39876 | F57: =Rajtlista!F58 -> Borsod-A-Z | G57: =Rajtlista!G58 -> Bükki Szlovák Nemzetiségi Általános Iskola | H57: =Rajtlista!H58 -> 0.50069444 | I57: =IFERROR(VLOOKUP(B57,Idő!B:D,3,FALSE),"-") -> - | J57: =IFERROR(I57-H57,"-") -> - | K57: =IF(ISBLANK('Lövészet beíró'!G58)=TRUE,"",('Lövészet beíró'!G58)) | L57: =IF(ISBLANK('Lövészet beíró'!H58)=TRUE,"",('Lövészet beíró'!H58)) | M57: =IF(ISBLANK('Lövészet beíró'!I58)=TRUE,"",('Lövészet beíró'!I58)) | N57: =IF(ISBLANK('Lövészet beíró'!J58)=TRUE,"",('Lövészet beíró'!J58)) | O57: =SUM('Lövészet beíró'!G58:J58)*Beíró!$O$55 -> #N/A | R57: =IFERROR(J57+O57+P57-Q57,"-") -> - | T57: =IFERROR(RANK(R57,$R$56:$R$70,1),"")
B58: =Rajtlista!B59 -> 25 | C58: =Rajtlista!C59 -> Telek Dominik | D58: =+D57 -> II. kcs. Fiú (2009-2010) - 1 km klasszikus | E58: =Rajtlista!E59 -> 39867 | F58: =Rajtlista!F59 -> Heves | G58: =Rajtlista!G59 -> Gyöngyössolymosi Nagy Gyula Katolikus Általános Iskola és Alapfokú Művészeti Iskola | H58: =Rajtlista!H59 -> 0.50104167 | I58: =IFERROR(VLOOKUP(B58,Idő!B:D,3,FALSE),"-") -> 0.54840278 | J58: =IFERROR(I58-H58,"-") -> 0.047361111 | K58: =IF(ISBLANK('Lövészet beíró'!G59)=TRUE,"",('Lövészet beíró'!G59)) | L58: =IF(ISBLANK('Lövészet beíró'!H59)=TRUE,"",('Lövészet beíró'!H59)) | M58: =IF(ISBLANK('Lövészet beíró'!I59)=TRUE,"",('Lövészet beíró'!I59)) | N58: =IF(ISBLANK('Lövészet beíró'!J59)=TRUE,"",('Lövészet beíró'!J59)) | O58: =SUM('Lövészet beíró'!G59:J59)*Beíró!$O$55 -> #N/A | R58: =IFERROR(J58+O58+P58-Q58,"-") -> - | T58: =IFERROR(RANK(R58,$R$56:$R$70,1),"")
B59: =Rajtlista!B60 -> 26 | C59: =Rajtlista!C60 -> Maus Márton | D59: =+D58 -> II. kcs. Fiú (2009-2010) - 1 km klasszikus | E59: =Rajtlista!E60 -> 40318 | F59: =Rajtlista!F60 -> Budapest | G59: =Rajtlista!G60 -> Budenz József Általános Iskola és Gimnázium | H59: =Rajtlista!H60 -> 0.50138889 | I59: =IFERROR(VLOOKUP(B59,Idő!B:D,3,FALSE),"-") -> 0.57642361 | J59: =IFERROR(I59-H59,"-") -> 0.075034722 | K59: =IF(ISBLANK('Lövészet beíró'!G60)=TRUE,"",('Lövészet beíró'!G60)) | L59: =IF(ISBLANK('Lövészet beíró'!H60)=TRUE,"",('Lövészet beíró'!H60)) | M59: =IF(ISBLANK('Lövészet beíró'!I60)=TRUE,"",('Lövészet beíró'!I60)) | N59: =IF(ISBLANK('Lövészet beíró'!J60)=TRUE,"",('Lövészet beíró'!J60)) | O59: =SUM('Lövészet beíró'!G60:J60)*Beíró!$O$55 -> #N/A | R59: =IFERROR(J59+O59+P59-Q59,"-") -> - | T59: =IFERROR(RANK(R59,$R$56:$R$70,1),"")
B60: =Rajtlista!B61 -> 27 | C60: =Rajtlista!C61 -> Szabolcs Balázs | D60: =+D59 -> II. kcs. Fiú (2009-2010) - 1 km klasszikus | E60: =Rajtlista!E61 -> 40479 | F60: =Rajtlista!F61 -> Pest | G60: =Rajtlista!G61 -> Gödi Németh László Általános Iskola és Alapfokú Művészeti Iskola | H60: =Rajtlista!H61 -> 0.50173611 | I60: =IFERROR(VLOOKUP(B60,Idő!B:D,3,FALSE),"-") -> 0.57475694 | J60: =IFERROR(I60-H60,"-") -> 0.073020833 | K60: =IF(ISBLANK('Lövészet beíró'!G61)=TRUE,"",('Lövészet beíró'!G61)) | L60: =IF(ISBLANK('Lövészet beíró'!H61)=TRUE,"",('Lövészet beíró'!H61)) | M60: =IF(ISBLANK('Lövészet beíró'!I61)=TRUE,"",('Lövészet beíró'!I61)) | N60: =IF(ISBLANK('Lövészet beíró'!J61)=TRUE,"",('Lövészet beíró'!J61)) | O60: =SUM('Lövészet beíró'!G61:J61)*Beíró!$O$55 -> #N/A | R60: =IFERROR(J60+O60+P60-Q60,"-") -> - | T60: =IFERROR(RANK(R60,$R$56:$R$70,1),"")
B61: =Rajtlista!B62 -> 28 | C61: =Rajtlista!C62 -> Harangozó Gyergely | D61: =+D60 -> II. kcs. Fiú (2009-2010) - 1 km klasszikus | E61: =Rajtlista!E62 -> 40029 | F61: =Rajtlista!F62 -> Budapest | G61: =Rajtlista!G62 -> Zugligeti Általános Iskola | H61: =Rajtlista!H62 -> 0.50208333 | I61: =IFERROR(VLOOKUP(B61,Idő!B:D,3,FALSE),"-") -> 0.57502315 | J61: =IFERROR(I61-H61,"-") -> 0.072939815 | K61: =IF(ISBLANK('Lövészet beíró'!G62)=TRUE,"",('Lövészet beíró'!G62)) | L61: =IF(ISBLANK('Lövészet beíró'!H62)=TRUE,"",('Lövészet beíró'!H62)) | M61: =IF(ISBLANK('Lövészet beíró'!I62)=TRUE,"",('Lövészet beíró'!I62)) | N61: =IF(ISBLANK('Lövészet beíró'!J62)=TRUE,"",('Lövészet beíró'!J62)) | O61: =SUM('Lövészet beíró'!G62:J62)*Beíró!$O$55 -> #N/A | R61: =IFERROR(J61+O61+P61-Q61,"-") -> - | T61: =IFERROR(RANK(R61,$R$56:$R$70,1),"")
B62: =Rajtlista!B63 -> 29 | C62: =Rajtlista!C63 -> Boldogh Tamás Oszkár | D62: =+D61 -> II. kcs. Fiú (2009-2010) - 1 km klasszikus | E62: =Rajtlista!E63 -> 40143 | F62: =Rajtlista!F63 -> Budapest | G62: =Rajtlista!G63 -> Sashegyi Arany János Általános Iskola és Gimnázium | H62: =Rajtlista!H63 -> 0.50243056 | I62: =IFERROR(VLOOKUP(B62,Idő!B:D,3,FALSE),"-") -> 0.5765162 | J62: =IFERROR(I62-H62,"-") -> 0.074085648 | K62: =IF(ISBLANK('Lövészet beíró'!G63)=TRUE,"",('Lövészet beíró'!G63)) | L62: =IF(ISBLANK('Lövészet beíró'!H63)=TRUE,"",('Lövészet beíró'!H63)) | M62: =IF(ISBLANK('Lövészet beíró'!I63)=TRUE,"",('Lövészet beíró'!I63)) | N62: =IF(ISBLANK('Lövészet beíró'!J63)=TRUE,"",('Lövészet beíró'!J63)) | O62: =SUM('Lövészet beíró'!G63:J63)*Beíró!$O$55 -> #N/A | R62: =IFERROR(J62+O62+P62-Q62,"-") -> - | T62: =IFERROR(RANK(R62,$R$56:$R$70,1),"")
B63: =Rajtlista!B64 -> 30 | C63: =Rajtlista!C64 -> Nagy Vilmos | D63: =+D62 -> II. kcs. Fiú (2009-2010) - 1 km klasszikus | E63: =Rajtlista!E64 -> 39873 | F63: =Rajtlista!F64 -> Pest | G63: =Rajtlista!G64 -> József Nádor Általános Iskola és Alapfokú Művészeti Iskola (ÖKO Iskola) | H63: =Rajtlista!H64 -> 0.50277778 | I63: =IFERROR(VLOOKUP(B63,Idő!B:D,3,FALSE),"-") -> 0.59799769 | J63: =IFERROR(I63-H63,"-") -> 0.095219907 | K63: =IF(ISBLANK('Lövészet beíró'!G64)=TRUE,"",('Lövészet beíró'!G64)) | L63: =IF(ISBLANK('Lövészet beíró'!H64)=TRUE,"",('Lövészet beíró'!H64)) | M63: =IF(ISBLANK('Lövészet beíró'!I64)=TRUE,"",('Lövészet beíró'!I64)) | N63: =IF(ISBLANK('Lövészet beíró'!J64)=TRUE,"",('Lövészet beíró'!J64)) | O63: =SUM('Lövészet beíró'!G64:J64)*Beíró!$O$55 -> #N/A | R63: =IFERROR(J63+O63+P63-Q63,"-") -> - | T63: =IFERROR(RANK(R63,$R$56:$R$70,1),"")
B64: =Rajtlista!B65 -> 31 | C64: =Rajtlista!C65 -> Fekete Boldizsár László | D64: =+D63 -> II. kcs. Fiú (2009-2010) - 1 km klasszikus | E64: =Rajtlista!E65 -> 40506 | F64: =Rajtlista!F65 -> Budapest | G64: =Rajtlista!G65 -> Budenz József Általános Iskola és Gimnázium | H64: =Rajtlista!H65 -> 0.503125 | I64: =IFERROR(VLOOKUP(B64,Idő!B:D,3,FALSE),"-") -> 0.59877315 | J64: =IFERROR(I64-H64,"-") -> 0.095648148 | K64: =IF(ISBLANK('Lövészet beíró'!G65)=TRUE,"",('Lövészet beíró'!G65)) | L64: =IF(ISBLANK('Lövészet beíró'!H65)=TRUE,"",('Lövészet beíró'!H65)) | M64: =IF(ISBLANK('Lövészet beíró'!I65)=TRUE,"",('Lövészet beíró'!I65)) | N64: =IF(ISBLANK('Lövészet beíró'!J65)=TRUE,"",('Lövészet beíró'!J65)) | O64: =SUM('Lövészet beíró'!G65:J65)*Beíró!$O$55 -> #N/A | R64: =IFERROR(J64+O64+P64-Q64,"-") -> - | T64: =IFERROR(RANK(R64,$R$56:$R$70,1),"")
B65: =Rajtlista!B66 -> 32 | C65: =Rajtlista!C66 -> Móczár Ádám | D65: =+D64 -> II. kcs. Fiú (2009-2010) - 1 km klasszikus | E65: =Rajtlista!E66 -> 39933 | F65: =Rajtlista!F66 -> Heves | G65: =Rajtlista!G66 -> Felső-Mátrai Zakupszky László Általános Iskola és Óvoda | H65: =Rajtlista!H66 -> 0.50347222 | I65: =IFERROR(VLOOKUP(B65,Idő!B:D,3,FALSE),"-") -> 0.60054398 | J65: =IFERROR(I65-H65,"-") -> 0.097071759 | K65: =IF(ISBLANK('Lövészet beíró'!G66)=TRUE,"",('Lövészet beíró'!G66)) | L65: =IF(ISBLANK('Lövészet beíró'!H66)=TRUE,"",('Lövészet beíró'!H66)) | M65: =IF(ISBLANK('Lövészet beíró'!I66)=TRUE,"",('Lövészet beíró'!I66)) | N65: =IF(ISBLANK('Lövészet beíró'!J66)=TRUE,"",('Lövészet beíró'!J66)) | O65: =SUM('Lövészet beíró'!G66:J66)*Beíró!$O$55 -> #N/A | R65: =IFERROR(J65+O65+P65-Q65,"-") -> - | T65: =IFERROR(RANK(R65,$R$56:$R$70,1),"")
B66: =Rajtlista!B67 -> 33 | C66: =Rajtlista!C67 -> Lehőcz Zétény | D66: =+D65 -> II. kcs. Fiú (2009-2010) - 1 km klasszikus | E66: =Rajtlista!E67 -> 40229 | F66: =Rajtlista!F67 -> Tolna | G66: =Rajtlista!G67 -> Szent Orsolya Rendi Gárdonyi Géza Katolikus Általános Iskola, Alapfokú Művészeti Iskola és Kollégium | H66: =Rajtlista!H67 -> 0.50381944 | I66: =IFERROR(VLOOKUP(B66,Idő!B:D,3,FALSE),"-") -> - | J66: =IFERROR(I66-H66,"-") -> - | K66: =IF(ISBLANK('Lövészet beíró'!G67)=TRUE,"",('Lövészet beíró'!G67)) | L66: =IF(ISBLANK('Lövészet beíró'!H67)=TRUE,"",('Lövészet beíró'!H67)) | M66: =IF(ISBLANK('Lövészet beíró'!I67)=TRUE,"",('Lövészet beíró'!I67)) | N66: =IF(ISBLANK('Lövészet beíró'!J67)=TRUE,"",('Lövészet beíró'!J67)) | O66: =SUM('Lövészet beíró'!G67:J67)*Beíró!$O$55 -> #N/A | R66: =IFERROR(J66+O66+P66-Q66,"-") -> - | T66: =IFERROR(RANK(R66,$R$56:$R$70,1),"")
B67: =Rajtlista!B68 -> 34 | C67: =Rajtlista!C68 -> Pap Móric István | D67: =+D66 -> II. kcs. Fiú (2009-2010) - 1 km klasszikus | E67: =Rajtlista!E68 -> 40228 | F67: =Rajtlista!F68 -> Pest | G67: =Rajtlista!G68 -> Váci Juhász Gyula Általános Iskola | H67: =Rajtlista!H68 -> 0.50416667 | I67: =IFERROR(VLOOKUP(B67,Idő!B:D,3,FALSE),"-") -> 0.60010417 | J67: =IFERROR(I67-H67,"-") -> 0.0959375 | K67: =IF(ISBLANK('Lövészet beíró'!G68)=TRUE,"",('Lövészet beíró'!G68)) | L67: =IF(ISBLANK('Lövészet beíró'!H68)=TRUE,"",('Lövészet beíró'!H68)) | M67: =IF(ISBLANK('Lövészet beíró'!I68)=TRUE,"",('Lövészet beíró'!I68)) | N67: =IF(ISBLANK('Lövészet beíró'!J68)=TRUE,"",('Lövészet beíró'!J68)) | O67: =SUM('Lövészet beíró'!G68:J68)*Beíró!$O$55 -> #N/A | R67: =IFERROR(J67+O67+P67-Q67,"-") -> - | T67: =IFERROR(RANK(R67,$R$56:$R$70,1),"")
B68: =Rajtlista!B69 -> 35 | C68: =Rajtlista!C69 -> Csorba Milán | D68: =+D67 -> II. kcs. Fiú (2009-2010) - 1 km klasszikus | E68: =Rajtlista!E69 -> 40153 | F68: =Rajtlista!F69 -> Borsod-A-Z | G68: =Rajtlista!G69 -> Bükki Szlovák Nemzetiségi Általános Iskola | H68: =Rajtlista!H69 -> 0.50451389 | I68: =IFERROR(VLOOKUP(B68,Idő!B:D,3,FALSE),"-") -> 0.62267361 | J68: =IFERROR(I68-H68,"-") -> 0.11815972 | K68: =IF(ISBLANK('Lövészet beíró'!G69)=TRUE,"",('Lövészet beíró'!G69)) | L68: =IF(ISBLANK('Lövészet beíró'!H69)=TRUE,"",('Lövészet beíró'!H69)) | M68: =IF(ISBLANK('Lövészet beíró'!I69)=TRUE,"",('Lövészet beíró'!I69)) | N68: =IF(ISBLANK('Lövészet beíró'!J69)=TRUE,"",('Lövészet beíró'!J69)) | O68: =SUM('Lövészet beíró'!G69:J69)*Beíró!$O$55 -> #N/A | R68: =IFERROR(J68+O68+P68-Q68,"-") -> - | T68: =IFERROR(RANK(R68,$R$56:$R$70,1),"")
B69: =Rajtlista!B70 -> 36 | C69: =Rajtlista!C70 -> Fazekas Márk Bendegúz | D69: =+D68 -> II. kcs. Fiú (2009-2010) - 1 km klasszikus | E69: =Rajtlista!E70 -> 39857 | F69: =Rajtlista!F70 -> Pest | G69: =Rajtlista!G70 -> Diósdi Eötvös József Német Nemzetiségi Általános Iskola és Alapfokú Művészeti Iskola | H69: =Rajtlista!H70 -> 0.50486111 | I69: =IFERROR(VLOOKUP(B69,Idő!B:D,3,FALSE),"-") -> 0.62300926 | J69: =IFERROR(I69-H69,"-") -> 0.11814815 | K69: =IF(ISBLANK('Lövészet beíró'!G70)=TRUE,"",('Lövészet beíró'!G70)) | L69: =IF(ISBLANK('Lövészet beíró'!H70)=TRUE,"",('Lövészet beíró'!H70)) | M69: =IF(ISBLANK('Lövészet beíró'!I70)=TRUE,"",('Lövészet beíró'!I70)) | N69: =IF(ISBLANK('Lövészet beíró'!J70)=TRUE,"",('Lövészet beíró'!J70)) | O69: =SUM('Lövészet beíró'!G70:J70)*Beíró!$O$55 -> #N/A | R69: =IFERROR(J69+O69+P69-Q69,"-") -> - | T69: =IFERROR(RANK(R69,$R$56:$R$70,1),"")
B70: =Rajtlista!B74 -> 0 | C70: =Rajtlista!C74 | D70: =+D69 -> II. kcs. Fiú (2009-2010) - 1 km klasszikus | E70: =Rajtlista!E74 | F70: =Rajtlista!F74 | G70: =Rajtlista!G74 | H70: =Rajtlista!H74 -> 0.50625 | I70: =IFERROR(VLOOKUP(B70,Idő!B:D,3,FALSE),"-") -> - | J70: =IFERROR(I70-H70,"-") -> - | K70: =IF(ISBLANK('Lövészet beíró'!G71)=TRUE,"",('Lövészet beíró'!G71)) | L70: =IF(ISBLANK('Lövészet beíró'!H71)=TRUE,"",('Lövészet beíró'!H71)) | M70: =IF(ISBLANK('Lövészet beíró'!I71)=TRUE,"",('Lövészet beíró'!I71)) | N70: =IF(ISBLANK('Lövészet beíró'!J71)=TRUE,"",('Lövészet beíró'!J71)) | O70: =SUM('Lövészet beíró'!G71:J71)*Beíró!$O$55 -> #N/A | R70: =IFERROR(J70+O70+P70-Q70,"-") -> - | T70: =IFERROR(RANK(R70,$R$56:$R$70,1),"")
B72: =+Rajtlista!B76:G76 -> III. kcs. Leány (2007-2008) - 1,5 km klasszikus | K72: =IF(ISBLANK('Lövészet beíró'!G73)=TRUE,"",('Lövészet beíró'!G73)) -> #N/A | L72: =IF(ISBLANK('Lövészet beíró'!H73)=TRUE,"",('Lövészet beíró'!H73)) -> #N/A | M72: =IF(ISBLANK('Lövészet beíró'!I73)=TRUE,"",('Lövészet beíró'!I73)) -> #N/A | N72: =IF(ISBLANK('Lövészet beíró'!J73)=TRUE,"",('Lövészet beíró'!J73)) -> #N/A | O72: =VLOOKUP(B72,Kategóriák!$C:$N,11,FALSE)/24/60/60 -> #N/A
B73: =Rajtlista!B77 -> 39 | C73: =Rajtlista!C77 -> Benyovszky Lili | D73: =+B72 -> III. kcs. Leány (2007-2008) - 1,5 km klasszikus | E73: =Rajtlista!E77 -> 39659 | F73: =Rajtlista!F77 -> Heves | G73: =Rajtlista!G77 -> Gyöngyössolymosi Nagy Gyula Katolikus Általános Iskola és Alapfokú Művészeti Iskola | H73: =Rajtlista!H77 -> 0.53854167 | I73: =IFERROR(VLOOKUP(B73,Idő!B:D,3,FALSE),"-") -> 0.62584491 | J73: =IFERROR(I73-H73,"-") -> 0.087303241 | K73: =IF(ISBLANK('Lövészet beíró'!G74)=TRUE,"",('Lövészet beíró'!G74)) | L73: =IF(ISBLANK('Lövészet beíró'!H74)=TRUE,"",('Lövészet beíró'!H74)) | M73: =IF(ISBLANK('Lövészet beíró'!I74)=TRUE,"",('Lövészet beíró'!I74)) | N73: =IF(ISBLANK('Lövészet beíró'!J74)=TRUE,"",('Lövészet beíró'!J74)) | O73: =SUM('Lövészet beíró'!G74:J74)*Beíró!$O$72 -> #N/A | P73: 0 | Q73: 0 | R73: =IFERROR(J73+O73+P73-Q73,"-") -> - | T73: =IFERROR(RANK(R73,$R$73:$R$87,1),"")
B74: =Rajtlista!B78 -> 40 | C74: =Rajtlista!C78 -> Pap Fruzsina | D74: =+D73 -> III. kcs. Leány (2007-2008) - 1,5 km klasszikus | E74: =Rajtlista!E78 -> 39647 | F74: =Rajtlista!F78 -> Pest | G74: =Rajtlista!G78 -> Váci Árpád Fejedelem Általános Iskola | H74: =Rajtlista!H78 -> 0.53888889 | I74: =IFERROR(VLOOKUP(B74,Idő!B:D,3,FALSE),"-") -> 0.62434028 | J74: =IFERROR(I74-H74,"-") -> 0.085451389 | K74: =IF(ISBLANK('Lövészet beíró'!G75)=TRUE,"",('Lövészet beíró'!G75)) | L74: =IF(ISBLANK('Lövészet beíró'!H75)=TRUE,"",('Lövészet beíró'!H75)) | M74: =IF(ISBLANK('Lövészet beíró'!I75)=TRUE,"",('Lövészet beíró'!I75)) | N74: =IF(ISBLANK('Lövészet beíró'!J75)=TRUE,"",('Lövészet beíró'!J75)) | O74: =SUM('Lövészet beíró'!G75:J75)*Beíró!$O$72 -> #N/A | R74: =IFERROR(J74+O74+P74-Q74,"-") -> - | T74: =IFERROR(RANK(R74,$R$73:$R$87,1),"")
B75: =Rajtlista!B79 -> 41 | C75: =Rajtlista!C79 -> Cseke Kincső Lelle | D75: =+D74 -> III. kcs. Leány (2007-2008) - 1,5 km klasszikus | E75: =Rajtlista!E79 -> 39359 | F75: =Rajtlista!F79 -> Budapest | G75: =Rajtlista!G79 -> Budapest I. Kerületi Szilágyi Erzsébet Gimnázium | H75: =Rajtlista!H79 -> 0.53923611 | I75: =IFERROR(VLOOKUP(B75,Idő!B:D,3,FALSE),"-") -> 0.62440972 | J75: =IFERROR(I75-H75,"-") -> 0.085173611 | K75: =IF(ISBLANK('Lövészet beíró'!G76)=TRUE,"",('Lövészet beíró'!G76)) | L75: =IF(ISBLANK('Lövészet beíró'!H76)=TRUE,"",('Lövészet beíró'!H76)) | M75: =IF(ISBLANK('Lövészet beíró'!I76)=TRUE,"",('Lövészet beíró'!I76)) | N75: =IF(ISBLANK('Lövészet beíró'!J76)=TRUE,"",('Lövészet beíró'!J76)) | O75: =SUM('Lövészet beíró'!G76:J76)*Beíró!$O$72 -> #N/A | R75: =IFERROR(J75+O75+P75-Q75,"-") -> - | T75: =IFERROR(RANK(R75,$R$73:$R$87,1),"")
B76: =Rajtlista!B80 -> 42 | C76: =Rajtlista!C80 -> Dedinszky Nóra | D76: =+D75 -> III. kcs. Leány (2007-2008) - 1,5 km klasszikus | E76: =Rajtlista!E80 -> 39712 | F76: =Rajtlista!F80 -> Budapest | G76: =Rajtlista!G80 -> ELTE Gyertyánffy István Gyakorló Általános Iskola | H76: =Rajtlista!H80 -> 0.53958333 | I76: =IFERROR(VLOOKUP(B76,Idő!B:D,3,FALSE),"-") -> - | J76: =IFERROR(I76-H76,"-") -> - | K76: =IF(ISBLANK('Lövészet beíró'!G77)=TRUE,"",('Lövészet beíró'!G77)) | L76: =IF(ISBLANK('Lövészet beíró'!H77)=TRUE,"",('Lövészet beíró'!H77)) | M76: =IF(ISBLANK('Lövészet beíró'!I77)=TRUE,"",('Lövészet beíró'!I77)) | N76: =IF(ISBLANK('Lövészet beíró'!J77)=TRUE,"",('Lövészet beíró'!J77)) | O76: =SUM('Lövészet beíró'!G77:J77)*Beíró!$O$72 -> #N/A | R76: =IFERROR(J76+O76+P76-Q76,"-") -> - | T76: =IFERROR(RANK(R76,$R$73:$R$87,1),"")
B77: =Rajtlista!B81 -> 43 | C77: =Rajtlista!C81 -> Cseke Lilla Sarolta | D77: =+D76 -> III. kcs. Leány (2007-2008) - 1,5 km klasszikus | E77: =Rajtlista!E81 -> 39193 | F77: =Rajtlista!F81 -> Budapest | G77: =Rajtlista!G81 -> Budai Ciszterci Szent Imre Gimnázium | H77: =Rajtlista!H81 -> 0.53993056 | I77: =IFERROR(VLOOKUP(B77,Idő!B:D,3,FALSE),"-") -> - | J77: =IFERROR(I77-H77,"-") -> - | K77: =IF(ISBLANK('Lövészet beíró'!G78)=TRUE,"",('Lövészet beíró'!G78)) | L77: =IF(ISBLANK('Lövészet beíró'!H78)=TRUE,"",('Lövészet beíró'!H78)) | M77: =IF(ISBLANK('Lövészet beíró'!I78)=TRUE,"",('Lövészet beíró'!I78)) | N77: =IF(ISBLANK('Lövészet beíró'!J78)=TRUE,"",('Lövészet beíró'!J78)) | O77: =SUM('Lövészet beíró'!G78:J78)*Beíró!$O$72 -> #N/A | R77: =IFERROR(J77+O77+P77-Q77,"-") -> - | T77: =IFERROR(RANK(R77,$R$73:$R$87,1),"")
B78: =Rajtlista!B82 -> 44 | C78: =Rajtlista!C82 -> Csikász Panni | D78: =+D77 -> III. kcs. Leány (2007-2008) - 1,5 km klasszikus | E78: =Rajtlista!E82 -> 39452 | F78: =Rajtlista!F82 -> Borsod-A-Z | G78: =Rajtlista!G82 -> Kazincbarcikai Pollack Mihály Általános Iskola | H78: =Rajtlista!H82 -> 0.54027778 | I78: =IFERROR(VLOOKUP(B78,Idő!B:D,3,FALSE),"-") -> - | J78: =IFERROR(I78-H78,"-") -> - | K78: =IF(ISBLANK('Lövészet beíró'!G79)=TRUE,"",('Lövészet beíró'!G79)) | L78: =IF(ISBLANK('Lövészet beíró'!H79)=TRUE,"",('Lövészet beíró'!H79)) | M78: =IF(ISBLANK('Lövészet beíró'!I79)=TRUE,"",('Lövészet beíró'!I79)) | N78: =IF(ISBLANK('Lövészet beíró'!J79)=TRUE,"",('Lövészet beíró'!J79)) | O78: =SUM('Lövészet beíró'!G79:J79)*Beíró!$O$72 -> #N/A | R78: =IFERROR(J78+O78+P78-Q78,"-") -> - | T78: =IFERROR(RANK(R78,$R$73:$R$87,1),"")
B79: =Rajtlista!B83 -> 45 | C79: =Rajtlista!C83 -> Tóth Emese | D79: =+D78 -> III. kcs. Leány (2007-2008) - 1,5 km klasszikus | E79: =Rajtlista!E83 -> 39629 | F79: =Rajtlista!F83 -> Borsod-A-Z | G79: =Rajtlista!G83 -> Bükki Szlovák Nemzetiségi Általános Iskola | H79: =Rajtlista!H83 -> 0.540625 | I79: =IFERROR(VLOOKUP(B79,Idő!B:D,3,FALSE),"-") -> - | J79: =IFERROR(I79-H79,"-") -> - | K79: =IF(ISBLANK('Lövészet beíró'!G80)=TRUE,"",('Lövészet beíró'!G80)) | L79: =IF(ISBLANK('Lövészet beíró'!H80)=TRUE,"",('Lövészet beíró'!H80)) | M79: =IF(ISBLANK('Lövészet beíró'!I80)=TRUE,"",('Lövészet beíró'!I80)) | N79: =IF(ISBLANK('Lövészet beíró'!J80)=TRUE,"",('Lövészet beíró'!J80)) | O79: =SUM('Lövészet beíró'!G80:J80)*Beíró!$O$72 -> #N/A | R79: =IFERROR(J79+O79+P79-Q79,"-") -> - | T79: =IFERROR(RANK(R79,$R$73:$R$87,1),"")
B80: =Rajtlista!B84 -> 46 | C80: =Rajtlista!C84 -> Gaál Dóra | D80: =+D79 -> III. kcs. Leány (2007-2008) - 1,5 km klasszikus | E80: =Rajtlista!E84 -> 39430 | F80: =Rajtlista!F84 -> Heves | G80: =Rajtlista!G84 -> Gyöngyösi Berze Nagy János Gimnázium | H80: =Rajtlista!H84 -> 0.54097222 | I80: =IFERROR(VLOOKUP(B80,Idő!B:D,3,FALSE),"-") -> - | J80: =IFERROR(I80-H80,"-") -> - | K80: =IF(ISBLANK('Lövészet beíró'!G81)=TRUE,"",('Lövészet beíró'!G81)) | L80: =IF(ISBLANK('Lövészet beíró'!H81)=TRUE,"",('Lövészet beíró'!H81)) | M80: =IF(ISBLANK('Lövészet beíró'!I81)=TRUE,"",('Lövészet beíró'!I81)) | N80: =IF(ISBLANK('Lövészet beíró'!J81)=TRUE,"",('Lövészet beíró'!J81)) | O80: =SUM('Lövészet beíró'!G81:J81)*Beíró!$O$72 -> #N/A | R80: =IFERROR(J80+O80+P80-Q80,"-") -> - | T80: =IFERROR(RANK(R80,$R$73:$R$87,1),"")
B81: =Rajtlista!B85 -> 47 | C81: =Rajtlista!C85 -> Kovács Andrea | D81: =+D80 -> III. kcs. Leány (2007-2008) - 1,5 km klasszikus | E81: =Rajtlista!E85 -> 39351 | F81: =Rajtlista!F85 -> Budapest | G81: =Rajtlista!G85 -> Újbudai Ádám Jenő Általános Iskola | H81: =Rajtlista!H85 -> 0.54131944 | I81: =IFERROR(VLOOKUP(B81,Idő!B:D,3,FALSE),"-") -> - | J81: =IFERROR(I81-H81,"-") -> - | K81: =IF(ISBLANK('Lövészet beíró'!G82)=TRUE,"",('Lövészet beíró'!G82)) | L81: =IF(ISBLANK('Lövészet beíró'!H82)=TRUE,"",('Lövészet beíró'!H82)) | M81: =IF(ISBLANK('Lövészet beíró'!I82)=TRUE,"",('Lövészet beíró'!I82)) | N81: =IF(ISBLANK('Lövészet beíró'!J82)=TRUE,"",('Lövészet beíró'!J82)) | O81: =SUM('Lövészet beíró'!G82:J82)*Beíró!$O$72 -> #N/A | R81: =IFERROR(J81+O81+P81-Q81,"-") -> - | T81: =IFERROR(RANK(R81,$R$73:$R$87,1),"")
B82: =Rajtlista!B86 -> 0 | C82: =Rajtlista!C86 | D82: =+D81 -> III. kcs. Leány (2007-2008) - 1,5 km klasszikus | E82: =Rajtlista!E86 | F82: =Rajtlista!F86 | G82: =Rajtlista!G86 | H82: =Rajtlista!H86 -> 0.54166667 | I82: =IFERROR(VLOOKUP(B82,Idő!B:D,3,FALSE),"-") -> - | J82: =IFERROR(I82-H82,"-") -> - | K82: =IF(ISBLANK('Lövészet beíró'!G83)=TRUE,"",('Lövészet beíró'!G83)) | L82: =IF(ISBLANK('Lövészet beíró'!H83)=TRUE,"",('Lövészet beíró'!H83)) | M82: =IF(ISBLANK('Lövészet beíró'!I83)=TRUE,"",('Lövészet beíró'!I83)) | N82: =IF(ISBLANK('Lövészet beíró'!J83)=TRUE,"",('Lövészet beíró'!J83)) | O82: =SUM('Lövészet beíró'!G83:J83)*Beíró!$O$72 -> #N/A | R82: =IFERROR(J82+O82+P82-Q82,"-") -> - | T82: =IFERROR(RANK(R82,$R$73:$R$87,1),"")
B83: =Rajtlista!B87 -> 0 | C83: =Rajtlista!C87 | D83: =+D82 -> III. kcs. Leány (2007-2008) - 1,5 km klasszikus | E83: =Rajtlista!E87 | F83: =Rajtlista!F87 | G83: =Rajtlista!G87 | H83: =Rajtlista!H87 -> 0.54201389 | I83: =IFERROR(VLOOKUP(B83,Idő!B:D,3,FALSE),"-") -> - | J83: =IFERROR(I83-H83,"-") -> - | K83: =IF(ISBLANK('Lövészet beíró'!G84)=TRUE,"",('Lövészet beíró'!G84)) | L83: =IF(ISBLANK('Lövészet beíró'!H84)=TRUE,"",('Lövészet beíró'!H84)) | M83: =IF(ISBLANK('Lövészet beíró'!I84)=TRUE,"",('Lövészet beíró'!I84)) | N83: =IF(ISBLANK('Lövészet beíró'!J84)=TRUE,"",('Lövészet beíró'!J84)) | O83: =SUM('Lövészet beíró'!G84:J84)*Beíró!$O$72 -> #N/A | R83: =IFERROR(J83+O83+P83-Q83,"-") -> - | T83: =IFERROR(RANK(R83,$R$73:$R$87,1),"")
B84: =Rajtlista!B88 -> 0 | C84: =Rajtlista!C88 | D84: =+D83 -> III. kcs. Leány (2007-2008) - 1,5 km klasszikus | E84: =Rajtlista!E88 | F84: =Rajtlista!F88 | G84: =Rajtlista!G88 | H84: =Rajtlista!H88 -> 0.54236111 | I84: =IFERROR(VLOOKUP(B84,Idő!B:D,3,FALSE),"-") -> - | J84: =IFERROR(I84-H84,"-") -> - | K84: =IF(ISBLANK('Lövészet beíró'!G85)=TRUE,"",('Lövészet beíró'!G85)) | L84: =IF(ISBLANK('Lövészet beíró'!H85)=TRUE,"",('Lövészet beíró'!H85)) | M84: =IF(ISBLANK('Lövészet beíró'!I85)=TRUE,"",('Lövészet beíró'!I85)) | N84: =IF(ISBLANK('Lövészet beíró'!J85)=TRUE,"",('Lövészet beíró'!J85)) | O84: =SUM('Lövészet beíró'!G85:J85)*Beíró!$O$72 -> #N/A | R84: =IFERROR(J84+O84+P84-Q84,"-") -> - | T84: =IFERROR(RANK(R84,$R$73:$R$87,1),"")
B85: =Rajtlista!B89 -> 0 | C85: =Rajtlista!C89 | D85: =+D84 -> III. kcs. Leány (2007-2008) - 1,5 km klasszikus | E85: =Rajtlista!E89 | F85: =Rajtlista!F89 | G85: =Rajtlista!G89 | H85: =Rajtlista!H89 -> 0.54270833 | I85: =IFERROR(VLOOKUP(B85,Idő!B:D,3,FALSE),"-") -> - | J85: =IFERROR(I85-H85,"-") -> - | K85: =IF(ISBLANK('Lövészet beíró'!G86)=TRUE,"",('Lövészet beíró'!G86)) | L85: =IF(ISBLANK('Lövészet beíró'!H86)=TRUE,"",('Lövészet beíró'!H86)) | M85: =IF(ISBLANK('Lövészet beíró'!I86)=TRUE,"",('Lövészet beíró'!I86)) | N85: =IF(ISBLANK('Lövészet beíró'!J86)=TRUE,"",('Lövészet beíró'!J86)) | O85: =SUM('Lövészet beíró'!G86:J86)*Beíró!$O$72 -> #N/A | R85: =IFERROR(J85+O85+P85-Q85,"-") -> - | T85: =IFERROR(RANK(R85,$R$73:$R$87,1),"")
